BEGIN:VCALENDAR
VERSION:2.0
PRODID:-//QuickScores.com//BQ Dynamic iCal Creator//EN
METHOD:PUBLISH
X-WR-CALNAME:RukoSenseney/JennyLee - Pickleball For The Cure! - Womens - 10/12 9:00am (as Of 10/8) - Completed Tournaments 2023/24
X-WR-CALDESC:QuickScores game calendar
X-PUBLISHED-TTL:PT24H
REFRESH-INTERVAL;VALUE=DURATION:PT24H
CALSCALE:GREGORIAN
BEGIN:VTIMEZONE
TZID:America/Chicago
X-LIC-LOCATION:America/Chicago
BEGIN:DAYLIGHT
TZNAME:CDT
TZOFFSETFROM:-0600
TZOFFSETTO:-0500
DTSTART:19700308T020000
RRULE:FREQ=YEARLY;BYMONTH=3;BYDAY=2SU
END:DAYLIGHT
BEGIN:STANDARD
TZNAME:CST
TZOFFSETFROM:-0500
TZOFFSETTO:-0600
DTSTART:19701101T020000
RRULE:FREQ=YEARLY;BYMONTH=11;BYDAY=1SU
END:STANDARD
END:VTIMEZONE
BEGIN:VEVENT
UID:pupc-65629711-20241012T090000@quickscores.com
DTSTAMP:20260424T182700Z
DTSTART;TZID=America/Chicago:20241012T090000
DURATION:PT0H20M0S
SUMMARY:RukoSenseney/JennyLee vs. LibbyListon/JodiKruse
DESCRIPTION:Pickleball For The Cure! - Womens - 10/12 9:00am (as Of 10/8) - Paddle Up Pickleball Club
LOCATION:Court 9
CATEGORIES:QuickScores, Pickleball Game
TRANSP:OPAQUE
BEGIN:VALARM
TRIGGER:-PT2H
ACTION:DISPLAY
DESCRIPTION:RukoSenseney/JennyLee vs. LibbyListon/JodiKruse
END:VALARM
END:VEVENT
BEGIN:VEVENT
UID:pupc-65629749-20241012T092000@quickscores.com
DTSTAMP:20260424T182700Z
DTSTART;TZID=America/Chicago:20241012T092000
DURATION:PT0H20M0S
SUMMARY:AmandaBurgesen/RenessaDrainer vs. RukoSenseney/JennyLee
DESCRIPTION:Pickleball For The Cure! - Womens - 10/12 9:00am (as Of 10/8) - Paddle Up Pickleball Club
LOCATION:Court 4
CATEGORIES:QuickScores, Pickleball Game
TRANSP:OPAQUE
BEGIN:VALARM
TRIGGER:-PT2H
ACTION:DISPLAY
DESCRIPTION:AmandaBurgesen/RenessaDrainer vs. RukoSenseney/JennyLee
END:VALARM
END:VEVENT
BEGIN:VEVENT
UID:pupc-65629717-20241012T094000@quickscores.com
DTSTAMP:20260424T182700Z
DTSTART;TZID=America/Chicago:20241012T094000
DURATION:PT0H20M0S
SUMMARY:AmySmith/JanetEubanks vs. RukoSenseney/JennyLee
DESCRIPTION:Pickleball For The Cure! - Womens - 10/12 9:00am (as Of 10/8) - Paddle Up Pickleball Club
LOCATION:Court 8
CATEGORIES:QuickScores, Pickleball Game
TRANSP:OPAQUE
BEGIN:VALARM
TRIGGER:-PT2H
ACTION:DISPLAY
DESCRIPTION:AmySmith/JanetEubanks vs. RukoSenseney/JennyLee
END:VALARM
END:VEVENT
BEGIN:VEVENT
UID:pupc-65629724-20241012T100000@quickscores.com
DTSTAMP:20260424T182700Z
DTSTART;TZID=America/Chicago:20241012T100000
DURATION:PT0H20M0S
SUMMARY:RukoSenseney/JennyLee vs. LauraLink/TaraFesser
DESCRIPTION:Pickleball For The Cure! - Womens - 10/12 9:00am (as Of 10/8) - Paddle Up Pickleball Club
LOCATION:Court 9
CATEGORIES:QuickScores, Pickleball Game
TRANSP:OPAQUE
BEGIN:VALARM
TRIGGER:-PT2H
ACTION:DISPLAY
DESCRIPTION:RukoSenseney/JennyLee vs. LauraLink/TaraFesser
END:VALARM
END:VEVENT
BEGIN:VEVENT
UID:pupc-65629750-20241012T102000@quickscores.com
DTSTAMP:20260424T182700Z
DTSTART;TZID=America/Chicago:20241012T102000
DURATION:PT0H20M0S
SUMMARY:RukoSenseney/JennyLee vs. AmandaBurgesen/RenessaDrainer
DESCRIPTION:Pickleball For The Cure! - Womens - 10/12 9:00am (as Of 10/8) - Paddle Up Pickleball Club
LOCATION:Court 6
CATEGORIES:QuickScores, Pickleball Game
TRANSP:OPAQUE
BEGIN:VALARM
TRIGGER:-PT2H
ACTION:DISPLAY
DESCRIPTION:RukoSenseney/JennyLee vs. AmandaBurgesen/RenessaDrainer
END:VALARM
END:VEVENT
BEGIN:VEVENT
UID:pupc-65629730-20241012T104000@quickscores.com
DTSTAMP:20260424T182700Z
DTSTART;TZID=America/Chicago:20241012T104000
DURATION:PT0H20M0S
SUMMARY:MichelleBeattie/KayleighTrokey vs. RukoSenseney/JennyLee
DESCRIPTION:Pickleball For The Cure! - Womens - 10/12 9:00am (as Of 10/8) - Paddle Up Pickleball Club
LOCATION:Court 6
CATEGORIES:QuickScores, Pickleball Game
TRANSP:OPAQUE
BEGIN:VALARM
TRIGGER:-PT2H
ACTION:DISPLAY
DESCRIPTION:MichelleBeattie/KayleighTrokey vs. RukoSenseney/JennyLee
END:VALARM
END:VEVENT
END:VCALENDAR
