BEGIN:VCALENDAR
VERSION:2.0
PRODID:-//QuickScores.com//BQ Dynamic iCal Creator//EN
METHOD:PUBLISH
X-WR-CALNAME:MaryGraves/MandyWindham - Pickleball For The Cure! - Womens - 10/12 9:00am (as Of 10/8) - Completed Tournaments 2023/24
X-WR-CALDESC:QuickScores game calendar
X-PUBLISHED-TTL:PT24H
REFRESH-INTERVAL;VALUE=DURATION:PT24H
CALSCALE:GREGORIAN
BEGIN:VTIMEZONE
TZID:America/Chicago
X-LIC-LOCATION:America/Chicago
BEGIN:DAYLIGHT
TZNAME:CDT
TZOFFSETFROM:-0600
TZOFFSETTO:-0500
DTSTART:19700308T020000
RRULE:FREQ=YEARLY;BYMONTH=3;BYDAY=2SU
END:DAYLIGHT
BEGIN:STANDARD
TZNAME:CST
TZOFFSETFROM:-0500
TZOFFSETTO:-0600
DTSTART:19701101T020000
RRULE:FREQ=YEARLY;BYMONTH=11;BYDAY=1SU
END:STANDARD
END:VTIMEZONE
BEGIN:VEVENT
UID:pupc-65629743-20241012T090000@quickscores.com
DTSTAMP:20260422T233900Z
DTSTART;TZID=America/Chicago:20241012T090000
DURATION:PT0H20M0S
SUMMARY:PaigeReque/SarahDowney vs. MaryGraves/MandyWindham
DESCRIPTION:Pickleball For The Cure! - Womens - 10/12 9:00am (as Of 10/8) - Paddle Up Pickleball Club
LOCATION:Court 2
CATEGORIES:QuickScores, Pickleball Game
TRANSP:OPAQUE
BEGIN:VALARM
TRIGGER:-PT2H
ACTION:DISPLAY
DESCRIPTION:PaigeReque/SarahDowney vs. MaryGraves/MandyWindham
END:VALARM
END:VEVENT
BEGIN:VEVENT
UID:pupc-65629753-20241012T092000@quickscores.com
DTSTAMP:20260422T233900Z
DTSTART;TZID=America/Chicago:20241012T092000
DURATION:PT0H20M0S
SUMMARY:MaryGraves/MandyWindham vs. KellyRichert/ErinSmith
DESCRIPTION:Pickleball For The Cure! - Womens - 10/12 9:00am (as Of 10/8) - Paddle Up Pickleball Club
LOCATION:Court 6
CATEGORIES:QuickScores, Pickleball Game
TRANSP:OPAQUE
BEGIN:VALARM
TRIGGER:-PT2H
ACTION:DISPLAY
DESCRIPTION:MaryGraves/MandyWindham vs. KellyRichert/ErinSmith
END:VALARM
END:VEVENT
BEGIN:VEVENT
UID:pupc-65629755-20241012T094000@quickscores.com
DTSTAMP:20260422T233900Z
DTSTART;TZID=America/Chicago:20241012T094000
DURATION:PT0H20M0S
SUMMARY:KellyRoller/LoganJustice vs. MaryGraves/MandyWindham
DESCRIPTION:Pickleball For The Cure! - Womens - 10/12 9:00am (as Of 10/8) - Paddle Up Pickleball Club
LOCATION:Court 4
CATEGORIES:QuickScores, Pickleball Game
TRANSP:OPAQUE
BEGIN:VALARM
TRIGGER:-PT2H
ACTION:DISPLAY
DESCRIPTION:KellyRoller/LoganJustice vs. MaryGraves/MandyWindham
END:VALARM
END:VEVENT
BEGIN:VEVENT
UID:pupc-65629744-20241012T100000@quickscores.com
DTSTAMP:20260422T233900Z
DTSTART;TZID=America/Chicago:20241012T100000
DURATION:PT0H20M0S
SUMMARY:MaryGraves/MandyWindham vs. PaigeReque/SarahDowney
DESCRIPTION:Pickleball For The Cure! - Womens - 10/12 9:00am (as Of 10/8) - Paddle Up Pickleball Club
LOCATION:Court 4
CATEGORIES:QuickScores, Pickleball Game
TRANSP:OPAQUE
BEGIN:VALARM
TRIGGER:-PT2H
ACTION:DISPLAY
DESCRIPTION:MaryGraves/MandyWindham vs. PaigeReque/SarahDowney
END:VALARM
END:VEVENT
BEGIN:VEVENT
UID:pupc-65629754-20241012T102000@quickscores.com
DTSTAMP:20260422T233900Z
DTSTART;TZID=America/Chicago:20241012T102000
DURATION:PT0H20M0S
SUMMARY:KellyRichert/ErinSmith vs. MaryGraves/MandyWindham
DESCRIPTION:Pickleball For The Cure! - Womens - 10/12 9:00am (as Of 10/8) - Paddle Up Pickleball Club
LOCATION:Court 7
CATEGORIES:QuickScores, Pickleball Game
TRANSP:OPAQUE
BEGIN:VALARM
TRIGGER:-PT2H
ACTION:DISPLAY
DESCRIPTION:KellyRichert/ErinSmith vs. MaryGraves/MandyWindham
END:VALARM
END:VEVENT
BEGIN:VEVENT
UID:pupc-65629756-20241012T104000@quickscores.com
DTSTAMP:20260422T233900Z
DTSTART;TZID=America/Chicago:20241012T104000
DURATION:PT0H20M0S
SUMMARY:MaryGraves/MandyWindham vs. KellyRoller/LoganJustice
DESCRIPTION:Pickleball For The Cure! - Womens - 10/12 9:00am (as Of 10/8) - Paddle Up Pickleball Club
LOCATION:Court 2
CATEGORIES:QuickScores, Pickleball Game
TRANSP:OPAQUE
BEGIN:VALARM
TRIGGER:-PT2H
ACTION:DISPLAY
DESCRIPTION:MaryGraves/MandyWindham vs. KellyRoller/LoganJustice
END:VALARM
END:VEVENT
END:VCALENDAR
