BEGIN:VCALENDAR
VERSION:2.0
PRODID:-//QuickScores.com//BQ Dynamic iCal Creator//EN
METHOD:PUBLISH
X-WR-CALNAME:Nielsen/Johnson - Pupc Thursday Low Int. Lg. - Fall 24 - Completed Leagues 2023/24
X-WR-CALDESC:QuickScores game calendar
X-PUBLISHED-TTL:PT24H
REFRESH-INTERVAL;VALUE=DURATION:PT24H
CALSCALE:GREGORIAN
BEGIN:VTIMEZONE
TZID:America/Chicago
X-LIC-LOCATION:America/Chicago
BEGIN:DAYLIGHT
TZNAME:CDT
TZOFFSETFROM:-0600
TZOFFSETTO:-0500
DTSTART:19700308T020000
RRULE:FREQ=YEARLY;BYMONTH=3;BYDAY=2SU
END:DAYLIGHT
BEGIN:STANDARD
TZNAME:CST
TZOFFSETFROM:-0500
TZOFFSETTO:-0600
DTSTART:19701101T020000
RRULE:FREQ=YEARLY;BYMONTH=11;BYDAY=1SU
END:STANDARD
END:VTIMEZONE
BEGIN:VEVENT
UID:pupc-65337147-20240919T192000@quickscores.com
DTSTAMP:20260419T090600Z
DTSTART;TZID=America/Chicago:20240919T192000
DURATION:PT0H40M0S
SUMMARY:Cary/Cary vs. Nielsen/Johnson
DESCRIPTION:Pupc Thursday Low Int. Lg. - Fall 24 - Paddle Up Pickleball Club
LOCATION:Court 4
CATEGORIES:QuickScores, Pickleball Game
TRANSP:OPAQUE
BEGIN:VALARM
TRIGGER:-PT2H
ACTION:DISPLAY
DESCRIPTION:Cary/Cary vs. Nielsen/Johnson
END:VALARM
END:VEVENT
BEGIN:VEVENT
UID:pupc-65337141-20240919T200000@quickscores.com
DTSTAMP:20260419T090600Z
DTSTART;TZID=America/Chicago:20240919T200000
DURATION:PT0H40M0S
SUMMARY:Nielsen/Johnson vs. Struckman/McCarter
DESCRIPTION:Pupc Thursday Low Int. Lg. - Fall 24 - Paddle Up Pickleball Club
LOCATION:Court 3
CATEGORIES:QuickScores, Pickleball Game
TRANSP:OPAQUE
BEGIN:VALARM
TRIGGER:-PT2H
ACTION:DISPLAY
DESCRIPTION:Nielsen/Johnson vs. Struckman/McCarter
END:VALARM
END:VEVENT
BEGIN:VEVENT
UID:pupc-65337153-20240926T192000@quickscores.com
DTSTAMP:20260419T090600Z
DTSTART;TZID=America/Chicago:20240926T192000
DURATION:PT0H40M0S
SUMMARY:Nielsen/Johnson vs. Mueller/Stuhlman
DESCRIPTION:Pupc Thursday Low Int. Lg. - Fall 24 - Paddle Up Pickleball Club
LOCATION:Court 3
CATEGORIES:QuickScores, Pickleball Game
TRANSP:OPAQUE
BEGIN:VALARM
TRIGGER:-PT2H
ACTION:DISPLAY
DESCRIPTION:Nielsen/Johnson vs. Mueller/Stuhlman
END:VALARM
END:VEVENT
BEGIN:VEVENT
UID:pupc-65337152-20240926T204000@quickscores.com
DTSTAMP:20260419T090600Z
DTSTART;TZID=America/Chicago:20240926T204000
DURATION:PT0H40M0S
SUMMARY:Kough/Kough vs. Nielsen/Johnson
DESCRIPTION:Pupc Thursday Low Int. Lg. - Fall 24 - Paddle Up Pickleball Club
LOCATION:Court 3
CATEGORIES:QuickScores, Pickleball Game
TRANSP:OPAQUE
BEGIN:VALARM
TRIGGER:-PT2H
ACTION:DISPLAY
DESCRIPTION:Kough/Kough vs. Nielsen/Johnson
END:VALARM
END:VEVENT
BEGIN:VEVENT
UID:pupc-65337157-20241003T180000@quickscores.com
DTSTAMP:20260419T090600Z
DTSTART;TZID=America/Chicago:20241003T180000
DURATION:PT0H40M0S
SUMMARY:Nielsen/Johnson vs. Johns/Brower
DESCRIPTION:Pupc Thursday Low Int. Lg. - Fall 24 - Paddle Up Pickleball Club
LOCATION:Court 4
CATEGORIES:QuickScores, Pickleball Game
TRANSP:OPAQUE
BEGIN:VALARM
TRIGGER:-PT2H
ACTION:DISPLAY
DESCRIPTION:Nielsen/Johnson vs. Johns/Brower
END:VALARM
END:VEVENT
BEGIN:VEVENT
UID:pupc-65337158-20241003T184000@quickscores.com
DTSTAMP:20260419T090600Z
DTSTART;TZID=America/Chicago:20241003T184000
DURATION:PT0H40M0S
SUMMARY:Mayhall/Bye vs. Nielsen/Johnson
DESCRIPTION:Pupc Thursday Low Int. Lg. - Fall 24 - Paddle Up Pickleball Club
LOCATION:Court 6
CATEGORIES:QuickScores, Pickleball Game
TRANSP:OPAQUE
BEGIN:VALARM
TRIGGER:-PT2H
ACTION:DISPLAY
DESCRIPTION:Mayhall/Bye vs. Nielsen/Johnson
END:VALARM
END:VEVENT
BEGIN:VEVENT
UID:pupc-65337162-20241010T184000@quickscores.com
DTSTAMP:20260419T090600Z
DTSTART;TZID=America/Chicago:20241010T184000
DURATION:PT0H40M0S
SUMMARY:Struckman/McCarter vs. Nielsen/Johnson
DESCRIPTION:Pupc Thursday Low Int. Lg. - Fall 24 - Paddle Up Pickleball Club
LOCATION:Court 4
CATEGORIES:QuickScores, Pickleball Game
TRANSP:OPAQUE
BEGIN:VALARM
TRIGGER:-PT2H
ACTION:DISPLAY
DESCRIPTION:Struckman/McCarter vs. Nielsen/Johnson
END:VALARM
END:VEVENT
BEGIN:VEVENT
UID:pupc-65337168-20241010T192000@quickscores.com
DTSTAMP:20260419T090600Z
DTSTART;TZID=America/Chicago:20241010T192000
DURATION:PT0H40M0S
SUMMARY:Nielsen/Johnson vs. Cary/Cary
DESCRIPTION:Pupc Thursday Low Int. Lg. - Fall 24 - Paddle Up Pickleball Club
LOCATION:Court 4
CATEGORIES:QuickScores, Pickleball Game
TRANSP:OPAQUE
BEGIN:VALARM
TRIGGER:-PT2H
ACTION:DISPLAY
DESCRIPTION:Nielsen/Johnson vs. Cary/Cary
END:VALARM
END:VEVENT
BEGIN:VEVENT
UID:pupc-65337174-20241017T180000@quickscores.com
DTSTAMP:20260419T090600Z
DTSTART;TZID=America/Chicago:20241017T180000
DURATION:PT0H40M0S
SUMMARY:Mueller/Stuhlman vs. Nielsen/Johnson
DESCRIPTION:Pupc Thursday Low Int. Lg. - Fall 24 - Paddle Up Pickleball Club
LOCATION:Court 4
CATEGORIES:QuickScores, Pickleball Game
TRANSP:OPAQUE
BEGIN:VALARM
TRIGGER:-PT2H
ACTION:DISPLAY
DESCRIPTION:Mueller/Stuhlman vs. Nielsen/Johnson
END:VALARM
END:VEVENT
BEGIN:VEVENT
UID:pupc-65337173-20241017T184000@quickscores.com
DTSTAMP:20260419T090600Z
DTSTART;TZID=America/Chicago:20241017T184000
DURATION:PT0H40M0S
SUMMARY:Moss/Rodriguez2 vs. Nielsen/Johnson
DESCRIPTION:Pupc Thursday Low Int. Lg. - Fall 24 - Paddle Up Pickleball Club
LOCATION:Court 4
CATEGORIES:QuickScores, Pickleball Game
TRANSP:OPAQUE
BEGIN:VALARM
TRIGGER:-PT2H
ACTION:DISPLAY
DESCRIPTION:Moss/Rodriguez2 vs. Nielsen/Johnson
END:VALARM
END:VEVENT
BEGIN:VEVENT
UID:pupc-65337178-20241024T200000@quickscores.com
DTSTAMP:20260419T090600Z
DTSTART;TZID=America/Chicago:20241024T200000
DURATION:PT0H40M0S
SUMMARY:Johns/Brower vs. Nielsen/Johnson
DESCRIPTION:Pupc Thursday Low Int. Lg. - Fall 24 - Paddle Up Pickleball Club
LOCATION:Court 3
CATEGORIES:QuickScores, Pickleball Game
TRANSP:OPAQUE
BEGIN:VALARM
TRIGGER:-PT2H
ACTION:DISPLAY
DESCRIPTION:Johns/Brower vs. Nielsen/Johnson
END:VALARM
END:VEVENT
BEGIN:VEVENT
UID:pupc-65337179-20241024T204000@quickscores.com
DTSTAMP:20260419T090600Z
DTSTART;TZID=America/Chicago:20241024T204000
DURATION:PT0H40M0S
SUMMARY:Nielsen/Johnson vs. Mayhall/Bye
DESCRIPTION:Pupc Thursday Low Int. Lg. - Fall 24 - Paddle Up Pickleball Club
LOCATION:Court 3
CATEGORIES:QuickScores, Pickleball Game
TRANSP:OPAQUE
BEGIN:VALARM
TRIGGER:-PT2H
ACTION:DISPLAY
DESCRIPTION:Nielsen/Johnson vs. Mayhall/Bye
END:VALARM
END:VEVENT
BEGIN:VEVENT
UID:pupc-65337183-20241107T192000@quickscores.com
DTSTAMP:20260419T090600Z
DTSTART;TZID=America/Chicago:20241107T192000
DURATION:PT0H40M0S
SUMMARY:Nielsen/Johnson vs. Struckman/McCarter
DESCRIPTION:Pupc Thursday Low Int. Lg. - Fall 24 - Paddle Up Pickleball Club
LOCATION:Court 4
CATEGORIES:QuickScores, Pickleball Game
TRANSP:OPAQUE
BEGIN:VALARM
TRIGGER:-PT2H
ACTION:DISPLAY
DESCRIPTION:Nielsen/Johnson vs. Struckman/McCarter
END:VALARM
END:VEVENT
BEGIN:VEVENT
UID:pupc-65337189-20241107T204000@quickscores.com
DTSTAMP:20260419T090600Z
DTSTART;TZID=America/Chicago:20241107T204000
DURATION:PT0H40M0S
SUMMARY:Cary/Cary vs. Nielsen/Johnson
DESCRIPTION:Pupc Thursday Low Int. Lg. - Fall 24 - Paddle Up Pickleball Club
LOCATION:Court 3
CATEGORIES:QuickScores, Pickleball Game
TRANSP:OPAQUE
BEGIN:VALARM
TRIGGER:-PT2H
ACTION:DISPLAY
DESCRIPTION:Cary/Cary vs. Nielsen/Johnson
END:VALARM
END:VEVENT
BEGIN:VEVENT
UID:pupc-65972303-20241114T183000@quickscores.com
DTSTAMP:20260419T090600Z
DTSTART;TZID=America/Chicago:20241114T183000
DURATION:PT0H30M0S
SUMMARY:[2] Nielsen/Johnson vs. [7] Kough/Kough
DESCRIPTION:Pupc Thursday Low Int. Lg. - Fall 24 - Paddle Up Pickleball Club
LOCATION:Court 4
CATEGORIES:QuickScores, Pickleball Game
TRANSP:OPAQUE
BEGIN:VALARM
TRIGGER:-PT2H
ACTION:DISPLAY
DESCRIPTION:[2] Nielsen/Johnson vs. [7] Kough/Kough
END:VALARM
END:VEVENT
BEGIN:VEVENT
UID:pupc-65972306-20241114T190000@quickscores.com
DTSTAMP:20260419T090600Z
DTSTART;TZID=America/Chicago:20241114T190000
DURATION:PT0H30M0S
SUMMARY:[2] Nielsen/Johnson vs. [3] Mueller/Stuhlman
DESCRIPTION:Pupc Thursday Low Int. Lg. - Fall 24 - Paddle Up Pickleball Club
LOCATION:Court 3
CATEGORIES:QuickScores, Pickleball Game
TRANSP:OPAQUE
BEGIN:VALARM
TRIGGER:-PT2H
ACTION:DISPLAY
DESCRIPTION:[2] Nielsen/Johnson vs. [3] Mueller/Stuhlman
END:VALARM
END:VEVENT
END:VCALENDAR
