BEGIN:VCALENDAR
VERSION:2.0
PRODID:-//QuickScores.com//BQ Dynamic iCal Creator//EN
METHOD:PUBLISH
X-WR-CALNAME:Twillmann/Doromal - Forest Park Sunday Lowint./rec. Lg - Fall 24 - Completed Leagues 2023/24
X-WR-CALDESC:QuickScores game calendar
X-PUBLISHED-TTL:PT24H
REFRESH-INTERVAL;VALUE=DURATION:PT24H
CALSCALE:GREGORIAN
BEGIN:VTIMEZONE
TZID:America/Chicago
X-LIC-LOCATION:America/Chicago
BEGIN:DAYLIGHT
TZNAME:CDT
TZOFFSETFROM:-0600
TZOFFSETTO:-0500
DTSTART:19700308T020000
RRULE:FREQ=YEARLY;BYMONTH=3;BYDAY=2SU
END:DAYLIGHT
BEGIN:STANDARD
TZNAME:CST
TZOFFSETFROM:-0500
TZOFFSETTO:-0600
DTSTART:19701101T020000
RRULE:FREQ=YEARLY;BYMONTH=11;BYDAY=1SU
END:STANDARD
END:VTIMEZONE
BEGIN:VEVENT
UID:pupc-65224446-20240915T184000@quickscores.com
DTSTAMP:20260424T074100Z
DTSTART;TZID=America/Chicago:20240915T184000
DURATION:PT0H40M0S
SUMMARY:Fox/Bara vs. Twillmann/Doromal
DESCRIPTION:Forest Park Sunday Lowint./rec. Lg - Fall 24 - Paddle Up Pickleball Club
LOCATION:DDTC Court 11N
CATEGORIES:QuickScores, Pickleball Game
TRANSP:OPAQUE
BEGIN:VALARM
TRIGGER:-PT2H
ACTION:DISPLAY
DESCRIPTION:Fox/Bara vs. Twillmann/Doromal
END:VALARM
END:VEVENT
BEGIN:VEVENT
UID:pupc-65243232-20240915T192000@quickscores.com
DTSTAMP:20260424T074100Z
DTSTART;TZID=America/Chicago:20240915T192000
DURATION:PT0H40M0S
SUMMARY:Twillmann/Doromal vs. Tulyasathien/Hillman
DESCRIPTION:Forest Park Sunday Lowint./rec. Lg - Fall 24 - Paddle Up Pickleball Club
LOCATION:DDTC Court 11S
CATEGORIES:QuickScores, Pickleball Game
TRANSP:OPAQUE
BEGIN:VALARM
TRIGGER:-PT2H
ACTION:DISPLAY
DESCRIPTION:Twillmann/Doromal vs. Tulyasathien/Hillman
END:VALARM
END:VEVENT
BEGIN:VEVENT
UID:pupc-65319865-20240915T192000@quickscores.com
DTSTAMP:20260424T074100Z
DTSTART;TZID=America/Chicago:20240915T192000
DURATION:PT0H40M0S
SUMMARY:Twillmann/Doromal vs. Brummell/Partner
DESCRIPTION:Forest Park Sunday Lowint./rec. Lg - Fall 24 - Paddle Up Pickleball Club
LOCATION:DDTC Court 12N
CATEGORIES:QuickScores, Pickleball Game
TRANSP:OPAQUE
BEGIN:VALARM
TRIGGER:-PT2H
ACTION:DISPLAY
DESCRIPTION:Twillmann/Doromal vs. Brummell/Partner
END:VALARM
END:VEVENT
END:VCALENDAR
