BEGIN:VCALENDAR
VERSION:2.0
PRODID:-//QuickScores.com//BQ Dynamic iCal Creator//EN
METHOD:PUBLISH
X-WR-CALNAME:Fox/Bara - Forest Park Sunday Lowint./rec. Lg - Fall 24 - Completed Leagues 2023/24
X-WR-CALDESC:QuickScores game calendar
X-PUBLISHED-TTL:PT24H
REFRESH-INTERVAL;VALUE=DURATION:PT24H
CALSCALE:GREGORIAN
BEGIN:VTIMEZONE
TZID:America/Chicago
X-LIC-LOCATION:America/Chicago
BEGIN:DAYLIGHT
TZNAME:CDT
TZOFFSETFROM:-0600
TZOFFSETTO:-0500
DTSTART:19700308T020000
RRULE:FREQ=YEARLY;BYMONTH=3;BYDAY=2SU
END:DAYLIGHT
BEGIN:STANDARD
TZNAME:CST
TZOFFSETFROM:-0500
TZOFFSETTO:-0600
DTSTART:19701101T020000
RRULE:FREQ=YEARLY;BYMONTH=11;BYDAY=1SU
END:STANDARD
END:VTIMEZONE
BEGIN:VEVENT
UID:pupc-65343476-20240915T180000@quickscores.com
DTSTAMP:20260423T101100Z
DTSTART;TZID=America/Chicago:20240915T180000
DURATION:PT0H40M0S
SUMMARY:Koester/Koester vs. Fox/Bara
DESCRIPTION:Forest Park Sunday Lowint./rec. Lg - Fall 24 - Paddle Up Pickleball Club
LOCATION:DDTC Court 11N
CATEGORIES:QuickScores, Pickleball Game
TRANSP:OPAQUE
BEGIN:VALARM
TRIGGER:-PT2H
ACTION:DISPLAY
DESCRIPTION:Koester/Koester vs. Fox/Bara
END:VALARM
END:VEVENT
BEGIN:VEVENT
UID:pupc-65224446-20240915T184000@quickscores.com
DTSTAMP:20260423T101100Z
DTSTART;TZID=America/Chicago:20240915T184000
DURATION:PT0H40M0S
SUMMARY:Fox/Bara vs. Twillmann/Doromal
DESCRIPTION:Forest Park Sunday Lowint./rec. Lg - Fall 24 - Paddle Up Pickleball Club
LOCATION:DDTC Court 11N
CATEGORIES:QuickScores, Pickleball Game
TRANSP:OPAQUE
BEGIN:VALARM
TRIGGER:-PT2H
ACTION:DISPLAY
DESCRIPTION:Fox/Bara vs. Twillmann/Doromal
END:VALARM
END:VEVENT
BEGIN:VEVENT
UID:pupc-65224451-20240922T180000@quickscores.com
DTSTAMP:20260423T101100Z
DTSTART;TZID=America/Chicago:20240922T180000
DURATION:PT0H40M0S
SUMMARY:Fox/Bara vs. Gorman/Gorman
DESCRIPTION:Forest Park Sunday Lowint./rec. Lg - Fall 24 - Paddle Up Pickleball Club
LOCATION:DDTC Court 11N
CATEGORIES:QuickScores, Pickleball Game
TRANSP:OPAQUE
BEGIN:VALARM
TRIGGER:-PT2H
ACTION:DISPLAY
DESCRIPTION:Fox/Bara vs. Gorman/Gorman
END:VALARM
END:VEVENT
BEGIN:VEVENT
UID:pupc-65224452-20240922T184000@quickscores.com
DTSTAMP:20260423T101100Z
DTSTART;TZID=America/Chicago:20240922T184000
DURATION:PT0H40M0S
SUMMARY:Fox/Bara vs. Stewart/Stewart
DESCRIPTION:Forest Park Sunday Lowint./rec. Lg - Fall 24 - Paddle Up Pickleball Club
LOCATION:DDTC Court 21
CATEGORIES:QuickScores, Pickleball Game
TRANSP:OPAQUE
BEGIN:VALARM
TRIGGER:-PT2H
ACTION:DISPLAY
DESCRIPTION:Fox/Bara vs. Stewart/Stewart
END:VALARM
END:VEVENT
BEGIN:VEVENT
UID:pupc-65224474-20241006T184000@quickscores.com
DTSTAMP:20260423T101100Z
DTSTART;TZID=America/Chicago:20241006T184000
DURATION:PT0H40M0S
SUMMARY:Titzer/Suberi vs. Fox/Bara
DESCRIPTION:Forest Park Sunday Lowint./rec. Lg - Fall 24 - Paddle Up Pickleball Club
LOCATION:DDTC Court 22
CATEGORIES:QuickScores, Pickleball Game
TRANSP:OPAQUE
BEGIN:VALARM
TRIGGER:-PT2H
ACTION:DISPLAY
DESCRIPTION:Titzer/Suberi vs. Fox/Bara
END:VALARM
END:VEVENT
BEGIN:VEVENT
UID:pupc-65224473-20241006T192000@quickscores.com
DTSTAMP:20260423T101100Z
DTSTART;TZID=America/Chicago:20241006T192000
DURATION:PT0H40M0S
SUMMARY:Carey-Ewend/Fishman vs. Fox/Bara
DESCRIPTION:Forest Park Sunday Lowint./rec. Lg - Fall 24 - Paddle Up Pickleball Club
LOCATION:DDTC Court 21
CATEGORIES:QuickScores, Pickleball Game
TRANSP:OPAQUE
BEGIN:VALARM
TRIGGER:-PT2H
ACTION:DISPLAY
DESCRIPTION:Carey-Ewend/Fishman vs. Fox/Bara
END:VALARM
END:VEVENT
BEGIN:VEVENT
UID:pupc-65224486-20241013T180000@quickscores.com
DTSTAMP:20260423T101100Z
DTSTART;TZID=America/Chicago:20241013T180000
DURATION:PT0H40M0S
SUMMARY:Tulyasathien/Hillman vs. Fox/Bara
DESCRIPTION:Forest Park Sunday Lowint./rec. Lg - Fall 24 - Paddle Up Pickleball Club
LOCATION:DDTC Court 21
CATEGORIES:QuickScores, Pickleball Game
TRANSP:OPAQUE
BEGIN:VALARM
TRIGGER:-PT2H
ACTION:DISPLAY
DESCRIPTION:Tulyasathien/Hillman vs. Fox/Bara
END:VALARM
END:VEVENT
BEGIN:VEVENT
UID:pupc-65224480-20241013T184000@quickscores.com
DTSTAMP:20260423T101100Z
DTSTART;TZID=America/Chicago:20241013T184000
DURATION:PT0H40M0S
SUMMARY:Koester/Koester vs. Fox/Bara
DESCRIPTION:Forest Park Sunday Lowint./rec. Lg - Fall 24 - Paddle Up Pickleball Club
LOCATION:DDTC Court 21
CATEGORIES:QuickScores, Pickleball Game
TRANSP:OPAQUE
BEGIN:VALARM
TRIGGER:-PT2H
ACTION:DISPLAY
DESCRIPTION:Koester/Koester vs. Fox/Bara
END:VALARM
END:VEVENT
BEGIN:VEVENT
UID:pupc-65659864-20241020T180000@quickscores.com
DTSTAMP:20260423T101100Z
DTSTART;TZID=America/Chicago:20241020T180000
DURATION:PT0H40M0S
SUMMARY:Fox/Bara vs. Stewart/Stewart
DESCRIPTION:Forest Park Sunday Lowint./rec. Lg - Fall 24 - Paddle Up Pickleball Club
LOCATION:DDTC Court 13N
CATEGORIES:QuickScores, Pickleball Game
TRANSP:OPAQUE
BEGIN:VALARM
TRIGGER:-PT2H
ACTION:DISPLAY
DESCRIPTION:Fox/Bara vs. Stewart/Stewart
END:VALARM
END:VEVENT
BEGIN:VEVENT
UID:pupc-65224464-20241020T184000@quickscores.com
DTSTAMP:20260423T101100Z
DTSTART;TZID=America/Chicago:20241020T184000
DURATION:PT0H40M0S
SUMMARY:Fox/Bara vs. Aldrich/Rasche
DESCRIPTION:Forest Park Sunday Lowint./rec. Lg - Fall 24 - Paddle Up Pickleball Club
LOCATION:DDTC Court 22
CATEGORIES:QuickScores, Pickleball Game
TRANSP:OPAQUE
BEGIN:VALARM
TRIGGER:-PT2H
ACTION:DISPLAY
DESCRIPTION:Fox/Bara vs. Aldrich/Rasche
END:VALARM
END:VEVENT
END:VCALENDAR
