BEGIN:VCALENDAR
VERSION:2.0
PRODID:-//QuickScores.com//BQ Dynamic iCal Creator//EN
METHOD:PUBLISH
X-WR-CALNAME:Koester/Koester - Forest Park Sunday Lowint./rec. Lg - Fall 24 - Completed Leagues 2023/24
X-WR-CALDESC:QuickScores game calendar
X-PUBLISHED-TTL:PT24H
REFRESH-INTERVAL;VALUE=DURATION:PT24H
CALSCALE:GREGORIAN
BEGIN:VTIMEZONE
TZID:America/Chicago
X-LIC-LOCATION:America/Chicago
BEGIN:DAYLIGHT
TZNAME:CDT
TZOFFSETFROM:-0600
TZOFFSETTO:-0500
DTSTART:19700308T020000
RRULE:FREQ=YEARLY;BYMONTH=3;BYDAY=2SU
END:DAYLIGHT
BEGIN:STANDARD
TZNAME:CST
TZOFFSETFROM:-0500
TZOFFSETTO:-0600
DTSTART:19701101T020000
RRULE:FREQ=YEARLY;BYMONTH=11;BYDAY=1SU
END:STANDARD
END:VTIMEZONE
BEGIN:VEVENT
UID:pupc-65224447-20240915T180000@quickscores.com
DTSTAMP:20260423T101100Z
DTSTART;TZID=America/Chicago:20240915T180000
DURATION:PT0H40M0S
SUMMARY:Gorman/Gorman vs. Koester/Koester
DESCRIPTION:Forest Park Sunday Lowint./rec. Lg - Fall 24 - Paddle Up Pickleball Club
LOCATION:DDTC Court 21
CATEGORIES:QuickScores, Pickleball Game
TRANSP:OPAQUE
BEGIN:VALARM
TRIGGER:-PT2H
ACTION:DISPLAY
DESCRIPTION:Gorman/Gorman vs. Koester/Koester
END:VALARM
END:VEVENT
BEGIN:VEVENT
UID:pupc-65343476-20240915T180000@quickscores.com
DTSTAMP:20260423T101100Z
DTSTART;TZID=America/Chicago:20240915T180000
DURATION:PT0H40M0S
SUMMARY:Koester/Koester vs. Fox/Bara
DESCRIPTION:Forest Park Sunday Lowint./rec. Lg - Fall 24 - Paddle Up Pickleball Club
LOCATION:DDTC Court 11N
CATEGORIES:QuickScores, Pickleball Game
TRANSP:OPAQUE
BEGIN:VALARM
TRIGGER:-PT2H
ACTION:DISPLAY
DESCRIPTION:Koester/Koester vs. Fox/Bara
END:VALARM
END:VEVENT
BEGIN:VEVENT
UID:pupc-65224443-20240915T192000@quickscores.com
DTSTAMP:20260423T101100Z
DTSTART;TZID=America/Chicago:20240915T192000
DURATION:PT0H40M0S
SUMMARY:Koester/Koester vs. Prather/Prather
DESCRIPTION:Forest Park Sunday Lowint./rec. Lg - Fall 24 - Paddle Up Pickleball Club
LOCATION:DDTC Court 21
CATEGORIES:QuickScores, Pickleball Game
TRANSP:OPAQUE
BEGIN:VALARM
TRIGGER:-PT2H
ACTION:DISPLAY
DESCRIPTION:Koester/Koester vs. Prather/Prather
END:VALARM
END:VEVENT
BEGIN:VEVENT
UID:pupc-65224454-20240922T184000@quickscores.com
DTSTAMP:20260423T101100Z
DTSTART;TZID=America/Chicago:20240922T184000
DURATION:PT0H40M0S
SUMMARY:Koester/Koester vs. Aldrich/Rasche
DESCRIPTION:Forest Park Sunday Lowint./rec. Lg - Fall 24 - Paddle Up Pickleball Club
LOCATION:DDTC Court 13N
CATEGORIES:QuickScores, Pickleball Game
TRANSP:OPAQUE
BEGIN:VALARM
TRIGGER:-PT2H
ACTION:DISPLAY
DESCRIPTION:Koester/Koester vs. Aldrich/Rasche
END:VALARM
END:VEVENT
BEGIN:VEVENT
UID:pupc-65224455-20240922T192000@quickscores.com
DTSTAMP:20260423T101100Z
DTSTART;TZID=America/Chicago:20240922T192000
DURATION:PT0H40M0S
SUMMARY:Laslo/Laslo vs. Koester/Koester
DESCRIPTION:Forest Park Sunday Lowint./rec. Lg - Fall 24 - Paddle Up Pickleball Club
LOCATION:DDTC Court 22
CATEGORIES:QuickScores, Pickleball Game
TRANSP:OPAQUE
BEGIN:VALARM
TRIGGER:-PT2H
ACTION:DISPLAY
DESCRIPTION:Laslo/Laslo vs. Koester/Koester
END:VALARM
END:VEVENT
BEGIN:VEVENT
UID:pupc-65224476-20241006T180000@quickscores.com
DTSTAMP:20260423T101100Z
DTSTART;TZID=America/Chicago:20241006T180000
DURATION:PT0H40M0S
SUMMARY:Stewart/Stewart vs. Koester/Koester
DESCRIPTION:Forest Park Sunday Lowint./rec. Lg - Fall 24 - Paddle Up Pickleball Club
LOCATION:DDTC Court 22
CATEGORIES:QuickScores, Pickleball Game
TRANSP:OPAQUE
BEGIN:VALARM
TRIGGER:-PT2H
ACTION:DISPLAY
DESCRIPTION:Stewart/Stewart vs. Koester/Koester
END:VALARM
END:VEVENT
BEGIN:VEVENT
UID:pupc-65224475-20241006T192000@quickscores.com
DTSTAMP:20260423T101100Z
DTSTART;TZID=America/Chicago:20241006T192000
DURATION:PT0H40M0S
SUMMARY:Koester/Koester vs. Titzer/Suberi
DESCRIPTION:Forest Park Sunday Lowint./rec. Lg - Fall 24 - Paddle Up Pickleball Club
LOCATION:DDTC Court 22
CATEGORIES:QuickScores, Pickleball Game
TRANSP:OPAQUE
BEGIN:VALARM
TRIGGER:-PT2H
ACTION:DISPLAY
DESCRIPTION:Koester/Koester vs. Titzer/Suberi
END:VALARM
END:VEVENT
BEGIN:VEVENT
UID:pupc-65224480-20241013T184000@quickscores.com
DTSTAMP:20260423T101100Z
DTSTART;TZID=America/Chicago:20241013T184000
DURATION:PT0H40M0S
SUMMARY:Koester/Koester vs. Fox/Bara
DESCRIPTION:Forest Park Sunday Lowint./rec. Lg - Fall 24 - Paddle Up Pickleball Club
LOCATION:DDTC Court 21
CATEGORIES:QuickScores, Pickleball Game
TRANSP:OPAQUE
BEGIN:VALARM
TRIGGER:-PT2H
ACTION:DISPLAY
DESCRIPTION:Koester/Koester vs. Fox/Bara
END:VALARM
END:VEVENT
BEGIN:VEVENT
UID:pupc-65473698-20241013T192000@quickscores.com
DTSTAMP:20260423T101100Z
DTSTART;TZID=America/Chicago:20241013T192000
DURATION:PT0H40M0S
SUMMARY:Marusic/Marusic vs. Koester/Koester
DESCRIPTION:Forest Park Sunday Lowint./rec. Lg - Fall 24 - Paddle Up Pickleball Club
LOCATION:DDTC Court 21
CATEGORIES:QuickScores, Pickleball Game
TRANSP:OPAQUE
BEGIN:VALARM
TRIGGER:-PT2H
ACTION:DISPLAY
DESCRIPTION:Marusic/Marusic vs. Koester/Koester
END:VALARM
END:VEVENT
BEGIN:VEVENT
UID:pupc-65224466-20241020T180000@quickscores.com
DTSTAMP:20260423T101100Z
DTSTART;TZID=America/Chicago:20241020T180000
DURATION:PT0H40M0S
SUMMARY:Carey-Ewend/Fishman vs. Koester/Koester
DESCRIPTION:Forest Park Sunday Lowint./rec. Lg - Fall 24 - Paddle Up Pickleball Club
LOCATION:DDTC Court 22
CATEGORIES:QuickScores, Pickleball Game
TRANSP:OPAQUE
BEGIN:VALARM
TRIGGER:-PT2H
ACTION:DISPLAY
DESCRIPTION:Carey-Ewend/Fishman vs. Koester/Koester
END:VALARM
END:VEVENT
BEGIN:VEVENT
UID:pupc-65224460-20241020T192000@quickscores.com
DTSTAMP:20260423T101100Z
DTSTART;TZID=America/Chicago:20241020T192000
DURATION:PT0H40M0S
SUMMARY:Koester/Koester vs. Stewart/Stewart
DESCRIPTION:Forest Park Sunday Lowint./rec. Lg - Fall 24 - Paddle Up Pickleball Club
LOCATION:DDTC Court 11N
CATEGORIES:QuickScores, Pickleball Game
TRANSP:OPAQUE
BEGIN:VALARM
TRIGGER:-PT2H
ACTION:DISPLAY
DESCRIPTION:Koester/Koester vs. Stewart/Stewart
END:VALARM
END:VEVENT
END:VCALENDAR
