BEGIN:VCALENDAR
VERSION:2.0
PRODID:-//QuickScores.com//BQ Dynamic iCal Creator//EN
METHOD:PUBLISH
X-WR-CALNAME:DuBois/Shouse - Fmg Thursday Rec Lg. -  Fall  2024 - Completed Leagues 2023/24
X-WR-CALDESC:QuickScores game calendar
X-PUBLISHED-TTL:PT24H
REFRESH-INTERVAL;VALUE=DURATION:PT24H
CALSCALE:GREGORIAN
BEGIN:VTIMEZONE
TZID:America/Chicago
X-LIC-LOCATION:America/Chicago
BEGIN:DAYLIGHT
TZNAME:CDT
TZOFFSETFROM:-0600
TZOFFSETTO:-0500
DTSTART:19700308T020000
RRULE:FREQ=YEARLY;BYMONTH=3;BYDAY=2SU
END:DAYLIGHT
BEGIN:STANDARD
TZNAME:CST
TZOFFSETFROM:-0500
TZOFFSETTO:-0600
DTSTART:19701101T020000
RRULE:FREQ=YEARLY;BYMONTH=11;BYDAY=1SU
END:STANDARD
END:VTIMEZONE
BEGIN:VEVENT
UID:pupc-64849151-20240912T192000@quickscores.com
DTSTAMP:20260425T175100Z
DTSTART;TZID=America/Chicago:20240912T192000
DURATION:PT0H40M0S
SUMMARY:Summers/Stugart vs. DuBois/Shouse
DESCRIPTION:Fmg Thursday Rec Lg. -  Fall  2024 - Paddle Up Pickleball Club
LOCATION:FMG Court 6
CATEGORIES:QuickScores, Pickleball Game
TRANSP:OPAQUE
BEGIN:VALARM
TRIGGER:-PT2H
ACTION:DISPLAY
DESCRIPTION:Summers/Stugart vs. DuBois/Shouse
END:VALARM
END:VEVENT
BEGIN:VEVENT
UID:pupc-64849137-20240912T200000@quickscores.com
DTSTAMP:20260425T175100Z
DTSTART;TZID=America/Chicago:20240912T200000
DURATION:PT0H40M0S
SUMMARY:Maesaka/Proost vs. DuBois/Shouse
DESCRIPTION:Fmg Thursday Rec Lg. -  Fall  2024 - Paddle Up Pickleball Club
LOCATION:FMG Court 6
CATEGORIES:QuickScores, Pickleball Game
TRANSP:OPAQUE
BEGIN:VALARM
TRIGGER:-PT2H
ACTION:DISPLAY
DESCRIPTION:Maesaka/Proost vs. DuBois/Shouse
END:VALARM
END:VEVENT
BEGIN:VEVENT
UID:pupc-64849164-20240919T180000@quickscores.com
DTSTAMP:20260425T175100Z
DTSTART;TZID=America/Chicago:20240919T180000
DURATION:PT0H40M0S
SUMMARY:JennyBodmer/AngieSims vs. DuBois/Shouse
DESCRIPTION:Fmg Thursday Rec Lg. -  Fall  2024 - Paddle Up Pickleball Club
LOCATION:FMG Court 5
CATEGORIES:QuickScores, Pickleball Game
TRANSP:OPAQUE
BEGIN:VALARM
TRIGGER:-PT2H
ACTION:DISPLAY
DESCRIPTION:JennyBodmer/AngieSims vs. DuBois/Shouse
END:VALARM
END:VEVENT
BEGIN:VEVENT
UID:pupc-64849163-20240919T184000@quickscores.com
DTSTAMP:20260425T175100Z
DTSTART;TZID=America/Chicago:20240919T184000
DURATION:PT0H40M0S
SUMMARY:DuBois/Shouse vs. Kite/Kempker
DESCRIPTION:Fmg Thursday Rec Lg. -  Fall  2024 - Paddle Up Pickleball Club
LOCATION:FMG Court 5
CATEGORIES:QuickScores, Pickleball Game
TRANSP:OPAQUE
BEGIN:VALARM
TRIGGER:-PT2H
ACTION:DISPLAY
DESCRIPTION:DuBois/Shouse vs. Kite/Kempker
END:VALARM
END:VEVENT
BEGIN:VEVENT
UID:pupc-64849182-20241003T180000@quickscores.com
DTSTAMP:20260425T175100Z
DTSTART;TZID=America/Chicago:20241003T180000
DURATION:PT0H40M0S
SUMMARY:Zeisler/Zeisler vs. DuBois/Shouse
DESCRIPTION:Fmg Thursday Rec Lg. -  Fall  2024 - Paddle Up Pickleball Club
LOCATION:FMG Court 4
CATEGORIES:QuickScores, Pickleball Game
TRANSP:OPAQUE
BEGIN:VALARM
TRIGGER:-PT2H
ACTION:DISPLAY
DESCRIPTION:Zeisler/Zeisler vs. DuBois/Shouse
END:VALARM
END:VEVENT
BEGIN:VEVENT
UID:pupc-64849181-20241003T184000@quickscores.com
DTSTAMP:20260425T175100Z
DTSTART;TZID=America/Chicago:20241003T184000
DURATION:PT0H40M0S
SUMMARY:DuBois/Shouse vs. Reiter/Gregory
DESCRIPTION:Fmg Thursday Rec Lg. -  Fall  2024 - Paddle Up Pickleball Club
LOCATION:FMG Court 4
CATEGORIES:QuickScores, Pickleball Game
TRANSP:OPAQUE
BEGIN:VALARM
TRIGGER:-PT2H
ACTION:DISPLAY
DESCRIPTION:DuBois/Shouse vs. Reiter/Gregory
END:VALARM
END:VEVENT
BEGIN:VEVENT
UID:pupc-64849194-20241010T180000@quickscores.com
DTSTAMP:20260425T175100Z
DTSTART;TZID=America/Chicago:20241010T180000
DURATION:PT0H40M0S
SUMMARY:DuBois/Shouse vs. Summers/Stugart
DESCRIPTION:Fmg Thursday Rec Lg. -  Fall  2024 - Paddle Up Pickleball Club
LOCATION:FMG Court 6
CATEGORIES:QuickScores, Pickleball Game
TRANSP:OPAQUE
BEGIN:VALARM
TRIGGER:-PT2H
ACTION:DISPLAY
DESCRIPTION:DuBois/Shouse vs. Summers/Stugart
END:VALARM
END:VEVENT
BEGIN:VEVENT
UID:pupc-64849193-20241010T184000@quickscores.com
DTSTAMP:20260425T175100Z
DTSTART;TZID=America/Chicago:20241010T184000
DURATION:PT0H40M0S
SUMMARY:Wichern/Wichern vs. DuBois/Shouse
DESCRIPTION:Fmg Thursday Rec Lg. -  Fall  2024 - Paddle Up Pickleball Club
LOCATION:FMG Court 6
CATEGORIES:QuickScores, Pickleball Game
TRANSP:OPAQUE
BEGIN:VALARM
TRIGGER:-PT2H
ACTION:DISPLAY
DESCRIPTION:Wichern/Wichern vs. DuBois/Shouse
END:VALARM
END:VEVENT
BEGIN:VEVENT
UID:pupc-64849214-20241017T192000@quickscores.com
DTSTAMP:20260425T175100Z
DTSTART;TZID=America/Chicago:20241017T192000
DURATION:PT0H40M0S
SUMMARY:DuBois/Shouse vs. Goeke/Goeke
DESCRIPTION:Fmg Thursday Rec Lg. -  Fall  2024 - Paddle Up Pickleball Club
LOCATION:FMG Court 6
CATEGORIES:QuickScores, Pickleball Game
TRANSP:OPAQUE
BEGIN:VALARM
TRIGGER:-PT2H
ACTION:DISPLAY
DESCRIPTION:DuBois/Shouse vs. Goeke/Goeke
END:VALARM
END:VEVENT
BEGIN:VEVENT
UID:pupc-64849212-20241017T204000@quickscores.com
DTSTAMP:20260425T175100Z
DTSTART;TZID=America/Chicago:20241017T204000
DURATION:PT0H40M0S
SUMMARY:Baechle/Baechle vs. DuBois/Shouse
DESCRIPTION:Fmg Thursday Rec Lg. -  Fall  2024 - Paddle Up Pickleball Club
LOCATION:FMG Court 6
CATEGORIES:QuickScores, Pickleball Game
TRANSP:OPAQUE
BEGIN:VALARM
TRIGGER:-PT2H
ACTION:DISPLAY
DESCRIPTION:Baechle/Baechle vs. DuBois/Shouse
END:VALARM
END:VEVENT
BEGIN:VEVENT
UID:pupc-65701906-20241024T183000@quickscores.com
DTSTAMP:20260425T175100Z
DTSTART;TZID=America/Chicago:20241024T183000
DURATION:PT0H30M0S
SUMMARY:[6] DuBois/Shouse vs. [11] MatthewMabie/Hebson
DESCRIPTION:Fmg Thursday Rec Lg. -  Fall  2024 - Paddle Up Pickleball Club
LOCATION:FMG Court 6
CATEGORIES:QuickScores, Pickleball Game
TRANSP:OPAQUE
BEGIN:VALARM
TRIGGER:-PT2H
ACTION:DISPLAY
DESCRIPTION:[6] DuBois/Shouse vs. [11] MatthewMabie/Hebson
END:VALARM
END:VEVENT
END:VCALENDAR
