BEGIN:VCALENDAR
VERSION:2.0
PRODID:-//QuickScores.com//BQ Dynamic iCal Creator//EN
METHOD:PUBLISH
X-WR-CALNAME:Kite/Kempker - Fmg Thursday Rec Lg. -  Fall  2024 - Completed Leagues 2023/24
X-WR-CALDESC:QuickScores game calendar
X-PUBLISHED-TTL:PT24H
REFRESH-INTERVAL;VALUE=DURATION:PT24H
CALSCALE:GREGORIAN
BEGIN:VTIMEZONE
TZID:America/Chicago
X-LIC-LOCATION:America/Chicago
BEGIN:DAYLIGHT
TZNAME:CDT
TZOFFSETFROM:-0600
TZOFFSETTO:-0500
DTSTART:19700308T020000
RRULE:FREQ=YEARLY;BYMONTH=3;BYDAY=2SU
END:DAYLIGHT
BEGIN:STANDARD
TZNAME:CST
TZOFFSETFROM:-0500
TZOFFSETTO:-0600
DTSTART:19701101T020000
RRULE:FREQ=YEARLY;BYMONTH=11;BYDAY=1SU
END:STANDARD
END:VTIMEZONE
BEGIN:VEVENT
UID:pupc-64849149-20240912T184000@quickscores.com
DTSTAMP:20260423T222600Z
DTSTART;TZID=America/Chicago:20240912T184000
DURATION:PT0H40M0S
SUMMARY:Kite/Kempker vs. JennyBodmer/AngieSims
DESCRIPTION:Fmg Thursday Rec Lg. -  Fall  2024 - Paddle Up Pickleball Club
LOCATION:FMG Court 6
CATEGORIES:QuickScores, Pickleball Game
TRANSP:OPAQUE
BEGIN:VALARM
TRIGGER:-PT2H
ACTION:DISPLAY
DESCRIPTION:Kite/Kempker vs. JennyBodmer/AngieSims
END:VALARM
END:VEVENT
BEGIN:VEVENT
UID:pupc-64849148-20240912T192000@quickscores.com
DTSTAMP:20260423T222600Z
DTSTART;TZID=America/Chicago:20240912T192000
DURATION:PT0H40M0S
SUMMARY:Kite/Kempker vs. Zeisler/Zeisler
DESCRIPTION:Fmg Thursday Rec Lg. -  Fall  2024 - Paddle Up Pickleball Club
LOCATION:FMG Court 5
CATEGORIES:QuickScores, Pickleball Game
TRANSP:OPAQUE
BEGIN:VALARM
TRIGGER:-PT2H
ACTION:DISPLAY
DESCRIPTION:Kite/Kempker vs. Zeisler/Zeisler
END:VALARM
END:VEVENT
BEGIN:VEVENT
UID:pupc-64849162-20240919T180000@quickscores.com
DTSTAMP:20260423T222600Z
DTSTART;TZID=America/Chicago:20240919T180000
DURATION:PT0H40M0S
SUMMARY:Toeniskoetter/Toeniskoetter vs. Kite/Kempker
DESCRIPTION:Fmg Thursday Rec Lg. -  Fall  2024 - Paddle Up Pickleball Club
LOCATION:FMG Court 4
CATEGORIES:QuickScores, Pickleball Game
TRANSP:OPAQUE
BEGIN:VALARM
TRIGGER:-PT2H
ACTION:DISPLAY
DESCRIPTION:Toeniskoetter/Toeniskoetter vs. Kite/Kempker
END:VALARM
END:VEVENT
BEGIN:VEVENT
UID:pupc-64849163-20240919T184000@quickscores.com
DTSTAMP:20260423T222600Z
DTSTART;TZID=America/Chicago:20240919T184000
DURATION:PT0H40M0S
SUMMARY:DuBois/Shouse vs. Kite/Kempker
DESCRIPTION:Fmg Thursday Rec Lg. -  Fall  2024 - Paddle Up Pickleball Club
LOCATION:FMG Court 5
CATEGORIES:QuickScores, Pickleball Game
TRANSP:OPAQUE
BEGIN:VALARM
TRIGGER:-PT2H
ACTION:DISPLAY
DESCRIPTION:DuBois/Shouse vs. Kite/Kempker
END:VALARM
END:VEVENT
BEGIN:VEVENT
UID:pupc-64849173-20241003T192000@quickscores.com
DTSTAMP:20260423T222600Z
DTSTART;TZID=America/Chicago:20241003T192000
DURATION:PT0H40M0S
SUMMARY:Kite/Kempker vs. Summers/Stugart
DESCRIPTION:Fmg Thursday Rec Lg. -  Fall  2024 - Paddle Up Pickleball Club
LOCATION:FMG Court 6
CATEGORIES:QuickScores, Pickleball Game
TRANSP:OPAQUE
BEGIN:VALARM
TRIGGER:-PT2H
ACTION:DISPLAY
DESCRIPTION:Kite/Kempker vs. Summers/Stugart
END:VALARM
END:VEVENT
BEGIN:VEVENT
UID:pupc-64849176-20241003T200000@quickscores.com
DTSTAMP:20260423T222600Z
DTSTART;TZID=America/Chicago:20241003T200000
DURATION:PT0H40M0S
SUMMARY:Kite/Kempker vs. Maesaka/Proost
DESCRIPTION:Fmg Thursday Rec Lg. -  Fall  2024 - Paddle Up Pickleball Club
LOCATION:FMG Court 4
CATEGORIES:QuickScores, Pickleball Game
TRANSP:OPAQUE
BEGIN:VALARM
TRIGGER:-PT2H
ACTION:DISPLAY
DESCRIPTION:Kite/Kempker vs. Maesaka/Proost
END:VALARM
END:VEVENT
BEGIN:VEVENT
UID:pupc-64849185-20241010T200000@quickscores.com
DTSTAMP:20260423T222600Z
DTSTART;TZID=America/Chicago:20241010T200000
DURATION:PT0H40M0S
SUMMARY:EvelynMabie/Stegner vs. Kite/Kempker
DESCRIPTION:Fmg Thursday Rec Lg. -  Fall  2024 - Paddle Up Pickleball Club
LOCATION:FMG Court 4
CATEGORIES:QuickScores, Pickleball Game
TRANSP:OPAQUE
BEGIN:VALARM
TRIGGER:-PT2H
ACTION:DISPLAY
DESCRIPTION:EvelynMabie/Stegner vs. Kite/Kempker
END:VALARM
END:VEVENT
BEGIN:VEVENT
UID:pupc-64849186-20241010T204000@quickscores.com
DTSTAMP:20260423T222600Z
DTSTART;TZID=America/Chicago:20241010T204000
DURATION:PT0H40M0S
SUMMARY:Rable/Rable vs. Kite/Kempker
DESCRIPTION:Fmg Thursday Rec Lg. -  Fall  2024 - Paddle Up Pickleball Club
LOCATION:FMG Court 4
CATEGORIES:QuickScores, Pickleball Game
TRANSP:OPAQUE
BEGIN:VALARM
TRIGGER:-PT2H
ACTION:DISPLAY
DESCRIPTION:Rable/Rable vs. Kite/Kempker
END:VALARM
END:VEVENT
BEGIN:VEVENT
UID:pupc-64849216-20241017T180000@quickscores.com
DTSTAMP:20260423T222600Z
DTSTART;TZID=America/Chicago:20241017T180000
DURATION:PT0H40M0S
SUMMARY:Kite/Kempker vs. MatthewMabie/Hebson
DESCRIPTION:Fmg Thursday Rec Lg. -  Fall  2024 - Paddle Up Pickleball Club
LOCATION:FMG Court 6
CATEGORIES:QuickScores, Pickleball Game
TRANSP:OPAQUE
BEGIN:VALARM
TRIGGER:-PT2H
ACTION:DISPLAY
DESCRIPTION:Kite/Kempker vs. MatthewMabie/Hebson
END:VALARM
END:VEVENT
BEGIN:VEVENT
UID:pupc-64849209-20241017T184000@quickscores.com
DTSTAMP:20260423T222600Z
DTSTART;TZID=America/Chicago:20241017T184000
DURATION:PT0H40M0S
SUMMARY:Kite/Kempker vs. Stiers/Schiffer
DESCRIPTION:Fmg Thursday Rec Lg. -  Fall  2024 - Paddle Up Pickleball Club
LOCATION:FMG Court 5
CATEGORIES:QuickScores, Pickleball Game
TRANSP:OPAQUE
BEGIN:VALARM
TRIGGER:-PT2H
ACTION:DISPLAY
DESCRIPTION:Kite/Kempker vs. Stiers/Schiffer
END:VALARM
END:VEVENT
BEGIN:VEVENT
UID:pupc-65701904-20241024T183000@quickscores.com
DTSTAMP:20260423T222600Z
DTSTART;TZID=America/Chicago:20241024T183000
DURATION:PT0H30M0S
SUMMARY:[7] Kite/Kempker vs. [10] EvelynMabie/Stegner
DESCRIPTION:Fmg Thursday Rec Lg. -  Fall  2024 - Paddle Up Pickleball Club
LOCATION:FMG Court 2
CATEGORIES:QuickScores, Pickleball Game
TRANSP:OPAQUE
BEGIN:VALARM
TRIGGER:-PT2H
ACTION:DISPLAY
DESCRIPTION:[7] Kite/Kempker vs. [10] EvelynMabie/Stegner
END:VALARM
END:VEVENT
END:VCALENDAR
