BEGIN:VCALENDAR
VERSION:2.0
PRODID:-//QuickScores.com//BQ Dynamic iCal Creator//EN
METHOD:PUBLISH
X-WR-CALNAME:Zeisler/Zeisler - Fmg Thursday Rec Lg. -  Fall  2024 - Completed Leagues 2023/24
X-WR-CALDESC:QuickScores game calendar
X-PUBLISHED-TTL:PT24H
REFRESH-INTERVAL;VALUE=DURATION:PT24H
CALSCALE:GREGORIAN
BEGIN:VTIMEZONE
TZID:America/Chicago
X-LIC-LOCATION:America/Chicago
BEGIN:DAYLIGHT
TZNAME:CDT
TZOFFSETFROM:-0600
TZOFFSETTO:-0500
DTSTART:19700308T020000
RRULE:FREQ=YEARLY;BYMONTH=3;BYDAY=2SU
END:DAYLIGHT
BEGIN:STANDARD
TZNAME:CST
TZOFFSETFROM:-0500
TZOFFSETTO:-0600
DTSTART:19701101T020000
RRULE:FREQ=YEARLY;BYMONTH=11;BYDAY=1SU
END:STANDARD
END:VTIMEZONE
BEGIN:VEVENT
UID:pupc-64849147-20240912T180000@quickscores.com
DTSTAMP:20260424T074000Z
DTSTART;TZID=America/Chicago:20240912T180000
DURATION:PT0H40M0S
SUMMARY:Reiter/Gregory vs. Zeisler/Zeisler
DESCRIPTION:Fmg Thursday Rec Lg. -  Fall  2024 - Paddle Up Pickleball Club
LOCATION:FMG Court 5
CATEGORIES:QuickScores, Pickleball Game
TRANSP:OPAQUE
BEGIN:VALARM
TRIGGER:-PT2H
ACTION:DISPLAY
DESCRIPTION:Reiter/Gregory vs. Zeisler/Zeisler
END:VALARM
END:VEVENT
BEGIN:VEVENT
UID:pupc-64849148-20240912T192000@quickscores.com
DTSTAMP:20260424T074000Z
DTSTART;TZID=America/Chicago:20240912T192000
DURATION:PT0H40M0S
SUMMARY:Kite/Kempker vs. Zeisler/Zeisler
DESCRIPTION:Fmg Thursday Rec Lg. -  Fall  2024 - Paddle Up Pickleball Club
LOCATION:FMG Court 5
CATEGORIES:QuickScores, Pickleball Game
TRANSP:OPAQUE
BEGIN:VALARM
TRIGGER:-PT2H
ACTION:DISPLAY
DESCRIPTION:Kite/Kempker vs. Zeisler/Zeisler
END:VALARM
END:VEVENT
BEGIN:VEVENT
UID:pupc-64849154-20240919T192000@quickscores.com
DTSTAMP:20260424T074000Z
DTSTART;TZID=America/Chicago:20240919T192000
DURATION:PT0H40M0S
SUMMARY:Zeisler/Zeisler vs. Summers/Stugart
DESCRIPTION:Fmg Thursday Rec Lg. -  Fall  2024 - Paddle Up Pickleball Club
LOCATION:FMG Court 4
CATEGORIES:QuickScores, Pickleball Game
TRANSP:OPAQUE
BEGIN:VALARM
TRIGGER:-PT2H
ACTION:DISPLAY
DESCRIPTION:Zeisler/Zeisler vs. Summers/Stugart
END:VALARM
END:VEVENT
BEGIN:VEVENT
UID:pupc-64849155-20240919T204000@quickscores.com
DTSTAMP:20260424T074000Z
DTSTART;TZID=America/Chicago:20240919T204000
DURATION:PT0H40M0S
SUMMARY:Zeisler/Zeisler vs. Wichern/Wichern
DESCRIPTION:Fmg Thursday Rec Lg. -  Fall  2024 - Paddle Up Pickleball Club
LOCATION:FMG Court 5
CATEGORIES:QuickScores, Pickleball Game
TRANSP:OPAQUE
BEGIN:VALARM
TRIGGER:-PT2H
ACTION:DISPLAY
DESCRIPTION:Zeisler/Zeisler vs. Wichern/Wichern
END:VALARM
END:VEVENT
BEGIN:VEVENT
UID:pupc-64849182-20241003T180000@quickscores.com
DTSTAMP:20260424T074000Z
DTSTART;TZID=America/Chicago:20241003T180000
DURATION:PT0H40M0S
SUMMARY:Zeisler/Zeisler vs. DuBois/Shouse
DESCRIPTION:Fmg Thursday Rec Lg. -  Fall  2024 - Paddle Up Pickleball Club
LOCATION:FMG Court 4
CATEGORIES:QuickScores, Pickleball Game
TRANSP:OPAQUE
BEGIN:VALARM
TRIGGER:-PT2H
ACTION:DISPLAY
DESCRIPTION:Zeisler/Zeisler vs. DuBois/Shouse
END:VALARM
END:VEVENT
BEGIN:VEVENT
UID:pupc-64849183-20241003T184000@quickscores.com
DTSTAMP:20260424T074000Z
DTSTART;TZID=America/Chicago:20241003T184000
DURATION:PT0H40M0S
SUMMARY:Zeisler/Zeisler vs. Baechle/Baechle
DESCRIPTION:Fmg Thursday Rec Lg. -  Fall  2024 - Paddle Up Pickleball Club
LOCATION:FMG Court 5
CATEGORIES:QuickScores, Pickleball Game
TRANSP:OPAQUE
BEGIN:VALARM
TRIGGER:-PT2H
ACTION:DISPLAY
DESCRIPTION:Zeisler/Zeisler vs. Baechle/Baechle
END:VALARM
END:VEVENT
BEGIN:VEVENT
UID:pupc-64849191-20241010T180000@quickscores.com
DTSTAMP:20260424T074000Z
DTSTART;TZID=America/Chicago:20241010T180000
DURATION:PT0H40M0S
SUMMARY:Zeisler/Zeisler vs. Goeke/Goeke
DESCRIPTION:Fmg Thursday Rec Lg. -  Fall  2024 - Paddle Up Pickleball Club
LOCATION:FMG Court 5
CATEGORIES:QuickScores, Pickleball Game
TRANSP:OPAQUE
BEGIN:VALARM
TRIGGER:-PT2H
ACTION:DISPLAY
DESCRIPTION:Zeisler/Zeisler vs. Goeke/Goeke
END:VALARM
END:VEVENT
BEGIN:VEVENT
UID:pupc-64849195-20241010T192000@quickscores.com
DTSTAMP:20260424T074000Z
DTSTART;TZID=America/Chicago:20241010T192000
DURATION:PT0H40M0S
SUMMARY:Maesaka/Proost vs. Zeisler/Zeisler
DESCRIPTION:Fmg Thursday Rec Lg. -  Fall  2024 - Paddle Up Pickleball Club
LOCATION:FMG Court 6
CATEGORIES:QuickScores, Pickleball Game
TRANSP:OPAQUE
BEGIN:VALARM
TRIGGER:-PT2H
ACTION:DISPLAY
DESCRIPTION:Maesaka/Proost vs. Zeisler/Zeisler
END:VALARM
END:VEVENT
BEGIN:VEVENT
UID:pupc-64849206-20241017T200000@quickscores.com
DTSTAMP:20260424T074000Z
DTSTART;TZID=America/Chicago:20241017T200000
DURATION:PT0H40M0S
SUMMARY:EvelynMabie/Stegner vs. Zeisler/Zeisler
DESCRIPTION:Fmg Thursday Rec Lg. -  Fall  2024 - Paddle Up Pickleball Club
LOCATION:FMG Court 5
CATEGORIES:QuickScores, Pickleball Game
TRANSP:OPAQUE
BEGIN:VALARM
TRIGGER:-PT2H
ACTION:DISPLAY
DESCRIPTION:EvelynMabie/Stegner vs. Zeisler/Zeisler
END:VALARM
END:VEVENT
BEGIN:VEVENT
UID:pupc-64849203-20241017T204000@quickscores.com
DTSTAMP:20260424T074000Z
DTSTART;TZID=America/Chicago:20241017T204000
DURATION:PT0H40M0S
SUMMARY:Zeisler/Zeisler vs. Summers/Stugart
DESCRIPTION:Fmg Thursday Rec Lg. -  Fall  2024 - Paddle Up Pickleball Club
LOCATION:FMG Court 4
CATEGORIES:QuickScores, Pickleball Game
TRANSP:OPAQUE
BEGIN:VALARM
TRIGGER:-PT2H
ACTION:DISPLAY
DESCRIPTION:Zeisler/Zeisler vs. Summers/Stugart
END:VALARM
END:VEVENT
BEGIN:VEVENT
UID:pupc-65701907-20241024T190000@quickscores.com
DTSTAMP:20260424T074000Z
DTSTART;TZID=America/Chicago:20241024T190000
DURATION:PT0H30M0S
SUMMARY:[1] Zeisler/Zeisler vs. Winner of Game 1
DESCRIPTION:Fmg Thursday Rec Lg. -  Fall  2024 - Paddle Up Pickleball Club
LOCATION:FMG Court 2
CATEGORIES:QuickScores, Pickleball Game
TRANSP:OPAQUE
BEGIN:VALARM
TRIGGER:-PT2H
ACTION:DISPLAY
DESCRIPTION:[1] Zeisler/Zeisler vs. Winner of Game 1
END:VALARM
END:VEVENT
END:VCALENDAR
