BEGIN:VCALENDAR
VERSION:2.0
PRODID:-//QuickScores.com//BQ Dynamic iCal Creator//EN
METHOD:PUBLISH
X-WR-CALNAME:JennyBodmer/AngieSims - Fmg Thursday Rec Lg. -  Fall  2024 - Completed Leagues 2023/24
X-WR-CALDESC:QuickScores game calendar
X-PUBLISHED-TTL:PT24H
REFRESH-INTERVAL;VALUE=DURATION:PT24H
CALSCALE:GREGORIAN
BEGIN:VTIMEZONE
TZID:America/Chicago
X-LIC-LOCATION:America/Chicago
BEGIN:DAYLIGHT
TZNAME:CDT
TZOFFSETFROM:-0600
TZOFFSETTO:-0500
DTSTART:19700308T020000
RRULE:FREQ=YEARLY;BYMONTH=3;BYDAY=2SU
END:DAYLIGHT
BEGIN:STANDARD
TZNAME:CST
TZOFFSETFROM:-0500
TZOFFSETTO:-0600
DTSTART:19701101T020000
RRULE:FREQ=YEARLY;BYMONTH=11;BYDAY=1SU
END:STANDARD
END:VTIMEZONE
BEGIN:VEVENT
UID:pupc-64849150-20240912T180000@quickscores.com
DTSTAMP:20260424T104800Z
DTSTART;TZID=America/Chicago:20240912T180000
DURATION:PT0H40M0S
SUMMARY:Summers/Stugart vs. JennyBodmer/AngieSims
DESCRIPTION:Fmg Thursday Rec Lg. -  Fall  2024 - Paddle Up Pickleball Club
LOCATION:FMG Court 6
CATEGORIES:QuickScores, Pickleball Game
TRANSP:OPAQUE
BEGIN:VALARM
TRIGGER:-PT2H
ACTION:DISPLAY
DESCRIPTION:Summers/Stugart vs. JennyBodmer/AngieSims
END:VALARM
END:VEVENT
BEGIN:VEVENT
UID:pupc-64849149-20240912T184000@quickscores.com
DTSTAMP:20260424T104800Z
DTSTART;TZID=America/Chicago:20240912T184000
DURATION:PT0H40M0S
SUMMARY:Kite/Kempker vs. JennyBodmer/AngieSims
DESCRIPTION:Fmg Thursday Rec Lg. -  Fall  2024 - Paddle Up Pickleball Club
LOCATION:FMG Court 6
CATEGORIES:QuickScores, Pickleball Game
TRANSP:OPAQUE
BEGIN:VALARM
TRIGGER:-PT2H
ACTION:DISPLAY
DESCRIPTION:Kite/Kempker vs. JennyBodmer/AngieSims
END:VALARM
END:VEVENT
BEGIN:VEVENT
UID:pupc-64849164-20240919T180000@quickscores.com
DTSTAMP:20260424T104800Z
DTSTART;TZID=America/Chicago:20240919T180000
DURATION:PT0H40M0S
SUMMARY:JennyBodmer/AngieSims vs. DuBois/Shouse
DESCRIPTION:Fmg Thursday Rec Lg. -  Fall  2024 - Paddle Up Pickleball Club
LOCATION:FMG Court 5
CATEGORIES:QuickScores, Pickleball Game
TRANSP:OPAQUE
BEGIN:VALARM
TRIGGER:-PT2H
ACTION:DISPLAY
DESCRIPTION:JennyBodmer/AngieSims vs. DuBois/Shouse
END:VALARM
END:VEVENT
BEGIN:VEVENT
UID:pupc-64849165-20240919T192000@quickscores.com
DTSTAMP:20260424T104800Z
DTSTART;TZID=America/Chicago:20240919T192000
DURATION:PT0H40M0S
SUMMARY:JennyBodmer/AngieSims vs. Reiter/Gregory
DESCRIPTION:Fmg Thursday Rec Lg. -  Fall  2024 - Paddle Up Pickleball Club
LOCATION:FMG Court 5
CATEGORIES:QuickScores, Pickleball Game
TRANSP:OPAQUE
BEGIN:VALARM
TRIGGER:-PT2H
ACTION:DISPLAY
DESCRIPTION:JennyBodmer/AngieSims vs. Reiter/Gregory
END:VALARM
END:VEVENT
BEGIN:VEVENT
UID:pupc-64849197-20241010T200000@quickscores.com
DTSTAMP:20260424T104800Z
DTSTART;TZID=America/Chicago:20241010T200000
DURATION:PT0H40M0S
SUMMARY:JennyBodmer/AngieSims vs. Baechle/Baechle
DESCRIPTION:Fmg Thursday Rec Lg. -  Fall  2024 - Paddle Up Pickleball Club
LOCATION:FMG Court 6
CATEGORIES:QuickScores, Pickleball Game
TRANSP:OPAQUE
BEGIN:VALARM
TRIGGER:-PT2H
ACTION:DISPLAY
DESCRIPTION:JennyBodmer/AngieSims vs. Baechle/Baechle
END:VALARM
END:VEVENT
BEGIN:VEVENT
UID:pupc-64849198-20241010T204000@quickscores.com
DTSTAMP:20260424T104800Z
DTSTART;TZID=America/Chicago:20241010T204000
DURATION:PT0H40M0S
SUMMARY:Toeniskoetter/Toeniskoetter vs. JennyBodmer/AngieSims
DESCRIPTION:Fmg Thursday Rec Lg. -  Fall  2024 - Paddle Up Pickleball Club
LOCATION:FMG Court 5
CATEGORIES:QuickScores, Pickleball Game
TRANSP:OPAQUE
BEGIN:VALARM
TRIGGER:-PT2H
ACTION:DISPLAY
DESCRIPTION:Toeniskoetter/Toeniskoetter vs. JennyBodmer/AngieSims
END:VALARM
END:VEVENT
BEGIN:VEVENT
UID:pupc-64849208-20241017T180000@quickscores.com
DTSTAMP:20260424T104800Z
DTSTART;TZID=America/Chicago:20241017T180000
DURATION:PT0H40M0S
SUMMARY:Stiers/Schiffer vs. JennyBodmer/AngieSims
DESCRIPTION:Fmg Thursday Rec Lg. -  Fall  2024 - Paddle Up Pickleball Club
LOCATION:FMG Court 4
CATEGORIES:QuickScores, Pickleball Game
TRANSP:OPAQUE
BEGIN:VALARM
TRIGGER:-PT2H
ACTION:DISPLAY
DESCRIPTION:Stiers/Schiffer vs. JennyBodmer/AngieSims
END:VALARM
END:VEVENT
BEGIN:VEVENT
UID:pupc-64849211-20241017T192000@quickscores.com
DTSTAMP:20260424T104800Z
DTSTART;TZID=America/Chicago:20241017T192000
DURATION:PT0H40M0S
SUMMARY:JennyBodmer/AngieSims vs. Hutson/Hutson
DESCRIPTION:Fmg Thursday Rec Lg. -  Fall  2024 - Paddle Up Pickleball Club
LOCATION:FMG Court 5
CATEGORIES:QuickScores, Pickleball Game
TRANSP:OPAQUE
BEGIN:VALARM
TRIGGER:-PT2H
ACTION:DISPLAY
DESCRIPTION:JennyBodmer/AngieSims vs. Hutson/Hutson
END:VALARM
END:VEVENT
BEGIN:VEVENT
UID:pupc-65701905-20241024T183000@quickscores.com
DTSTAMP:20260424T104800Z
DTSTART;TZID=America/Chicago:20241024T183000
DURATION:PT0H30M0S
SUMMARY:[3] Summers/Stugart vs. [14] JennyBodmer/AngieSims
DESCRIPTION:Fmg Thursday Rec Lg. -  Fall  2024 - Paddle Up Pickleball Club
LOCATION:FMG Court 4
CATEGORIES:QuickScores, Pickleball Game
TRANSP:OPAQUE
BEGIN:VALARM
TRIGGER:-PT2H
ACTION:DISPLAY
DESCRIPTION:[3] Summers/Stugart vs. [14] JennyBodmer/AngieSims
END:VALARM
END:VEVENT
END:VCALENDAR
