BEGIN:VCALENDAR
VERSION:2.0
PRODID:-//QuickScores.com//BQ Dynamic iCal Creator//EN
METHOD:PUBLISH
X-WR-CALNAME:Reiter/Gregory - Fmg Thursday Rec Lg. -  Fall  2024 - Completed Leagues 2023/24
X-WR-CALDESC:QuickScores game calendar
X-PUBLISHED-TTL:PT24H
REFRESH-INTERVAL;VALUE=DURATION:PT24H
CALSCALE:GREGORIAN
BEGIN:VTIMEZONE
TZID:America/Chicago
X-LIC-LOCATION:America/Chicago
BEGIN:DAYLIGHT
TZNAME:CDT
TZOFFSETFROM:-0600
TZOFFSETTO:-0500
DTSTART:19700308T020000
RRULE:FREQ=YEARLY;BYMONTH=3;BYDAY=2SU
END:DAYLIGHT
BEGIN:STANDARD
TZNAME:CST
TZOFFSETFROM:-0500
TZOFFSETTO:-0600
DTSTART:19701101T020000
RRULE:FREQ=YEARLY;BYMONTH=11;BYDAY=1SU
END:STANDARD
END:VTIMEZONE
BEGIN:VEVENT
UID:pupc-64849147-20240912T180000@quickscores.com
DTSTAMP:20260425T162300Z
DTSTART;TZID=America/Chicago:20240912T180000
DURATION:PT0H40M0S
SUMMARY:Reiter/Gregory vs. Zeisler/Zeisler
DESCRIPTION:Fmg Thursday Rec Lg. -  Fall  2024 - Paddle Up Pickleball Club
LOCATION:FMG Court 5
CATEGORIES:QuickScores, Pickleball Game
TRANSP:OPAQUE
BEGIN:VALARM
TRIGGER:-PT2H
ACTION:DISPLAY
DESCRIPTION:Reiter/Gregory vs. Zeisler/Zeisler
END:VALARM
END:VEVENT
BEGIN:VEVENT
UID:pupc-64849146-20240912T184000@quickscores.com
DTSTAMP:20260425T162300Z
DTSTART;TZID=America/Chicago:20240912T184000
DURATION:PT0H40M0S
SUMMARY:Reiter/Gregory vs. Toeniskoetter/Toeniskoetter
DESCRIPTION:Fmg Thursday Rec Lg. -  Fall  2024 - Paddle Up Pickleball Club
LOCATION:FMG Court 5
CATEGORIES:QuickScores, Pickleball Game
TRANSP:OPAQUE
BEGIN:VALARM
TRIGGER:-PT2H
ACTION:DISPLAY
DESCRIPTION:Reiter/Gregory vs. Toeniskoetter/Toeniskoetter
END:VALARM
END:VEVENT
BEGIN:VEVENT
UID:pupc-64849165-20240919T192000@quickscores.com
DTSTAMP:20260425T162300Z
DTSTART;TZID=America/Chicago:20240919T192000
DURATION:PT0H40M0S
SUMMARY:JennyBodmer/AngieSims vs. Reiter/Gregory
DESCRIPTION:Fmg Thursday Rec Lg. -  Fall  2024 - Paddle Up Pickleball Club
LOCATION:FMG Court 5
CATEGORIES:QuickScores, Pickleball Game
TRANSP:OPAQUE
BEGIN:VALARM
TRIGGER:-PT2H
ACTION:DISPLAY
DESCRIPTION:JennyBodmer/AngieSims vs. Reiter/Gregory
END:VALARM
END:VEVENT
BEGIN:VEVENT
UID:pupc-64849166-20240919T204000@quickscores.com
DTSTAMP:20260425T162300Z
DTSTART;TZID=America/Chicago:20240919T204000
DURATION:PT0H40M0S
SUMMARY:Goeke/Goeke vs. Reiter/Gregory
DESCRIPTION:Fmg Thursday Rec Lg. -  Fall  2024 - Paddle Up Pickleball Club
LOCATION:FMG Court 6
CATEGORIES:QuickScores, Pickleball Game
TRANSP:OPAQUE
BEGIN:VALARM
TRIGGER:-PT2H
ACTION:DISPLAY
DESCRIPTION:Goeke/Goeke vs. Reiter/Gregory
END:VALARM
END:VEVENT
BEGIN:VEVENT
UID:pupc-64849180-20241003T180000@quickscores.com
DTSTAMP:20260425T162300Z
DTSTART;TZID=America/Chicago:20241003T180000
DURATION:PT0H40M0S
SUMMARY:Reiter/Gregory vs. Rable/Rable
DESCRIPTION:Fmg Thursday Rec Lg. -  Fall  2024 - Paddle Up Pickleball Club
LOCATION:FMG Court 6
CATEGORIES:QuickScores, Pickleball Game
TRANSP:OPAQUE
BEGIN:VALARM
TRIGGER:-PT2H
ACTION:DISPLAY
DESCRIPTION:Reiter/Gregory vs. Rable/Rable
END:VALARM
END:VEVENT
BEGIN:VEVENT
UID:pupc-64849181-20241003T184000@quickscores.com
DTSTAMP:20260425T162300Z
DTSTART;TZID=America/Chicago:20241003T184000
DURATION:PT0H40M0S
SUMMARY:DuBois/Shouse vs. Reiter/Gregory
DESCRIPTION:Fmg Thursday Rec Lg. -  Fall  2024 - Paddle Up Pickleball Club
LOCATION:FMG Court 4
CATEGORIES:QuickScores, Pickleball Game
TRANSP:OPAQUE
BEGIN:VALARM
TRIGGER:-PT2H
ACTION:DISPLAY
DESCRIPTION:DuBois/Shouse vs. Reiter/Gregory
END:VALARM
END:VEVENT
BEGIN:VEVENT
UID:pupc-64849202-20241017T200000@quickscores.com
DTSTAMP:20260425T162300Z
DTSTART;TZID=America/Chicago:20241017T200000
DURATION:PT0H40M0S
SUMMARY:Reiter/Gregory vs. Hutson/Hutson
DESCRIPTION:Fmg Thursday Rec Lg. -  Fall  2024 - Paddle Up Pickleball Club
LOCATION:FMG Court 4
CATEGORIES:QuickScores, Pickleball Game
TRANSP:OPAQUE
BEGIN:VALARM
TRIGGER:-PT2H
ACTION:DISPLAY
DESCRIPTION:Reiter/Gregory vs. Hutson/Hutson
END:VALARM
END:VEVENT
BEGIN:VEVENT
UID:pupc-64849201-20241017T204000@quickscores.com
DTSTAMP:20260425T162300Z
DTSTART;TZID=America/Chicago:20241017T204000
DURATION:PT0H40M0S
SUMMARY:EvelynMabie/Stegner vs. Reiter/Gregory
DESCRIPTION:Fmg Thursday Rec Lg. -  Fall  2024 - Paddle Up Pickleball Club
LOCATION:FMG Court 3
CATEGORIES:QuickScores, Pickleball Game
TRANSP:OPAQUE
BEGIN:VALARM
TRIGGER:-PT2H
ACTION:DISPLAY
DESCRIPTION:EvelynMabie/Stegner vs. Reiter/Gregory
END:VALARM
END:VEVENT
BEGIN:VEVENT
UID:pupc-65701902-20241024T180000@quickscores.com
DTSTAMP:20260425T162300Z
DTSTART;TZID=America/Chicago:20241024T180000
DURATION:PT0H30M0S
SUMMARY:[5] Hutson/Hutson vs. [12] Reiter/Gregory
DESCRIPTION:Fmg Thursday Rec Lg. -  Fall  2024 - Paddle Up Pickleball Club
LOCATION:FMG Court 6
CATEGORIES:QuickScores, Pickleball Game
TRANSP:OPAQUE
BEGIN:VALARM
TRIGGER:-PT2H
ACTION:DISPLAY
DESCRIPTION:[5] Hutson/Hutson vs. [12] Reiter/Gregory
END:VALARM
END:VEVENT
END:VCALENDAR
