BEGIN:VCALENDAR
VERSION:2.0
PRODID:-//QuickScores.com//BQ Dynamic iCal Creator//EN
METHOD:PUBLISH
X-WR-CALNAME:Pullium/Weir - Forest Park Sunday High Int. Lg. - Late Summer 24 - Completed Leagues 2023/24
X-WR-CALDESC:QuickScores game calendar
X-PUBLISHED-TTL:PT24H
REFRESH-INTERVAL;VALUE=DURATION:PT24H
CALSCALE:GREGORIAN
BEGIN:VTIMEZONE
TZID:America/Chicago
X-LIC-LOCATION:America/Chicago
BEGIN:DAYLIGHT
TZNAME:CDT
TZOFFSETFROM:-0600
TZOFFSETTO:-0500
DTSTART:19700308T020000
RRULE:FREQ=YEARLY;BYMONTH=3;BYDAY=2SU
END:DAYLIGHT
BEGIN:STANDARD
TZNAME:CST
TZOFFSETFROM:-0500
TZOFFSETTO:-0600
DTSTART:19701101T020000
RRULE:FREQ=YEARLY;BYMONTH=11;BYDAY=1SU
END:STANDARD
END:VTIMEZONE
BEGIN:VEVENT
UID:pupc-64202734-20240728T184000@quickscores.com
DTSTAMP:20260421T102000Z
DTSTART;TZID=America/Chicago:20240728T184000
DURATION:PT0H40M0S
SUMMARY:Nichols/Nichols vs. Pullium/Weir
DESCRIPTION:Forest Park Sunday High Int. Lg. - Late Summer 24 - Paddle Up Pickleball Club
LOCATION:DDTC Court 21
CATEGORIES:QuickScores, Pickleball Game
TRANSP:OPAQUE
BEGIN:VALARM
TRIGGER:-PT2H
ACTION:DISPLAY
DESCRIPTION:Nichols/Nichols vs. Pullium/Weir
END:VALARM
END:VEVENT
BEGIN:VEVENT
UID:pupc-64242936-20240728T192000@quickscores.com
DTSTAMP:20260421T102000Z
DTSTART;TZID=America/Chicago:20240728T192000
DURATION:PT0H40M0S
SUMMARY:Pullium/Weir vs. Knuteson/Jana
DESCRIPTION:Forest Park Sunday High Int. Lg. - Late Summer 24 - Paddle Up Pickleball Club
LOCATION:DDTC Court 11S
CATEGORIES:QuickScores, Pickleball Game
TRANSP:OPAQUE
BEGIN:VALARM
TRIGGER:-PT2H
ACTION:DISPLAY
DESCRIPTION:Pullium/Weir vs. Knuteson/Jana
END:VALARM
END:VEVENT
BEGIN:VEVENT
UID:pupc-64202751-20240811T180000@quickscores.com
DTSTAMP:20260421T102000Z
DTSTART;TZID=America/Chicago:20240811T180000
DURATION:PT0H40M0S
SUMMARY:Knuteson/Jana vs. Pullium/Weir
DESCRIPTION:Forest Park Sunday High Int. Lg. - Late Summer 24 - Paddle Up Pickleball Club
LOCATION:DDTC Court 22
CATEGORIES:QuickScores, Pickleball Game
TRANSP:OPAQUE
BEGIN:VALARM
TRIGGER:-PT2H
ACTION:DISPLAY
DESCRIPTION:Knuteson/Jana vs. Pullium/Weir
END:VALARM
END:VEVENT
BEGIN:VEVENT
UID:pupc-64296385-20240811T184000@quickscores.com
DTSTAMP:20260421T102000Z
DTSTART;TZID=America/Chicago:20240811T184000
DURATION:PT0H40M0S
SUMMARY:Pullium/Weir vs. Lee/Palavalli
DESCRIPTION:Forest Park Sunday High Int. Lg. - Late Summer 24 - Paddle Up Pickleball Club
LOCATION:DDTC Court 12N
CATEGORIES:QuickScores, Pickleball Game
TRANSP:OPAQUE
BEGIN:VALARM
TRIGGER:-PT2H
ACTION:DISPLAY
DESCRIPTION:Pullium/Weir vs. Lee/Palavalli
END:VALARM
END:VEVENT
BEGIN:VEVENT
UID:pupc-64236217-20240818T180000@quickscores.com
DTSTAMP:20260421T102000Z
DTSTART;TZID=America/Chicago:20240818T180000
DURATION:PT0H40M0S
SUMMARY:Gorman/Gorman vs. Pullium/Weir
DESCRIPTION:Forest Park Sunday High Int. Lg. - Late Summer 24 - Paddle Up Pickleball Club
LOCATION:DDTC Court 11S
CATEGORIES:QuickScores, Pickleball Game
TRANSP:OPAQUE
BEGIN:VALARM
TRIGGER:-PT2H
ACTION:DISPLAY
DESCRIPTION:Gorman/Gorman vs. Pullium/Weir
END:VALARM
END:VEVENT
BEGIN:VEVENT
UID:pupc-64242939-20240818T192000@quickscores.com
DTSTAMP:20260421T102000Z
DTSTART;TZID=America/Chicago:20240818T192000
DURATION:PT0H40M0S
SUMMARY:Pullium/Weir vs. Flinn/Turner
DESCRIPTION:Forest Park Sunday High Int. Lg. - Late Summer 24 - Paddle Up Pickleball Club
LOCATION:DDTC Court 21
CATEGORIES:QuickScores, Pickleball Game
TRANSP:OPAQUE
BEGIN:VALARM
TRIGGER:-PT2H
ACTION:DISPLAY
DESCRIPTION:Pullium/Weir vs. Flinn/Turner
END:VALARM
END:VEVENT
BEGIN:VEVENT
UID:pupc-64202760-20240825T180000@quickscores.com
DTSTAMP:20260421T102000Z
DTSTART;TZID=America/Chicago:20240825T180000
DURATION:PT0H40M0S
SUMMARY:Pullium/Weir vs. Nichols/Nichols
DESCRIPTION:Forest Park Sunday High Int. Lg. - Late Summer 24 - Paddle Up Pickleball Club
LOCATION:DDTC Court 22
CATEGORIES:QuickScores, Pickleball Game
TRANSP:OPAQUE
BEGIN:VALARM
TRIGGER:-PT2H
ACTION:DISPLAY
DESCRIPTION:Pullium/Weir vs. Nichols/Nichols
END:VALARM
END:VEVENT
BEGIN:VEVENT
UID:pupc-64242940-20240825T192000@quickscores.com
DTSTAMP:20260421T102000Z
DTSTART;TZID=America/Chicago:20240825T192000
DURATION:PT0H40M0S
SUMMARY:Pullium/Weir vs. Ringkamp/Goble
DESCRIPTION:Forest Park Sunday High Int. Lg. - Late Summer 24 - Paddle Up Pickleball Club
LOCATION:DDTC Court 11S
CATEGORIES:QuickScores, Pickleball Game
TRANSP:OPAQUE
BEGIN:VALARM
TRIGGER:-PT2H
ACTION:DISPLAY
DESCRIPTION:Pullium/Weir vs. Ringkamp/Goble
END:VALARM
END:VEVENT
BEGIN:VEVENT
UID:pupc-64884870-20240908T180000@quickscores.com
DTSTAMP:20260421T102000Z
DTSTART;TZID=America/Chicago:20240908T180000
DURATION:PT0H30M0S
SUMMARY:[6] Pullium/Weir vs. [11] Gorman/Gorman
DESCRIPTION:Forest Park Sunday High Int. Lg. - Late Summer 24 - Paddle Up Pickleball Club
LOCATION:DDTC Court 19
CATEGORIES:QuickScores, Pickleball Game
TRANSP:OPAQUE
BEGIN:VALARM
TRIGGER:-PT2H
ACTION:DISPLAY
DESCRIPTION:[6] Pullium/Weir vs. [11] Gorman/Gorman
END:VALARM
END:VEVENT
END:VCALENDAR
