BEGIN:VCALENDAR
VERSION:2.0
PRODID:-//QuickScores.com//BQ Dynamic iCal Creator//EN
METHOD:PUBLISH
X-WR-CALNAME:Gorman/Gorman - Forest Park Sunday High Int. Lg. - Late Summer 24 - Completed Leagues 2023/24
X-WR-CALDESC:QuickScores game calendar
X-PUBLISHED-TTL:PT24H
REFRESH-INTERVAL;VALUE=DURATION:PT24H
CALSCALE:GREGORIAN
BEGIN:VTIMEZONE
TZID:America/Chicago
X-LIC-LOCATION:America/Chicago
BEGIN:DAYLIGHT
TZNAME:CDT
TZOFFSETFROM:-0600
TZOFFSETTO:-0500
DTSTART:19700308T020000
RRULE:FREQ=YEARLY;BYMONTH=3;BYDAY=2SU
END:DAYLIGHT
BEGIN:STANDARD
TZNAME:CST
TZOFFSETFROM:-0500
TZOFFSETTO:-0600
DTSTART:19701101T020000
RRULE:FREQ=YEARLY;BYMONTH=11;BYDAY=1SU
END:STANDARD
END:VTIMEZONE
BEGIN:VEVENT
UID:pupc-64236214-20240728T180000@quickscores.com
DTSTAMP:20260421T102000Z
DTSTART;TZID=America/Chicago:20240728T180000
DURATION:PT0H40M0S
SUMMARY:Gorman/Gorman vs. Knuteson/Jana
DESCRIPTION:Forest Park Sunday High Int. Lg. - Late Summer 24 - Paddle Up Pickleball Club
LOCATION:DDTC Court 11S
CATEGORIES:QuickScores, Pickleball Game
TRANSP:OPAQUE
BEGIN:VALARM
TRIGGER:-PT2H
ACTION:DISPLAY
DESCRIPTION:Gorman/Gorman vs. Knuteson/Jana
END:VALARM
END:VEVENT
BEGIN:VEVENT
UID:pupc-64202735-20240728T192000@quickscores.com
DTSTAMP:20260421T102000Z
DTSTART;TZID=America/Chicago:20240728T192000
DURATION:PT0H40M0S
SUMMARY:Ringkamp/Goble vs. Gorman/Gorman
DESCRIPTION:Forest Park Sunday High Int. Lg. - Late Summer 24 - Paddle Up Pickleball Club
LOCATION:DDTC Court 21
CATEGORIES:QuickScores, Pickleball Game
TRANSP:OPAQUE
BEGIN:VALARM
TRIGGER:-PT2H
ACTION:DISPLAY
DESCRIPTION:Ringkamp/Goble vs. Gorman/Gorman
END:VALARM
END:VEVENT
BEGIN:VEVENT
UID:pupc-64202742-20240804T180000@quickscores.com
DTSTAMP:20260421T102000Z
DTSTART;TZID=America/Chicago:20240804T180000
DURATION:PT0H40M0S
SUMMARY:Gorman/Gorman vs. Rule/Rule
DESCRIPTION:Forest Park Sunday High Int. Lg. - Late Summer 24 - Paddle Up Pickleball Club
LOCATION:DDTC Court 22
CATEGORIES:QuickScores, Pickleball Game
TRANSP:OPAQUE
BEGIN:VALARM
TRIGGER:-PT2H
ACTION:DISPLAY
DESCRIPTION:Gorman/Gorman vs. Rule/Rule
END:VALARM
END:VEVENT
BEGIN:VEVENT
UID:pupc-64296384-20240804T184000@quickscores.com
DTSTAMP:20260421T102000Z
DTSTART;TZID=America/Chicago:20240804T184000
DURATION:PT0H40M0S
SUMMARY:Lee/Palavalli vs. Gorman/Gorman
DESCRIPTION:Forest Park Sunday High Int. Lg. - Late Summer 24 - Paddle Up Pickleball Club
LOCATION:DDTC Court 12N
CATEGORIES:QuickScores, Pickleball Game
TRANSP:OPAQUE
BEGIN:VALARM
TRIGGER:-PT2H
ACTION:DISPLAY
DESCRIPTION:Lee/Palavalli vs. Gorman/Gorman
END:VALARM
END:VEVENT
BEGIN:VEVENT
UID:pupc-64236216-20240811T180000@quickscores.com
DTSTAMP:20260421T102000Z
DTSTART;TZID=America/Chicago:20240811T180000
DURATION:PT0H40M0S
SUMMARY:Gorman/Gorman vs. Nichols/Nichols
DESCRIPTION:Forest Park Sunday High Int. Lg. - Late Summer 24 - Paddle Up Pickleball Club
LOCATION:DDTC Court 11S
CATEGORIES:QuickScores, Pickleball Game
TRANSP:OPAQUE
BEGIN:VALARM
TRIGGER:-PT2H
ACTION:DISPLAY
DESCRIPTION:Gorman/Gorman vs. Nichols/Nichols
END:VALARM
END:VEVENT
BEGIN:VEVENT
UID:pupc-64202746-20240811T192000@quickscores.com
DTSTAMP:20260421T102000Z
DTSTART;TZID=America/Chicago:20240811T192000
DURATION:PT0H40M0S
SUMMARY:Gorman/Gorman vs. Sussman/Klein
DESCRIPTION:Forest Park Sunday High Int. Lg. - Late Summer 24 - Paddle Up Pickleball Club
LOCATION:DDTC Court 22
CATEGORIES:QuickScores, Pickleball Game
TRANSP:OPAQUE
BEGIN:VALARM
TRIGGER:-PT2H
ACTION:DISPLAY
DESCRIPTION:Gorman/Gorman vs. Sussman/Klein
END:VALARM
END:VEVENT
BEGIN:VEVENT
UID:pupc-64236217-20240818T180000@quickscores.com
DTSTAMP:20260421T102000Z
DTSTART;TZID=America/Chicago:20240818T180000
DURATION:PT0H40M0S
SUMMARY:Gorman/Gorman vs. Pullium/Weir
DESCRIPTION:Forest Park Sunday High Int. Lg. - Late Summer 24 - Paddle Up Pickleball Club
LOCATION:DDTC Court 11S
CATEGORIES:QuickScores, Pickleball Game
TRANSP:OPAQUE
BEGIN:VALARM
TRIGGER:-PT2H
ACTION:DISPLAY
DESCRIPTION:Gorman/Gorman vs. Pullium/Weir
END:VALARM
END:VEVENT
BEGIN:VEVENT
UID:pupc-64227986-20240818T192000@quickscores.com
DTSTAMP:20260421T102000Z
DTSTART;TZID=America/Chicago:20240818T192000
DURATION:PT0H40M0S
SUMMARY:Gorman/Gorman vs. Brand/Webb
DESCRIPTION:Forest Park Sunday High Int. Lg. - Late Summer 24 - Paddle Up Pickleball Club
LOCATION:DDTC Court 11N
CATEGORIES:QuickScores, Pickleball Game
TRANSP:OPAQUE
BEGIN:VALARM
TRIGGER:-PT2H
ACTION:DISPLAY
DESCRIPTION:Gorman/Gorman vs. Brand/Webb
END:VALARM
END:VEVENT
BEGIN:VEVENT
UID:pupc-64236218-20240825T180000@quickscores.com
DTSTAMP:20260421T102000Z
DTSTART;TZID=America/Chicago:20240825T180000
DURATION:PT0H40M0S
SUMMARY:Gorman/Gorman vs. DeGraeve/Meiser
DESCRIPTION:Forest Park Sunday High Int. Lg. - Late Summer 24 - Paddle Up Pickleball Club
LOCATION:DDTC Court 21
CATEGORIES:QuickScores, Pickleball Game
TRANSP:OPAQUE
BEGIN:VALARM
TRIGGER:-PT2H
ACTION:DISPLAY
DESCRIPTION:Gorman/Gorman vs. DeGraeve/Meiser
END:VALARM
END:VEVENT
BEGIN:VEVENT
UID:pupc-64202762-20240825T192000@quickscores.com
DTSTAMP:20260421T102000Z
DTSTART;TZID=America/Chicago:20240825T192000
DURATION:PT0H40M0S
SUMMARY:Gorman/Gorman vs. Lee/Palavalli
DESCRIPTION:Forest Park Sunday High Int. Lg. - Late Summer 24 - Paddle Up Pickleball Club
LOCATION:DDTC Court 22
CATEGORIES:QuickScores, Pickleball Game
TRANSP:OPAQUE
BEGIN:VALARM
TRIGGER:-PT2H
ACTION:DISPLAY
DESCRIPTION:Gorman/Gorman vs. Lee/Palavalli
END:VALARM
END:VEVENT
BEGIN:VEVENT
UID:pupc-64884870-20240908T180000@quickscores.com
DTSTAMP:20260421T102000Z
DTSTART;TZID=America/Chicago:20240908T180000
DURATION:PT0H30M0S
SUMMARY:[6] Pullium/Weir vs. [11] Gorman/Gorman
DESCRIPTION:Forest Park Sunday High Int. Lg. - Late Summer 24 - Paddle Up Pickleball Club
LOCATION:DDTC Court 19
CATEGORIES:QuickScores, Pickleball Game
TRANSP:OPAQUE
BEGIN:VALARM
TRIGGER:-PT2H
ACTION:DISPLAY
DESCRIPTION:[6] Pullium/Weir vs. [11] Gorman/Gorman
END:VALARM
END:VEVENT
END:VCALENDAR
