BEGIN:VCALENDAR
VERSION:2.0
PRODID:-//QuickScores.com//BQ Dynamic iCal Creator//EN
METHOD:PUBLISH
X-WR-CALNAME:Brand/Webb - Forest Park Sunday High Int. Lg. - Late Summer 24 - Completed Leagues 2023/24
X-WR-CALDESC:QuickScores game calendar
X-PUBLISHED-TTL:PT24H
REFRESH-INTERVAL;VALUE=DURATION:PT24H
CALSCALE:GREGORIAN
BEGIN:VTIMEZONE
TZID:America/Chicago
X-LIC-LOCATION:America/Chicago
BEGIN:DAYLIGHT
TZNAME:CDT
TZOFFSETFROM:-0600
TZOFFSETTO:-0500
DTSTART:19700308T020000
RRULE:FREQ=YEARLY;BYMONTH=3;BYDAY=2SU
END:DAYLIGHT
BEGIN:STANDARD
TZNAME:CST
TZOFFSETFROM:-0500
TZOFFSETTO:-0600
DTSTART:19701101T020000
RRULE:FREQ=YEARLY;BYMONTH=11;BYDAY=1SU
END:STANDARD
END:VTIMEZONE
BEGIN:VEVENT
UID:pupc-64230648-20240728T180000@quickscores.com
DTSTAMP:20260425T152700Z
DTSTART;TZID=America/Chicago:20240728T180000
DURATION:PT0H40M0S
SUMMARY:DeGraeve/Meiser vs. Brand/Webb
DESCRIPTION:Forest Park Sunday High Int. Lg. - Late Summer 24 - Paddle Up Pickleball Club
LOCATION:DDTC Court 11N
CATEGORIES:QuickScores, Pickleball Game
TRANSP:OPAQUE
BEGIN:VALARM
TRIGGER:-PT2H
ACTION:DISPLAY
DESCRIPTION:DeGraeve/Meiser vs. Brand/Webb
END:VALARM
END:VEVENT
BEGIN:VEVENT
UID:pupc-64227983-20240728T184000@quickscores.com
DTSTAMP:20260425T152700Z
DTSTART;TZID=America/Chicago:20240728T184000
DURATION:PT0H40M0S
SUMMARY:Flinn/Turner vs. Brand/Webb
DESCRIPTION:Forest Park Sunday High Int. Lg. - Late Summer 24 - Paddle Up Pickleball Club
LOCATION:DDTC Court 11S
CATEGORIES:QuickScores, Pickleball Game
TRANSP:OPAQUE
BEGIN:VALARM
TRIGGER:-PT2H
ACTION:DISPLAY
DESCRIPTION:Flinn/Turner vs. Brand/Webb
END:VALARM
END:VEVENT
BEGIN:VEVENT
UID:pupc-64236215-20240804T180000@quickscores.com
DTSTAMP:20260425T152700Z
DTSTART;TZID=America/Chicago:20240804T180000
DURATION:PT0H40M0S
SUMMARY:Knuteson/Jana vs. Brand/Webb
DESCRIPTION:Forest Park Sunday High Int. Lg. - Late Summer 24 - Paddle Up Pickleball Club
LOCATION:DDTC Court 11S
CATEGORIES:QuickScores, Pickleball Game
TRANSP:OPAQUE
BEGIN:VALARM
TRIGGER:-PT2H
ACTION:DISPLAY
DESCRIPTION:Knuteson/Jana vs. Brand/Webb
END:VALARM
END:VEVENT
BEGIN:VEVENT
UID:pupc-64227984-20240804T192000@quickscores.com
DTSTAMP:20260425T152700Z
DTSTART;TZID=America/Chicago:20240804T192000
DURATION:PT0H40M0S
SUMMARY:Lee/Palavalli vs. Brand/Webb
DESCRIPTION:Forest Park Sunday High Int. Lg. - Late Summer 24 - Paddle Up Pickleball Club
LOCATION:DDTC Court 11N
CATEGORIES:QuickScores, Pickleball Game
TRANSP:OPAQUE
BEGIN:VALARM
TRIGGER:-PT2H
ACTION:DISPLAY
DESCRIPTION:Lee/Palavalli vs. Brand/Webb
END:VALARM
END:VEVENT
BEGIN:VEVENT
UID:pupc-64202747-20240811T184000@quickscores.com
DTSTAMP:20260425T152700Z
DTSTART;TZID=America/Chicago:20240811T184000
DURATION:PT0H40M0S
SUMMARY:Brand/Webb vs. Ringkamp/Goble
DESCRIPTION:Forest Park Sunday High Int. Lg. - Late Summer 24 - Paddle Up Pickleball Club
LOCATION:DDTC Court 21
CATEGORIES:QuickScores, Pickleball Game
TRANSP:OPAQUE
BEGIN:VALARM
TRIGGER:-PT2H
ACTION:DISPLAY
DESCRIPTION:Brand/Webb vs. Ringkamp/Goble
END:VALARM
END:VEVENT
BEGIN:VEVENT
UID:pupc-64227985-20240811T192000@quickscores.com
DTSTAMP:20260425T152700Z
DTSTART;TZID=America/Chicago:20240811T192000
DURATION:PT0H40M0S
SUMMARY:Rule/Rule vs. Brand/Webb
DESCRIPTION:Forest Park Sunday High Int. Lg. - Late Summer 24 - Paddle Up Pickleball Club
LOCATION:DDTC Court 11N
CATEGORIES:QuickScores, Pickleball Game
TRANSP:OPAQUE
BEGIN:VALARM
TRIGGER:-PT2H
ACTION:DISPLAY
DESCRIPTION:Rule/Rule vs. Brand/Webb
END:VALARM
END:VEVENT
BEGIN:VEVENT
UID:pupc-64230651-20240818T184000@quickscores.com
DTSTAMP:20260425T152700Z
DTSTART;TZID=America/Chicago:20240818T184000
DURATION:PT0H40M0S
SUMMARY:Sussman/Klein vs. Brand/Webb
DESCRIPTION:Forest Park Sunday High Int. Lg. - Late Summer 24 - Paddle Up Pickleball Club
LOCATION:DDTC Court 11S
CATEGORIES:QuickScores, Pickleball Game
TRANSP:OPAQUE
BEGIN:VALARM
TRIGGER:-PT2H
ACTION:DISPLAY
DESCRIPTION:Sussman/Klein vs. Brand/Webb
END:VALARM
END:VEVENT
BEGIN:VEVENT
UID:pupc-64227986-20240818T192000@quickscores.com
DTSTAMP:20260425T152700Z
DTSTART;TZID=America/Chicago:20240818T192000
DURATION:PT0H40M0S
SUMMARY:Gorman/Gorman vs. Brand/Webb
DESCRIPTION:Forest Park Sunday High Int. Lg. - Late Summer 24 - Paddle Up Pickleball Club
LOCATION:DDTC Court 11N
CATEGORIES:QuickScores, Pickleball Game
TRANSP:OPAQUE
BEGIN:VALARM
TRIGGER:-PT2H
ACTION:DISPLAY
DESCRIPTION:Gorman/Gorman vs. Brand/Webb
END:VALARM
END:VEVENT
BEGIN:VEVENT
UID:pupc-64202758-20240825T180000@quickscores.com
DTSTAMP:20260425T152700Z
DTSTART;TZID=America/Chicago:20240825T180000
DURATION:PT0H40M0S
SUMMARY:Brand/Webb vs. Flinn/Turner
DESCRIPTION:Forest Park Sunday High Int. Lg. - Late Summer 24 - Paddle Up Pickleball Club
LOCATION:DDTC Court 11S
CATEGORIES:QuickScores, Pickleball Game
TRANSP:OPAQUE
BEGIN:VALARM
TRIGGER:-PT2H
ACTION:DISPLAY
DESCRIPTION:Brand/Webb vs. Flinn/Turner
END:VALARM
END:VEVENT
BEGIN:VEVENT
UID:pupc-64227987-20240825T192000@quickscores.com
DTSTAMP:20260425T152700Z
DTSTART;TZID=America/Chicago:20240825T192000
DURATION:PT0H40M0S
SUMMARY:Knuteson/Jana vs. Brand/Webb
DESCRIPTION:Forest Park Sunday High Int. Lg. - Late Summer 24 - Paddle Up Pickleball Club
LOCATION:DDTC Court 11N
CATEGORIES:QuickScores, Pickleball Game
TRANSP:OPAQUE
BEGIN:VALARM
TRIGGER:-PT2H
ACTION:DISPLAY
DESCRIPTION:Knuteson/Jana vs. Brand/Webb
END:VALARM
END:VEVENT
BEGIN:VEVENT
UID:pupc-64884872-20240908T180000@quickscores.com
DTSTAMP:20260425T152700Z
DTSTART;TZID=America/Chicago:20240908T180000
DURATION:PT0H30M0S
SUMMARY:[4] Brand/Webb vs. [5] Sussman/Klein
DESCRIPTION:Forest Park Sunday High Int. Lg. - Late Summer 24 - Paddle Up Pickleball Club
LOCATION:DDTC Court 12S
CATEGORIES:QuickScores, Pickleball Game
TRANSP:OPAQUE
BEGIN:VALARM
TRIGGER:-PT2H
ACTION:DISPLAY
DESCRIPTION:[4] Brand/Webb vs. [5] Sussman/Klein
END:VALARM
END:VEVENT
END:VCALENDAR
