BEGIN:VCALENDAR
VERSION:2.0
PRODID:-//QuickScores.com//BQ Dynamic iCal Creator//EN
METHOD:PUBLISH
X-WR-CALNAME:Sumner/Sapot - Forest Park Monday High Int. Lg - Late Summer 24 - Completed Leagues 2023/24
X-WR-CALDESC:QuickScores game calendar
X-PUBLISHED-TTL:PT24H
REFRESH-INTERVAL;VALUE=DURATION:PT24H
CALSCALE:GREGORIAN
BEGIN:VTIMEZONE
TZID:America/Chicago
X-LIC-LOCATION:America/Chicago
BEGIN:DAYLIGHT
TZNAME:CDT
TZOFFSETFROM:-0600
TZOFFSETTO:-0500
DTSTART:19700308T020000
RRULE:FREQ=YEARLY;BYMONTH=3;BYDAY=2SU
END:DAYLIGHT
BEGIN:STANDARD
TZNAME:CST
TZOFFSETFROM:-0500
TZOFFSETTO:-0600
DTSTART:19701101T020000
RRULE:FREQ=YEARLY;BYMONTH=11;BYDAY=1SU
END:STANDARD
END:VTIMEZONE
BEGIN:VEVENT
UID:pupc-64213402-20240729T200000@quickscores.com
DTSTAMP:20260425T162300Z
DTSTART;TZID=America/Chicago:20240729T200000
DURATION:PT0H40M0S
SUMMARY:Karstens/Moody vs. Sumner/Sapot
DESCRIPTION:Forest Park Monday High Int. Lg - Late Summer 24 - Paddle Up Pickleball Club
LOCATION:DDTC Court 12S
CATEGORIES:QuickScores, Pickleball Game
TRANSP:OPAQUE
BEGIN:VALARM
TRIGGER:-PT2H
ACTION:DISPLAY
DESCRIPTION:Karstens/Moody vs. Sumner/Sapot
END:VALARM
END:VEVENT
BEGIN:VEVENT
UID:pupc-64213401-20240729T204000@quickscores.com
DTSTAMP:20260425T162300Z
DTSTART;TZID=America/Chicago:20240729T204000
DURATION:PT0H40M0S
SUMMARY:Sumner/Sapot vs. Gustafson/Bolton
DESCRIPTION:Forest Park Monday High Int. Lg - Late Summer 24 - Paddle Up Pickleball Club
LOCATION:DDTC Court 12N
CATEGORIES:QuickScores, Pickleball Game
TRANSP:OPAQUE
BEGIN:VALARM
TRIGGER:-PT2H
ACTION:DISPLAY
DESCRIPTION:Sumner/Sapot vs. Gustafson/Bolton
END:VALARM
END:VEVENT
BEGIN:VEVENT
UID:pupc-64213425-20240805T200000@quickscores.com
DTSTAMP:20260425T162300Z
DTSTART;TZID=America/Chicago:20240805T200000
DURATION:PT0H40M0S
SUMMARY:Worley/Minton vs. Sumner/Sapot
DESCRIPTION:Forest Park Monday High Int. Lg - Late Summer 24 - Paddle Up Pickleball Club
LOCATION:DDTC Court 12S
CATEGORIES:QuickScores, Pickleball Game
TRANSP:OPAQUE
BEGIN:VALARM
TRIGGER:-PT2H
ACTION:DISPLAY
DESCRIPTION:Worley/Minton vs. Sumner/Sapot
END:VALARM
END:VEVENT
BEGIN:VEVENT
UID:pupc-64213422-20240805T204000@quickscores.com
DTSTAMP:20260425T162300Z
DTSTART;TZID=America/Chicago:20240805T204000
DURATION:PT0H40M0S
SUMMARY:Beachem/Hutchens vs. Sumner/Sapot
DESCRIPTION:Forest Park Monday High Int. Lg - Late Summer 24 - Paddle Up Pickleball Club
LOCATION:DDTC Court 11N
CATEGORIES:QuickScores, Pickleball Game
TRANSP:OPAQUE
BEGIN:VALARM
TRIGGER:-PT2H
ACTION:DISPLAY
DESCRIPTION:Beachem/Hutchens vs. Sumner/Sapot
END:VALARM
END:VEVENT
BEGIN:VEVENT
UID:pupc-64213456-20240819T200000@quickscores.com
DTSTAMP:20260425T162300Z
DTSTART;TZID=America/Chicago:20240819T200000
DURATION:PT0H40M0S
SUMMARY:Barbeau/Courtney vs. Sumner/Sapot
DESCRIPTION:Forest Park Monday High Int. Lg - Late Summer 24 - Paddle Up Pickleball Club
LOCATION:DDTC Court 12S
CATEGORIES:QuickScores, Pickleball Game
TRANSP:OPAQUE
BEGIN:VALARM
TRIGGER:-PT2H
ACTION:DISPLAY
DESCRIPTION:Barbeau/Courtney vs. Sumner/Sapot
END:VALARM
END:VEVENT
BEGIN:VEVENT
UID:pupc-64213459-20240819T204000@quickscores.com
DTSTAMP:20260425T162300Z
DTSTART;TZID=America/Chicago:20240819T204000
DURATION:PT0H40M0S
SUMMARY:Shayotovich/Hatzigeorgiou vs. Sumner/Sapot
DESCRIPTION:Forest Park Monday High Int. Lg - Late Summer 24 - Paddle Up Pickleball Club
LOCATION:DDTC Court 11S
CATEGORIES:QuickScores, Pickleball Game
TRANSP:OPAQUE
BEGIN:VALARM
TRIGGER:-PT2H
ACTION:DISPLAY
DESCRIPTION:Shayotovich/Hatzigeorgiou vs. Sumner/Sapot
END:VALARM
END:VEVENT
BEGIN:VEVENT
UID:pupc-64213476-20240826T192000@quickscores.com
DTSTAMP:20260425T162300Z
DTSTART;TZID=America/Chicago:20240826T192000
DURATION:PT0H40M0S
SUMMARY:Thompson/Thompson vs. Sumner/Sapot
DESCRIPTION:Forest Park Monday High Int. Lg - Late Summer 24 - Paddle Up Pickleball Club
LOCATION:DDTC Court 11N
CATEGORIES:QuickScores, Pickleball Game
TRANSP:OPAQUE
BEGIN:VALARM
TRIGGER:-PT2H
ACTION:DISPLAY
DESCRIPTION:Thompson/Thompson vs. Sumner/Sapot
END:VALARM
END:VEVENT
BEGIN:VEVENT
UID:pupc-64408426-20240826T204000@quickscores.com
DTSTAMP:20260425T162300Z
DTSTART;TZID=America/Chicago:20240826T204000
DURATION:PT0H40M0S
SUMMARY:Ecklund/Fleming vs. Sumner/Sapot
DESCRIPTION:Forest Park Monday High Int. Lg - Late Summer 24 - Paddle Up Pickleball Club
LOCATION:DDTC Court 14S
CATEGORIES:QuickScores, Pickleball Game
TRANSP:OPAQUE
BEGIN:VALARM
TRIGGER:-PT2H
ACTION:DISPLAY
DESCRIPTION:Ecklund/Fleming vs. Sumner/Sapot
END:VALARM
END:VEVENT
BEGIN:VEVENT
UID:pupc-64213436-20240909T184000@quickscores.com
DTSTAMP:20260425T162300Z
DTSTART;TZID=America/Chicago:20240909T184000
DURATION:PT0H40M0S
SUMMARY:Vandercar/Hughes vs. Sumner/Sapot
DESCRIPTION:Forest Park Monday High Int. Lg - Late Summer 24 - Paddle Up Pickleball Club
LOCATION:DDTC Court 12N
CATEGORIES:QuickScores, Pickleball Game
TRANSP:OPAQUE
BEGIN:VALARM
TRIGGER:-PT2H
ACTION:DISPLAY
DESCRIPTION:Vandercar/Hughes vs. Sumner/Sapot
END:VALARM
END:VEVENT
BEGIN:VEVENT
UID:pupc-64213432-20240909T192000@quickscores.com
DTSTAMP:20260425T162300Z
DTSTART;TZID=America/Chicago:20240909T192000
DURATION:PT0H40M0S
SUMMARY:Sumner/Sapot vs. Gorman/Gorman
DESCRIPTION:Forest Park Monday High Int. Lg - Late Summer 24 - Paddle Up Pickleball Club
LOCATION:DDTC Court 11S
CATEGORIES:QuickScores, Pickleball Game
TRANSP:OPAQUE
BEGIN:VALARM
TRIGGER:-PT2H
ACTION:DISPLAY
DESCRIPTION:Sumner/Sapot vs. Gorman/Gorman
END:VALARM
END:VEVENT
END:VCALENDAR
