BEGIN:VCALENDAR
VERSION:2.0
PRODID:-//QuickScores.com//BQ Dynamic iCal Creator//EN
METHOD:PUBLISH
X-WR-CALNAME:Gustafson/Bolton - Forest Park Monday High Int. Lg - Late Summer 24 - Completed Leagues 2023/24
X-WR-CALDESC:QuickScores game calendar
X-PUBLISHED-TTL:PT24H
REFRESH-INTERVAL;VALUE=DURATION:PT24H
CALSCALE:GREGORIAN
BEGIN:VTIMEZONE
TZID:America/Chicago
X-LIC-LOCATION:America/Chicago
BEGIN:DAYLIGHT
TZNAME:CDT
TZOFFSETFROM:-0600
TZOFFSETTO:-0500
DTSTART:19700308T020000
RRULE:FREQ=YEARLY;BYMONTH=3;BYDAY=2SU
END:DAYLIGHT
BEGIN:STANDARD
TZNAME:CST
TZOFFSETFROM:-0500
TZOFFSETTO:-0600
DTSTART:19701101T020000
RRULE:FREQ=YEARLY;BYMONTH=11;BYDAY=1SU
END:STANDARD
END:VTIMEZONE
BEGIN:VEVENT
UID:pupc-64213400-20240729T200000@quickscores.com
DTSTAMP:20260425T202500Z
DTSTART;TZID=America/Chicago:20240729T200000
DURATION:PT0H40M0S
SUMMARY:Gustafson/Bolton vs. Lanter/Baalman
DESCRIPTION:Forest Park Monday High Int. Lg - Late Summer 24 - Paddle Up Pickleball Club
LOCATION:DDTC Court 12N
CATEGORIES:QuickScores, Pickleball Game
TRANSP:OPAQUE
BEGIN:VALARM
TRIGGER:-PT2H
ACTION:DISPLAY
DESCRIPTION:Gustafson/Bolton vs. Lanter/Baalman
END:VALARM
END:VEVENT
BEGIN:VEVENT
UID:pupc-64213401-20240729T204000@quickscores.com
DTSTAMP:20260425T202500Z
DTSTART;TZID=America/Chicago:20240729T204000
DURATION:PT0H40M0S
SUMMARY:Sumner/Sapot vs. Gustafson/Bolton
DESCRIPTION:Forest Park Monday High Int. Lg - Late Summer 24 - Paddle Up Pickleball Club
LOCATION:DDTC Court 12N
CATEGORIES:QuickScores, Pickleball Game
TRANSP:OPAQUE
BEGIN:VALARM
TRIGGER:-PT2H
ACTION:DISPLAY
DESCRIPTION:Sumner/Sapot vs. Gustafson/Bolton
END:VALARM
END:VEVENT
BEGIN:VEVENT
UID:pupc-64213430-20240805T180000@quickscores.com
DTSTAMP:20260425T202500Z
DTSTART;TZID=America/Chicago:20240805T180000
DURATION:PT0H40M0S
SUMMARY:Gustafson/Bolton vs. Ecklund/Fleming
DESCRIPTION:Forest Park Monday High Int. Lg - Late Summer 24 - Paddle Up Pickleball Club
LOCATION:DDTC Court 11S
CATEGORIES:QuickScores, Pickleball Game
TRANSP:OPAQUE
BEGIN:VALARM
TRIGGER:-PT2H
ACTION:DISPLAY
DESCRIPTION:Gustafson/Bolton vs. Ecklund/Fleming
END:VALARM
END:VEVENT
BEGIN:VEVENT
UID:pupc-64213429-20240805T192000@quickscores.com
DTSTAMP:20260425T202500Z
DTSTART;TZID=America/Chicago:20240805T192000
DURATION:PT0H40M0S
SUMMARY:Gustafson/Bolton vs. Clark/Kanfer
DESCRIPTION:Forest Park Monday High Int. Lg - Late Summer 24 - Paddle Up Pickleball Club
LOCATION:DDTC Court 11S
CATEGORIES:QuickScores, Pickleball Game
TRANSP:OPAQUE
BEGIN:VALARM
TRIGGER:-PT2H
ACTION:DISPLAY
DESCRIPTION:Gustafson/Bolton vs. Clark/Kanfer
END:VALARM
END:VEVENT
BEGIN:VEVENT
UID:pupc-64213465-20240819T180000@quickscores.com
DTSTAMP:20260425T202500Z
DTSTART;TZID=America/Chicago:20240819T180000
DURATION:PT0H40M0S
SUMMARY:Gustafson/Bolton vs. Vandercar/Hughes
DESCRIPTION:Forest Park Monday High Int. Lg - Late Summer 24 - Paddle Up Pickleball Club
LOCATION:DDTC Court 12S
CATEGORIES:QuickScores, Pickleball Game
TRANSP:OPAQUE
BEGIN:VALARM
TRIGGER:-PT2H
ACTION:DISPLAY
DESCRIPTION:Gustafson/Bolton vs. Vandercar/Hughes
END:VALARM
END:VEVENT
BEGIN:VEVENT
UID:pupc-64213466-20240819T184000@quickscores.com
DTSTAMP:20260425T202500Z
DTSTART;TZID=America/Chicago:20240819T184000
DURATION:PT0H40M0S
SUMMARY:Karstens/Moody vs. Gustafson/Bolton
DESCRIPTION:Forest Park Monday High Int. Lg - Late Summer 24 - Paddle Up Pickleball Club
LOCATION:DDTC Court 12S
CATEGORIES:QuickScores, Pickleball Game
TRANSP:OPAQUE
BEGIN:VALARM
TRIGGER:-PT2H
ACTION:DISPLAY
DESCRIPTION:Karstens/Moody vs. Gustafson/Bolton
END:VALARM
END:VEVENT
BEGIN:VEVENT
UID:pupc-64213474-20240826T180000@quickscores.com
DTSTAMP:20260425T202500Z
DTSTART;TZID=America/Chicago:20240826T180000
DURATION:PT0H40M0S
SUMMARY:Shayotovich/Hatzigeorgiou vs. Gustafson/Bolton
DESCRIPTION:Forest Park Monday High Int. Lg - Late Summer 24 - Paddle Up Pickleball Club
LOCATION:DDTC Court 11N
CATEGORIES:QuickScores, Pickleball Game
TRANSP:OPAQUE
BEGIN:VALARM
TRIGGER:-PT2H
ACTION:DISPLAY
DESCRIPTION:Shayotovich/Hatzigeorgiou vs. Gustafson/Bolton
END:VALARM
END:VEVENT
BEGIN:VEVENT
UID:pupc-64213471-20240826T184000@quickscores.com
DTSTAMP:20260425T202500Z
DTSTART;TZID=America/Chicago:20240826T184000
DURATION:PT0H40M0S
SUMMARY:Thomas/Garrett vs. Gustafson/Bolton
DESCRIPTION:Forest Park Monday High Int. Lg - Late Summer 24 - Paddle Up Pickleball Club
LOCATION:DDTC Court 12N
CATEGORIES:QuickScores, Pickleball Game
TRANSP:OPAQUE
BEGIN:VALARM
TRIGGER:-PT2H
ACTION:DISPLAY
DESCRIPTION:Thomas/Garrett vs. Gustafson/Bolton
END:VALARM
END:VEVENT
BEGIN:VEVENT
UID:pupc-64936665-20240909T184000@quickscores.com
DTSTAMP:20260425T202500Z
DTSTART;TZID=America/Chicago:20240909T184000
DURATION:PT0H40M0S
SUMMARY:Hernandez/Reichert2 vs. Gustafson/Bolton
DESCRIPTION:Forest Park Monday High Int. Lg - Late Summer 24 - Paddle Up Pickleball Club
LOCATION:DDTC Court 14N
CATEGORIES:QuickScores, Pickleball Game
TRANSP:OPAQUE
BEGIN:VALARM
TRIGGER:-PT2H
ACTION:DISPLAY
DESCRIPTION:Hernandez/Reichert2 vs. Gustafson/Bolton
END:VALARM
END:VEVENT
BEGIN:VEVENT
UID:pupc-64213441-20240909T192000@quickscores.com
DTSTAMP:20260425T202500Z
DTSTART;TZID=America/Chicago:20240909T192000
DURATION:PT0H40M0S
SUMMARY:Beachem/Hutchens vs. Gustafson/Bolton
DESCRIPTION:Forest Park Monday High Int. Lg - Late Summer 24 - Paddle Up Pickleball Club
LOCATION:DDTC Court 11N
CATEGORIES:QuickScores, Pickleball Game
TRANSP:OPAQUE
BEGIN:VALARM
TRIGGER:-PT2H
ACTION:DISPLAY
DESCRIPTION:Beachem/Hutchens vs. Gustafson/Bolton
END:VALARM
END:VEVENT
END:VCALENDAR
