BEGIN:VCALENDAR
VERSION:2.0
PRODID:-//QuickScores.com//BQ Dynamic iCal Creator//EN
METHOD:PUBLISH
X-WR-CALNAME:Nichols/Nichols - Forest Park Sunday High Int. Lg. - Late Summer 24 - Completed Leagues 2023/24
X-WR-CALDESC:QuickScores game calendar
X-PUBLISHED-TTL:PT24H
REFRESH-INTERVAL;VALUE=DURATION:PT24H
CALSCALE:GREGORIAN
BEGIN:VTIMEZONE
TZID:America/Chicago
X-LIC-LOCATION:America/Chicago
BEGIN:DAYLIGHT
TZNAME:CDT
TZOFFSETFROM:-0600
TZOFFSETTO:-0500
DTSTART:19700308T020000
RRULE:FREQ=YEARLY;BYMONTH=3;BYDAY=2SU
END:DAYLIGHT
BEGIN:STANDARD
TZNAME:CST
TZOFFSETFROM:-0500
TZOFFSETTO:-0600
DTSTART:19701101T020000
RRULE:FREQ=YEARLY;BYMONTH=11;BYDAY=1SU
END:STANDARD
END:VTIMEZONE
BEGIN:VEVENT
UID:pupc-64202739-20240728T180000@quickscores.com
DTSTAMP:20260423T133400Z
DTSTART;TZID=America/Chicago:20240728T180000
DURATION:PT0H40M0S
SUMMARY:Nichols/Nichols vs. Sussman/Klein
DESCRIPTION:Forest Park Sunday High Int. Lg. - Late Summer 24 - Paddle Up Pickleball Club
LOCATION:DDTC Court 21
CATEGORIES:QuickScores, Pickleball Game
TRANSP:OPAQUE
BEGIN:VALARM
TRIGGER:-PT2H
ACTION:DISPLAY
DESCRIPTION:Nichols/Nichols vs. Sussman/Klein
END:VALARM
END:VEVENT
BEGIN:VEVENT
UID:pupc-64202734-20240728T184000@quickscores.com
DTSTAMP:20260423T133400Z
DTSTART;TZID=America/Chicago:20240728T184000
DURATION:PT0H40M0S
SUMMARY:Nichols/Nichols vs. Pullium/Weir
DESCRIPTION:Forest Park Sunday High Int. Lg. - Late Summer 24 - Paddle Up Pickleball Club
LOCATION:DDTC Court 21
CATEGORIES:QuickScores, Pickleball Game
TRANSP:OPAQUE
BEGIN:VALARM
TRIGGER:-PT2H
ACTION:DISPLAY
DESCRIPTION:Nichols/Nichols vs. Pullium/Weir
END:VALARM
END:VEVENT
BEGIN:VEVENT
UID:pupc-64202745-20240804T184000@quickscores.com
DTSTAMP:20260423T133400Z
DTSTART;TZID=America/Chicago:20240804T184000
DURATION:PT0H40M0S
SUMMARY:Nichols/Nichols vs. Ringkamp/Goble
DESCRIPTION:Forest Park Sunday High Int. Lg. - Late Summer 24 - Paddle Up Pickleball Club
LOCATION:DDTC Court 21
CATEGORIES:QuickScores, Pickleball Game
TRANSP:OPAQUE
BEGIN:VALARM
TRIGGER:-PT2H
ACTION:DISPLAY
DESCRIPTION:Nichols/Nichols vs. Ringkamp/Goble
END:VALARM
END:VEVENT
BEGIN:VEVENT
UID:pupc-64202740-20240804T192000@quickscores.com
DTSTAMP:20260423T133400Z
DTSTART;TZID=America/Chicago:20240804T192000
DURATION:PT0H40M0S
SUMMARY:Nichols/Nichols vs. DeGraeve/Meiser
DESCRIPTION:Forest Park Sunday High Int. Lg. - Late Summer 24 - Paddle Up Pickleball Club
LOCATION:DDTC Court 21
CATEGORIES:QuickScores, Pickleball Game
TRANSP:OPAQUE
BEGIN:VALARM
TRIGGER:-PT2H
ACTION:DISPLAY
DESCRIPTION:Nichols/Nichols vs. DeGraeve/Meiser
END:VALARM
END:VEVENT
BEGIN:VEVENT
UID:pupc-64236216-20240811T180000@quickscores.com
DTSTAMP:20260423T133400Z
DTSTART;TZID=America/Chicago:20240811T180000
DURATION:PT0H40M0S
SUMMARY:Gorman/Gorman vs. Nichols/Nichols
DESCRIPTION:Forest Park Sunday High Int. Lg. - Late Summer 24 - Paddle Up Pickleball Club
LOCATION:DDTC Court 11S
CATEGORIES:QuickScores, Pickleball Game
TRANSP:OPAQUE
BEGIN:VALARM
TRIGGER:-PT2H
ACTION:DISPLAY
DESCRIPTION:Gorman/Gorman vs. Nichols/Nichols
END:VALARM
END:VEVENT
BEGIN:VEVENT
UID:pupc-64202748-20240811T184000@quickscores.com
DTSTAMP:20260423T133400Z
DTSTART;TZID=America/Chicago:20240811T184000
DURATION:PT0H40M0S
SUMMARY:Flinn/Turner vs. Nichols/Nichols
DESCRIPTION:Forest Park Sunday High Int. Lg. - Late Summer 24 - Paddle Up Pickleball Club
LOCATION:DDTC Court 22
CATEGORIES:QuickScores, Pickleball Game
TRANSP:OPAQUE
BEGIN:VALARM
TRIGGER:-PT2H
ACTION:DISPLAY
DESCRIPTION:Flinn/Turner vs. Nichols/Nichols
END:VALARM
END:VEVENT
BEGIN:VEVENT
UID:pupc-64202754-20240818T184000@quickscores.com
DTSTAMP:20260423T133400Z
DTSTART;TZID=America/Chicago:20240818T184000
DURATION:PT0H40M0S
SUMMARY:DeGraeve/Meiser vs. Nichols/Nichols
DESCRIPTION:Forest Park Sunday High Int. Lg. - Late Summer 24 - Paddle Up Pickleball Club
LOCATION:DDTC Court 22
CATEGORIES:QuickScores, Pickleball Game
TRANSP:OPAQUE
BEGIN:VALARM
TRIGGER:-PT2H
ACTION:DISPLAY
DESCRIPTION:DeGraeve/Meiser vs. Nichols/Nichols
END:VALARM
END:VEVENT
BEGIN:VEVENT
UID:pupc-64202752-20240818T192000@quickscores.com
DTSTAMP:20260423T133400Z
DTSTART;TZID=America/Chicago:20240818T192000
DURATION:PT0H40M0S
SUMMARY:Lee/Palavalli vs. Nichols/Nichols
DESCRIPTION:Forest Park Sunday High Int. Lg. - Late Summer 24 - Paddle Up Pickleball Club
LOCATION:DDTC Court 22
CATEGORIES:QuickScores, Pickleball Game
TRANSP:OPAQUE
BEGIN:VALARM
TRIGGER:-PT2H
ACTION:DISPLAY
DESCRIPTION:Lee/Palavalli vs. Nichols/Nichols
END:VALARM
END:VEVENT
BEGIN:VEVENT
UID:pupc-64202760-20240825T180000@quickscores.com
DTSTAMP:20260423T133400Z
DTSTART;TZID=America/Chicago:20240825T180000
DURATION:PT0H40M0S
SUMMARY:Pullium/Weir vs. Nichols/Nichols
DESCRIPTION:Forest Park Sunday High Int. Lg. - Late Summer 24 - Paddle Up Pickleball Club
LOCATION:DDTC Court 22
CATEGORIES:QuickScores, Pickleball Game
TRANSP:OPAQUE
BEGIN:VALARM
TRIGGER:-PT2H
ACTION:DISPLAY
DESCRIPTION:Pullium/Weir vs. Nichols/Nichols
END:VALARM
END:VEVENT
BEGIN:VEVENT
UID:pupc-64202761-20240825T184000@quickscores.com
DTSTAMP:20260423T133400Z
DTSTART;TZID=America/Chicago:20240825T184000
DURATION:PT0H40M0S
SUMMARY:Rule/Rule vs. Nichols/Nichols
DESCRIPTION:Forest Park Sunday High Int. Lg. - Late Summer 24 - Paddle Up Pickleball Club
LOCATION:DDTC Court 22
CATEGORIES:QuickScores, Pickleball Game
TRANSP:OPAQUE
BEGIN:VALARM
TRIGGER:-PT2H
ACTION:DISPLAY
DESCRIPTION:Rule/Rule vs. Nichols/Nichols
END:VALARM
END:VEVENT
BEGIN:VEVENT
UID:pupc-64884868-20240908T180000@quickscores.com
DTSTAMP:20260423T133400Z
DTSTART;TZID=America/Chicago:20240908T180000
DURATION:PT0H30M0S
SUMMARY:[7] DeGraeve/Meiser vs. [10] Nichols/Nichols
DESCRIPTION:Forest Park Sunday High Int. Lg. - Late Summer 24 - Paddle Up Pickleball Club
LOCATION:DDTC Court 21
CATEGORIES:QuickScores, Pickleball Game
TRANSP:OPAQUE
BEGIN:VALARM
TRIGGER:-PT2H
ACTION:DISPLAY
DESCRIPTION:[7] DeGraeve/Meiser vs. [10] Nichols/Nichols
END:VALARM
END:VEVENT
END:VCALENDAR
