BEGIN:VCALENDAR
VERSION:2.0
PRODID:-//QuickScores.com//BQ Dynamic iCal Creator//EN
METHOD:PUBLISH
X-WR-CALNAME:Knuteson/Jana - Forest Park Sunday High Int. Lg. - Late Summer 24 - Completed Leagues 2023/24
X-WR-CALDESC:QuickScores game calendar
X-PUBLISHED-TTL:PT24H
REFRESH-INTERVAL;VALUE=DURATION:PT24H
CALSCALE:GREGORIAN
BEGIN:VTIMEZONE
TZID:America/Chicago
X-LIC-LOCATION:America/Chicago
BEGIN:DAYLIGHT
TZNAME:CDT
TZOFFSETFROM:-0600
TZOFFSETTO:-0500
DTSTART:19700308T020000
RRULE:FREQ=YEARLY;BYMONTH=3;BYDAY=2SU
END:DAYLIGHT
BEGIN:STANDARD
TZNAME:CST
TZOFFSETFROM:-0500
TZOFFSETTO:-0600
DTSTART:19701101T020000
RRULE:FREQ=YEARLY;BYMONTH=11;BYDAY=1SU
END:STANDARD
END:VTIMEZONE
BEGIN:VEVENT
UID:pupc-64236214-20240728T180000@quickscores.com
DTSTAMP:20260424T080300Z
DTSTART;TZID=America/Chicago:20240728T180000
DURATION:PT0H40M0S
SUMMARY:Gorman/Gorman vs. Knuteson/Jana
DESCRIPTION:Forest Park Sunday High Int. Lg. - Late Summer 24 - Paddle Up Pickleball Club
LOCATION:DDTC Court 11S
CATEGORIES:QuickScores, Pickleball Game
TRANSP:OPAQUE
BEGIN:VALARM
TRIGGER:-PT2H
ACTION:DISPLAY
DESCRIPTION:Gorman/Gorman vs. Knuteson/Jana
END:VALARM
END:VEVENT
BEGIN:VEVENT
UID:pupc-64242936-20240728T192000@quickscores.com
DTSTAMP:20260424T080300Z
DTSTART;TZID=America/Chicago:20240728T192000
DURATION:PT0H40M0S
SUMMARY:Pullium/Weir vs. Knuteson/Jana
DESCRIPTION:Forest Park Sunday High Int. Lg. - Late Summer 24 - Paddle Up Pickleball Club
LOCATION:DDTC Court 11S
CATEGORIES:QuickScores, Pickleball Game
TRANSP:OPAQUE
BEGIN:VALARM
TRIGGER:-PT2H
ACTION:DISPLAY
DESCRIPTION:Pullium/Weir vs. Knuteson/Jana
END:VALARM
END:VEVENT
BEGIN:VEVENT
UID:pupc-64236215-20240804T180000@quickscores.com
DTSTAMP:20260424T080300Z
DTSTART;TZID=America/Chicago:20240804T180000
DURATION:PT0H40M0S
SUMMARY:Knuteson/Jana vs. Brand/Webb
DESCRIPTION:Forest Park Sunday High Int. Lg. - Late Summer 24 - Paddle Up Pickleball Club
LOCATION:DDTC Court 11S
CATEGORIES:QuickScores, Pickleball Game
TRANSP:OPAQUE
BEGIN:VALARM
TRIGGER:-PT2H
ACTION:DISPLAY
DESCRIPTION:Knuteson/Jana vs. Brand/Webb
END:VALARM
END:VEVENT
BEGIN:VEVENT
UID:pupc-64202741-20240804T184000@quickscores.com
DTSTAMP:20260424T080300Z
DTSTART;TZID=America/Chicago:20240804T184000
DURATION:PT0H40M0S
SUMMARY:Flinn/Turner vs. Knuteson/Jana
DESCRIPTION:Forest Park Sunday High Int. Lg. - Late Summer 24 - Paddle Up Pickleball Club
LOCATION:DDTC Court 22
CATEGORIES:QuickScores, Pickleball Game
TRANSP:OPAQUE
BEGIN:VALARM
TRIGGER:-PT2H
ACTION:DISPLAY
DESCRIPTION:Flinn/Turner vs. Knuteson/Jana
END:VALARM
END:VEVENT
BEGIN:VEVENT
UID:pupc-64202751-20240811T180000@quickscores.com
DTSTAMP:20260424T080300Z
DTSTART;TZID=America/Chicago:20240811T180000
DURATION:PT0H40M0S
SUMMARY:Knuteson/Jana vs. Pullium/Weir
DESCRIPTION:Forest Park Sunday High Int. Lg. - Late Summer 24 - Paddle Up Pickleball Club
LOCATION:DDTC Court 22
CATEGORIES:QuickScores, Pickleball Game
TRANSP:OPAQUE
BEGIN:VALARM
TRIGGER:-PT2H
ACTION:DISPLAY
DESCRIPTION:Knuteson/Jana vs. Pullium/Weir
END:VALARM
END:VEVENT
BEGIN:VEVENT
UID:pupc-64230650-20240811T184000@quickscores.com
DTSTAMP:20260424T080300Z
DTSTART;TZID=America/Chicago:20240811T184000
DURATION:PT0H40M0S
SUMMARY:Knuteson/Jana vs. DeGraeve/Meiser
DESCRIPTION:Forest Park Sunday High Int. Lg. - Late Summer 24 - Paddle Up Pickleball Club
LOCATION:DDTC Court 11S
CATEGORIES:QuickScores, Pickleball Game
TRANSP:OPAQUE
BEGIN:VALARM
TRIGGER:-PT2H
ACTION:DISPLAY
DESCRIPTION:Knuteson/Jana vs. DeGraeve/Meiser
END:VALARM
END:VEVENT
BEGIN:VEVENT
UID:pupc-64202756-20240818T180000@quickscores.com
DTSTAMP:20260424T080300Z
DTSTART;TZID=America/Chicago:20240818T180000
DURATION:PT0H40M0S
SUMMARY:Rule/Rule vs. Knuteson/Jana
DESCRIPTION:Forest Park Sunday High Int. Lg. - Late Summer 24 - Paddle Up Pickleball Club
LOCATION:DDTC Court 21
CATEGORIES:QuickScores, Pickleball Game
TRANSP:OPAQUE
BEGIN:VALARM
TRIGGER:-PT2H
ACTION:DISPLAY
DESCRIPTION:Rule/Rule vs. Knuteson/Jana
END:VALARM
END:VEVENT
BEGIN:VEVENT
UID:pupc-64508656-20240818T192000@quickscores.com
DTSTAMP:20260424T080300Z
DTSTART;TZID=America/Chicago:20240818T192000
DURATION:PT0H40M0S
SUMMARY:Knuteson/Jana vs. Sussman/Klein
DESCRIPTION:Forest Park Sunday High Int. Lg. - Late Summer 24 - Paddle Up Pickleball Club
LOCATION:DDTC Court 11S
CATEGORIES:QuickScores, Pickleball Game
TRANSP:OPAQUE
BEGIN:VALARM
TRIGGER:-PT2H
ACTION:DISPLAY
DESCRIPTION:Knuteson/Jana vs. Sussman/Klein
END:VALARM
END:VEVENT
BEGIN:VEVENT
UID:pupc-64296387-20240825T184000@quickscores.com
DTSTAMP:20260424T080300Z
DTSTART;TZID=America/Chicago:20240825T184000
DURATION:PT0H40M0S
SUMMARY:Knuteson/Jana vs. Flinn/Turner
DESCRIPTION:Forest Park Sunday High Int. Lg. - Late Summer 24 - Paddle Up Pickleball Club
LOCATION:DDTC Court 12N
CATEGORIES:QuickScores, Pickleball Game
TRANSP:OPAQUE
BEGIN:VALARM
TRIGGER:-PT2H
ACTION:DISPLAY
DESCRIPTION:Knuteson/Jana vs. Flinn/Turner
END:VALARM
END:VEVENT
BEGIN:VEVENT
UID:pupc-64227987-20240825T192000@quickscores.com
DTSTAMP:20260424T080300Z
DTSTART;TZID=America/Chicago:20240825T192000
DURATION:PT0H40M0S
SUMMARY:Knuteson/Jana vs. Brand/Webb
DESCRIPTION:Forest Park Sunday High Int. Lg. - Late Summer 24 - Paddle Up Pickleball Club
LOCATION:DDTC Court 11N
CATEGORIES:QuickScores, Pickleball Game
TRANSP:OPAQUE
BEGIN:VALARM
TRIGGER:-PT2H
ACTION:DISPLAY
DESCRIPTION:Knuteson/Jana vs. Brand/Webb
END:VALARM
END:VEVENT
BEGIN:VEVENT
UID:pupc-64884864-20240908T180000@quickscores.com
DTSTAMP:20260424T080300Z
DTSTART;TZID=America/Chicago:20240908T180000
DURATION:PT0H30M0S
SUMMARY:[8] Flinn/Turner vs. [9] Knuteson/Jana
DESCRIPTION:Forest Park Sunday High Int. Lg. - Late Summer 24 - Paddle Up Pickleball Club
LOCATION:DDTC Court 22
CATEGORIES:QuickScores, Pickleball Game
TRANSP:OPAQUE
BEGIN:VALARM
TRIGGER:-PT2H
ACTION:DISPLAY
DESCRIPTION:[8] Flinn/Turner vs. [9] Knuteson/Jana
END:VALARM
END:VEVENT
END:VCALENDAR
