BEGIN:VCALENDAR
VERSION:2.0
PRODID:-//QuickScores.com//BQ Dynamic iCal Creator//EN
METHOD:PUBLISH
X-WR-CALNAME:MikeBeavers/KellyPfeiffer - Club Championship - Mixed 9am Sun - Completed Tournaments 2023/24
X-WR-CALDESC:QuickScores game calendar
X-PUBLISHED-TTL:PT24H
REFRESH-INTERVAL;VALUE=DURATION:PT24H
CALSCALE:GREGORIAN
BEGIN:VTIMEZONE
TZID:America/Chicago
X-LIC-LOCATION:America/Chicago
BEGIN:DAYLIGHT
TZNAME:CDT
TZOFFSETFROM:-0600
TZOFFSETTO:-0500
DTSTART:19700308T020000
RRULE:FREQ=YEARLY;BYMONTH=3;BYDAY=2SU
END:DAYLIGHT
BEGIN:STANDARD
TZNAME:CST
TZOFFSETFROM:-0500
TZOFFSETTO:-0600
DTSTART:19701101T020000
RRULE:FREQ=YEARLY;BYMONTH=11;BYDAY=1SU
END:STANDARD
END:VTIMEZONE
BEGIN:VEVENT
UID:pupc-64189287-20240721T090000@quickscores.com
DTSTAMP:20260425T065200Z
DTSTART;TZID=America/Chicago:20240721T090000
DURATION:PT0H25M0S
SUMMARY:MaryGraves/AllenBradley vs. MikeBeavers/KellyPfeiffer
DESCRIPTION:Club Championship - Mixed 9am Sun - Paddle Up Pickleball Club
LOCATION:Court 4
CATEGORIES:QuickScores, Pickleball Game
TRANSP:OPAQUE
BEGIN:VALARM
TRIGGER:-PT2H
ACTION:DISPLAY
DESCRIPTION:MaryGraves/AllenBradley vs. MikeBeavers/KellyPfeiffer
END:VALARM
END:VEVENT
BEGIN:VEVENT
UID:pupc-64189323-20240721T092500@quickscores.com
DTSTAMP:20260425T065200Z
DTSTART;TZID=America/Chicago:20240721T092500
DURATION:PT0H25M0S
SUMMARY:MikeBeavers/KellyPfeiffer vs. JodiKruse/DanKruse
DESCRIPTION:Club Championship - Mixed 9am Sun - Paddle Up Pickleball Club
LOCATION:Court 7
CATEGORIES:QuickScores, Pickleball Game
TRANSP:OPAQUE
BEGIN:VALARM
TRIGGER:-PT2H
ACTION:DISPLAY
DESCRIPTION:MikeBeavers/KellyPfeiffer vs. JodiKruse/DanKruse
END:VALARM
END:VEVENT
BEGIN:VEVENT
UID:pupc-64189305-20240721T101500@quickscores.com
DTSTAMP:20260425T065200Z
DTSTART;TZID=America/Chicago:20240721T101500
DURATION:PT0H25M0S
SUMMARY:MikeBeavers/KellyPfeiffer vs. KimPenrod/ToddPenrod
DESCRIPTION:Club Championship - Mixed 9am Sun - Paddle Up Pickleball Club
LOCATION:Court 9
CATEGORIES:QuickScores, Pickleball Game
TRANSP:OPAQUE
BEGIN:VALARM
TRIGGER:-PT2H
ACTION:DISPLAY
DESCRIPTION:MikeBeavers/KellyPfeiffer vs. KimPenrod/ToddPenrod
END:VALARM
END:VEVENT
BEGIN:VEVENT
UID:pupc-64189314-20240721T110500@quickscores.com
DTSTAMP:20260425T065200Z
DTSTART;TZID=America/Chicago:20240721T110500
DURATION:PT0H25M0S
SUMMARY:JonnyRichert/KayaThies vs. MikeBeavers/KellyPfeiffer
DESCRIPTION:Club Championship - Mixed 9am Sun - Paddle Up Pickleball Club
LOCATION:Court 7
CATEGORIES:QuickScores, Pickleball Game
TRANSP:OPAQUE
BEGIN:VALARM
TRIGGER:-PT2H
ACTION:DISPLAY
DESCRIPTION:JonnyRichert/KayaThies vs. MikeBeavers/KellyPfeiffer
END:VALARM
END:VEVENT
BEGIN:VEVENT
UID:pupc-64189296-20240721T113000@quickscores.com
DTSTAMP:20260425T065200Z
DTSTART;TZID=America/Chicago:20240721T113000
DURATION:PT0H25M0S
SUMMARY:MikeBeavers/KellyPfeiffer vs. FlorDeLuca/MatiasSevilla
DESCRIPTION:Club Championship - Mixed 9am Sun - Paddle Up Pickleball Club
LOCATION:Court 4
CATEGORIES:QuickScores, Pickleball Game
TRANSP:OPAQUE
BEGIN:VALARM
TRIGGER:-PT2H
ACTION:DISPLAY
DESCRIPTION:MikeBeavers/KellyPfeiffer vs. FlorDeLuca/MatiasSevilla
END:VALARM
END:VEVENT
END:VCALENDAR
