BEGIN:VCALENDAR
VERSION:2.0
PRODID:-//QuickScores.com//BQ Dynamic iCal Creator//EN
METHOD:PUBLISH
X-WR-CALNAME:PaulKirksey/MissyKirksey - Club Championship - Mixed 9am Sun - Completed Tournaments 2023/24
X-WR-CALDESC:QuickScores game calendar
X-PUBLISHED-TTL:PT24H
REFRESH-INTERVAL;VALUE=DURATION:PT24H
CALSCALE:GREGORIAN
BEGIN:VTIMEZONE
TZID:America/Chicago
X-LIC-LOCATION:America/Chicago
BEGIN:DAYLIGHT
TZNAME:CDT
TZOFFSETFROM:-0600
TZOFFSETTO:-0500
DTSTART:19700308T020000
RRULE:FREQ=YEARLY;BYMONTH=3;BYDAY=2SU
END:DAYLIGHT
BEGIN:STANDARD
TZNAME:CST
TZOFFSETFROM:-0500
TZOFFSETTO:-0600
DTSTART:19701101T020000
RRULE:FREQ=YEARLY;BYMONTH=11;BYDAY=1SU
END:STANDARD
END:VTIMEZONE
BEGIN:VEVENT
UID:pupc-64189328-20240721T092500@quickscores.com
DTSTAMP:20260425T065300Z
DTSTART;TZID=America/Chicago:20240721T092500
DURATION:PT0H25M0S
SUMMARY:PaulKirksey/MissyKirksey vs. BrendaAlexander/NickAlexander
DESCRIPTION:Club Championship - Mixed 9am Sun - Paddle Up Pickleball Club
LOCATION:Court 9
CATEGORIES:QuickScores, Pickleball Game
TRANSP:OPAQUE
BEGIN:VALARM
TRIGGER:-PT2H
ACTION:DISPLAY
DESCRIPTION:PaulKirksey/MissyKirksey vs. BrendaAlexander/NickAlexander
END:VALARM
END:VEVENT
BEGIN:VEVENT
UID:pupc-64189281-20240721T095000@quickscores.com
DTSTAMP:20260425T065300Z
DTSTART;TZID=America/Chicago:20240721T095000
DURATION:PT0H25M0S
SUMMARY:LauraLink/GarethSmith vs. PaulKirksey/MissyKirksey
DESCRIPTION:Club Championship - Mixed 9am Sun - Paddle Up Pickleball Club
LOCATION:Court 4
CATEGORIES:QuickScores, Pickleball Game
TRANSP:OPAQUE
BEGIN:VALARM
TRIGGER:-PT2H
ACTION:DISPLAY
DESCRIPTION:LauraLink/GarethSmith vs. PaulKirksey/MissyKirksey
END:VALARM
END:VEVENT
BEGIN:VEVENT
UID:pupc-64189317-20240721T101500@quickscores.com
DTSTAMP:20260425T065300Z
DTSTART;TZID=America/Chicago:20240721T101500
DURATION:PT0H25M0S
SUMMARY:PaulKirksey/MissyKirksey vs. SteveDuBois/CherylDubois
DESCRIPTION:Club Championship - Mixed 9am Sun - Paddle Up Pickleball Club
LOCATION:Court 4
CATEGORIES:QuickScores, Pickleball Game
TRANSP:OPAQUE
BEGIN:VALARM
TRIGGER:-PT2H
ACTION:DISPLAY
DESCRIPTION:PaulKirksey/MissyKirksey vs. SteveDuBois/CherylDubois
END:VALARM
END:VEVENT
BEGIN:VEVENT
UID:pupc-64189310-20240721T104000@quickscores.com
DTSTAMP:20260425T065300Z
DTSTART;TZID=America/Chicago:20240721T104000
DURATION:PT0H25M0S
SUMMARY:RyanEckman/CristinZiegler vs. PaulKirksey/MissyKirksey
DESCRIPTION:Club Championship - Mixed 9am Sun - Paddle Up Pickleball Club
LOCATION:Court 6
CATEGORIES:QuickScores, Pickleball Game
TRANSP:OPAQUE
BEGIN:VALARM
TRIGGER:-PT2H
ACTION:DISPLAY
DESCRIPTION:RyanEckman/CristinZiegler vs. PaulKirksey/MissyKirksey
END:VALARM
END:VEVENT
BEGIN:VEVENT
UID:pupc-64189291-20240721T110500@quickscores.com
DTSTAMP:20260425T065300Z
DTSTART;TZID=America/Chicago:20240721T110500
DURATION:PT0H25M0S
SUMMARY:LoriGibson/NickGibson vs. PaulKirksey/MissyKirksey
DESCRIPTION:Club Championship - Mixed 9am Sun - Paddle Up Pickleball Club
LOCATION:Court 2
CATEGORIES:QuickScores, Pickleball Game
TRANSP:OPAQUE
BEGIN:VALARM
TRIGGER:-PT2H
ACTION:DISPLAY
DESCRIPTION:LoriGibson/NickGibson vs. PaulKirksey/MissyKirksey
END:VALARM
END:VEVENT
BEGIN:VEVENT
UID:pupc-64189330-20240721T115500@quickscores.com
DTSTAMP:20260425T065300Z
DTSTART;TZID=America/Chicago:20240721T115500
DURATION:PT0H25M0S
SUMMARY:PaulKirksey/MissyKirksey vs. TomBakowski/DebbieTeson
DESCRIPTION:Club Championship - Mixed 9am Sun - Paddle Up Pickleball Club
LOCATION:Court 5
CATEGORIES:QuickScores, Pickleball Game
TRANSP:OPAQUE
BEGIN:VALARM
TRIGGER:-PT2H
ACTION:DISPLAY
DESCRIPTION:PaulKirksey/MissyKirksey vs. TomBakowski/DebbieTeson
END:VALARM
END:VEVENT
END:VCALENDAR
