BEGIN:VCALENDAR
VERSION:2.0
PRODID:-//QuickScores.com//BQ Dynamic iCal Creator//EN
METHOD:PUBLISH
X-WR-CALNAME:LoriGibson/NickGibson - Club Championship - Mixed 9am Sun - Completed Tournaments 2023/24
X-WR-CALDESC:QuickScores game calendar
X-PUBLISHED-TTL:PT24H
REFRESH-INTERVAL;VALUE=DURATION:PT24H
CALSCALE:GREGORIAN
BEGIN:VTIMEZONE
TZID:America/Chicago
X-LIC-LOCATION:America/Chicago
BEGIN:DAYLIGHT
TZNAME:CDT
TZOFFSETFROM:-0600
TZOFFSETTO:-0500
DTSTART:19700308T020000
RRULE:FREQ=YEARLY;BYMONTH=3;BYDAY=2SU
END:DAYLIGHT
BEGIN:STANDARD
TZNAME:CST
TZOFFSETFROM:-0500
TZOFFSETTO:-0600
DTSTART:19701101T020000
RRULE:FREQ=YEARLY;BYMONTH=11;BYDAY=1SU
END:STANDARD
END:VTIMEZONE
BEGIN:VEVENT
UID:pupc-64189329-20240721T092500@quickscores.com
DTSTAMP:20260424T194800Z
DTSTART;TZID=America/Chicago:20240721T092500
DURATION:PT0H25M0S
SUMMARY:RyanEckman/CristinZiegler vs. LoriGibson/NickGibson
DESCRIPTION:Club Championship - Mixed 9am Sun - Paddle Up Pickleball Club
LOCATION:Court 8
CATEGORIES:QuickScores, Pickleball Game
TRANSP:OPAQUE
BEGIN:VALARM
TRIGGER:-PT2H
ACTION:DISPLAY
DESCRIPTION:RyanEckman/CristinZiegler vs. LoriGibson/NickGibson
END:VALARM
END:VEVENT
BEGIN:VEVENT
UID:pupc-64189301-20240721T095000@quickscores.com
DTSTAMP:20260424T194800Z
DTSTART;TZID=America/Chicago:20240721T095000
DURATION:PT0H25M0S
SUMMARY:TomBakowski/DebbieTeson vs. LoriGibson/NickGibson
DESCRIPTION:Club Championship - Mixed 9am Sun - Paddle Up Pickleball Club
LOCATION:Court 9
CATEGORIES:QuickScores, Pickleball Game
TRANSP:OPAQUE
BEGIN:VALARM
TRIGGER:-PT2H
ACTION:DISPLAY
DESCRIPTION:TomBakowski/DebbieTeson vs. LoriGibson/NickGibson
END:VALARM
END:VEVENT
BEGIN:VEVENT
UID:pupc-64189283-20240721T104000@quickscores.com
DTSTAMP:20260424T194800Z
DTSTART;TZID=America/Chicago:20240721T104000
DURATION:PT0H25M0S
SUMMARY:LoriGibson/NickGibson vs. SteveDuBois/CherylDubois
DESCRIPTION:Club Championship - Mixed 9am Sun - Paddle Up Pickleball Club
LOCATION:Court 4
CATEGORIES:QuickScores, Pickleball Game
TRANSP:OPAQUE
BEGIN:VALARM
TRIGGER:-PT2H
ACTION:DISPLAY
DESCRIPTION:LoriGibson/NickGibson vs. SteveDuBois/CherylDubois
END:VALARM
END:VEVENT
BEGIN:VEVENT
UID:pupc-64189291-20240721T110500@quickscores.com
DTSTAMP:20260424T194800Z
DTSTART;TZID=America/Chicago:20240721T110500
DURATION:PT0H25M0S
SUMMARY:LoriGibson/NickGibson vs. PaulKirksey/MissyKirksey
DESCRIPTION:Club Championship - Mixed 9am Sun - Paddle Up Pickleball Club
LOCATION:Court 2
CATEGORIES:QuickScores, Pickleball Game
TRANSP:OPAQUE
BEGIN:VALARM
TRIGGER:-PT2H
ACTION:DISPLAY
DESCRIPTION:LoriGibson/NickGibson vs. PaulKirksey/MissyKirksey
END:VALARM
END:VEVENT
BEGIN:VEVENT
UID:pupc-64189308-20240721T113000@quickscores.com
DTSTAMP:20260424T194800Z
DTSTART;TZID=America/Chicago:20240721T113000
DURATION:PT0H25M0S
SUMMARY:LoriGibson/NickGibson vs. LauraLink/GarethSmith
DESCRIPTION:Club Championship - Mixed 9am Sun - Paddle Up Pickleball Club
LOCATION:Court 6
CATEGORIES:QuickScores, Pickleball Game
TRANSP:OPAQUE
BEGIN:VALARM
TRIGGER:-PT2H
ACTION:DISPLAY
DESCRIPTION:LoriGibson/NickGibson vs. LauraLink/GarethSmith
END:VALARM
END:VEVENT
BEGIN:VEVENT
UID:pupc-64189318-20240721T115500@quickscores.com
DTSTAMP:20260424T194800Z
DTSTART;TZID=America/Chicago:20240721T115500
DURATION:PT0H25M0S
SUMMARY:BrendaAlexander/NickAlexander vs. LoriGibson/NickGibson
DESCRIPTION:Club Championship - Mixed 9am Sun - Paddle Up Pickleball Club
LOCATION:Court 2
CATEGORIES:QuickScores, Pickleball Game
TRANSP:OPAQUE
BEGIN:VALARM
TRIGGER:-PT2H
ACTION:DISPLAY
DESCRIPTION:BrendaAlexander/NickAlexander vs. LoriGibson/NickGibson
END:VALARM
END:VEVENT
END:VCALENDAR
