BEGIN:VCALENDAR
VERSION:2.0
PRODID:-//QuickScores.com//BQ Dynamic iCal Creator//EN
METHOD:PUBLISH
X-WR-CALNAME:NickBreeding/ErinSmith - Club Championship - Mixed 9am Sun - Completed Tournaments 2023/24
X-WR-CALDESC:QuickScores game calendar
X-PUBLISHED-TTL:PT24H
REFRESH-INTERVAL;VALUE=DURATION:PT24H
CALSCALE:GREGORIAN
BEGIN:VTIMEZONE
TZID:America/Chicago
X-LIC-LOCATION:America/Chicago
BEGIN:DAYLIGHT
TZNAME:CDT
TZOFFSETFROM:-0600
TZOFFSETTO:-0500
DTSTART:19700308T020000
RRULE:FREQ=YEARLY;BYMONTH=3;BYDAY=2SU
END:DAYLIGHT
BEGIN:STANDARD
TZNAME:CST
TZOFFSETFROM:-0500
TZOFFSETTO:-0600
DTSTART:19701101T020000
RRULE:FREQ=YEARLY;BYMONTH=11;BYDAY=1SU
END:STANDARD
END:VTIMEZONE
BEGIN:VEVENT
UID:pupc-64189286-20240721T090000@quickscores.com
DTSTAMP:20260425T105000Z
DTSTART;TZID=America/Chicago:20240721T090000
DURATION:PT0H25M0S
SUMMARY:NickBreeding/ErinSmith vs. GarrettHallemeier/MichelleBeattie
DESCRIPTION:Club Championship - Mixed 9am Sun - Paddle Up Pickleball Club
LOCATION:Court 8
CATEGORIES:QuickScores, Pickleball Game
TRANSP:OPAQUE
BEGIN:VALARM
TRIGGER:-PT2H
ACTION:DISPLAY
DESCRIPTION:NickBreeding/ErinSmith vs. GarrettHallemeier/MichelleBeattie
END:VALARM
END:VEVENT
BEGIN:VEVENT
UID:pupc-64189295-20240721T092500@quickscores.com
DTSTAMP:20260425T105000Z
DTSTART;TZID=America/Chicago:20240721T092500
DURATION:PT0H25M0S
SUMMARY:PaigeReque/KevinReque vs. NickBreeding/ErinSmith
DESCRIPTION:Club Championship - Mixed 9am Sun - Paddle Up Pickleball Club
LOCATION:Court 5
CATEGORIES:QuickScores, Pickleball Game
TRANSP:OPAQUE
BEGIN:VALARM
TRIGGER:-PT2H
ACTION:DISPLAY
DESCRIPTION:PaigeReque/KevinReque vs. NickBreeding/ErinSmith
END:VALARM
END:VEVENT
BEGIN:VEVENT
UID:pupc-64189303-20240721T101500@quickscores.com
DTSTAMP:20260425T105000Z
DTSTART;TZID=America/Chicago:20240721T101500
DURATION:PT0H25M0S
SUMMARY:NickBreeding/ErinSmith vs. NickBorger/LibbyPeterson
DESCRIPTION:Club Championship - Mixed 9am Sun - Paddle Up Pickleball Club
LOCATION:Court 5
CATEGORIES:QuickScores, Pickleball Game
TRANSP:OPAQUE
BEGIN:VALARM
TRIGGER:-PT2H
ACTION:DISPLAY
DESCRIPTION:NickBreeding/ErinSmith vs. NickBorger/LibbyPeterson
END:VALARM
END:VEVENT
BEGIN:VEVENT
UID:pupc-64189312-20240721T104000@quickscores.com
DTSTAMP:20260425T105000Z
DTSTART;TZID=America/Chicago:20240721T104000
DURATION:PT0H25M0S
SUMMARY:NickBreeding/ErinSmith vs. JonRichert/KellyRichert
DESCRIPTION:Club Championship - Mixed 9am Sun - Paddle Up Pickleball Club
LOCATION:Court 5
CATEGORIES:QuickScores, Pickleball Game
TRANSP:OPAQUE
BEGIN:VALARM
TRIGGER:-PT2H
ACTION:DISPLAY
DESCRIPTION:NickBreeding/ErinSmith vs. JonRichert/KellyRichert
END:VALARM
END:VEVENT
BEGIN:VEVENT
UID:pupc-64189320-20240721T113000@quickscores.com
DTSTAMP:20260425T105000Z
DTSTART;TZID=America/Chicago:20240721T113000
DURATION:PT0H25M0S
SUMMARY:KevinAshley/DebbieMenke vs. NickBreeding/ErinSmith
DESCRIPTION:Club Championship - Mixed 9am Sun - Paddle Up Pickleball Club
LOCATION:Court 2
CATEGORIES:QuickScores, Pickleball Game
TRANSP:OPAQUE
BEGIN:VALARM
TRIGGER:-PT2H
ACTION:DISPLAY
DESCRIPTION:KevinAshley/DebbieMenke vs. NickBreeding/ErinSmith
END:VALARM
END:VEVENT
END:VCALENDAR
