BEGIN:VCALENDAR
VERSION:2.0
PRODID:-//QuickScores.com//BQ Dynamic iCal Creator//EN
METHOD:PUBLISH
X-WR-CALNAME:Bambini/Compardo2 - Forest Park Monday Low Inter. Lg. - Early Summer 24 - Completed Leagues 2023/24
X-WR-CALDESC:QuickScores game calendar
X-PUBLISHED-TTL:PT24H
REFRESH-INTERVAL;VALUE=DURATION:PT24H
CALSCALE:GREGORIAN
BEGIN:VTIMEZONE
TZID:America/Chicago
X-LIC-LOCATION:America/Chicago
BEGIN:DAYLIGHT
TZNAME:CDT
TZOFFSETFROM:-0600
TZOFFSETTO:-0500
DTSTART:19700308T020000
RRULE:FREQ=YEARLY;BYMONTH=3;BYDAY=2SU
END:DAYLIGHT
BEGIN:STANDARD
TZNAME:CST
TZOFFSETFROM:-0500
TZOFFSETTO:-0600
DTSTART:19701101T020000
RRULE:FREQ=YEARLY;BYMONTH=11;BYDAY=1SU
END:STANDARD
END:VTIMEZONE
BEGIN:VEVENT
UID:pupc-63710232-20240610T184000@quickscores.com
DTSTAMP:20260419T141200Z
DTSTART;TZID=America/Chicago:20240610T184000
DURATION:PT0H40M0S
SUMMARY:Bambini/Compardo2 vs. Daigh/Andereck
DESCRIPTION:Forest Park Monday Low Inter. Lg. - Early Summer 24 - Paddle Up Pickleball Club
LOCATION:DDTC Court 11N
CATEGORIES:QuickScores, Pickleball Game
TRANSP:OPAQUE
BEGIN:VALARM
TRIGGER:-PT2H
ACTION:DISPLAY
DESCRIPTION:Bambini/Compardo2 vs. Daigh/Andereck
END:VALARM
END:VEVENT
BEGIN:VEVENT
UID:pupc-63683801-20240610T192000@quickscores.com
DTSTAMP:20260419T141200Z
DTSTART;TZID=America/Chicago:20240610T192000
DURATION:PT0H40M0S
SUMMARY:Bambini/Compardo2 vs. Coffelt/Hutson
DESCRIPTION:Forest Park Monday Low Inter. Lg. - Early Summer 24 - Paddle Up Pickleball Club
LOCATION:DDTC Court 13N
CATEGORIES:QuickScores, Pickleball Game
TRANSP:OPAQUE
BEGIN:VALARM
TRIGGER:-PT2H
ACTION:DISPLAY
DESCRIPTION:Bambini/Compardo2 vs. Coffelt/Hutson
END:VALARM
END:VEVENT
BEGIN:VEVENT
UID:pupc-63710233-20240617T184000@quickscores.com
DTSTAMP:20260419T141200Z
DTSTART;TZID=America/Chicago:20240617T184000
DURATION:PT0H40M0S
SUMMARY:Nigg/Bedillon vs. Bambini/Compardo2
DESCRIPTION:Forest Park Monday Low Inter. Lg. - Early Summer 24 - Paddle Up Pickleball Club
LOCATION:DDTC Court 11N
CATEGORIES:QuickScores, Pickleball Game
TRANSP:OPAQUE
BEGIN:VALARM
TRIGGER:-PT2H
ACTION:DISPLAY
DESCRIPTION:Nigg/Bedillon vs. Bambini/Compardo2
END:VALARM
END:VEVENT
BEGIN:VEVENT
UID:pupc-63683826-20240617T192000@quickscores.com
DTSTAMP:20260419T141200Z
DTSTART;TZID=America/Chicago:20240617T192000
DURATION:PT0H40M0S
SUMMARY:Bambini/Compardo2 vs. Lakin/Holtmeier
DESCRIPTION:Forest Park Monday Low Inter. Lg. - Early Summer 24 - Paddle Up Pickleball Club
LOCATION:DDTC Court 13N
CATEGORIES:QuickScores, Pickleball Game
TRANSP:OPAQUE
BEGIN:VALARM
TRIGGER:-PT2H
ACTION:DISPLAY
DESCRIPTION:Bambini/Compardo2 vs. Lakin/Holtmeier
END:VALARM
END:VEVENT
BEGIN:VEVENT
UID:pupc-63683838-20240624T192000@quickscores.com
DTSTAMP:20260419T141200Z
DTSTART;TZID=America/Chicago:20240624T192000
DURATION:PT0H40M0S
SUMMARY:Leeker/Kuca vs. Bambini/Compardo2
DESCRIPTION:Forest Park Monday Low Inter. Lg. - Early Summer 24 - Paddle Up Pickleball Club
LOCATION:DDTC Court 13N
CATEGORIES:QuickScores, Pickleball Game
TRANSP:OPAQUE
BEGIN:VALARM
TRIGGER:-PT2H
ACTION:DISPLAY
DESCRIPTION:Leeker/Kuca vs. Bambini/Compardo2
END:VALARM
END:VEVENT
BEGIN:VEVENT
UID:pupc-63683842-20240624T204000@quickscores.com
DTSTAMP:20260419T141200Z
DTSTART;TZID=America/Chicago:20240624T204000
DURATION:PT0H40M0S
SUMMARY:Bambini/Compardo2 vs. Kellerman/Dilger
DESCRIPTION:Forest Park Monday Low Inter. Lg. - Early Summer 24 - Paddle Up Pickleball Club
LOCATION:DDTC Court 12S
CATEGORIES:QuickScores, Pickleball Game
TRANSP:OPAQUE
BEGIN:VALARM
TRIGGER:-PT2H
ACTION:DISPLAY
DESCRIPTION:Bambini/Compardo2 vs. Kellerman/Dilger
END:VALARM
END:VEVENT
BEGIN:VEVENT
UID:pupc-63683862-20240701T200000@quickscores.com
DTSTAMP:20260419T141200Z
DTSTART;TZID=America/Chicago:20240701T200000
DURATION:PT0H40M0S
SUMMARY:Wienstroer/Reese vs. Bambini/Compardo2
DESCRIPTION:Forest Park Monday Low Inter. Lg. - Early Summer 24 - Paddle Up Pickleball Club
LOCATION:DDTC Court 12N
CATEGORIES:QuickScores, Pickleball Game
TRANSP:OPAQUE
BEGIN:VALARM
TRIGGER:-PT2H
ACTION:DISPLAY
DESCRIPTION:Wienstroer/Reese vs. Bambini/Compardo2
END:VALARM
END:VEVENT
BEGIN:VEVENT
UID:pupc-63683863-20240701T204000@quickscores.com
DTSTAMP:20260419T141200Z
DTSTART;TZID=America/Chicago:20240701T204000
DURATION:PT0H40M0S
SUMMARY:Bambini/Compardo2 vs. Rule/Rule
DESCRIPTION:Forest Park Monday Low Inter. Lg. - Early Summer 24 - Paddle Up Pickleball Club
LOCATION:DDTC Court 12N
CATEGORIES:QuickScores, Pickleball Game
TRANSP:OPAQUE
BEGIN:VALARM
TRIGGER:-PT2H
ACTION:DISPLAY
DESCRIPTION:Bambini/Compardo2 vs. Rule/Rule
END:VALARM
END:VEVENT
BEGIN:VEVENT
UID:pupc-63710236-20240715T184000@quickscores.com
DTSTAMP:20260419T141200Z
DTSTART;TZID=America/Chicago:20240715T184000
DURATION:PT0H40M0S
SUMMARY:Slattery/Alojipan vs. Bambini/Compardo2
DESCRIPTION:Forest Park Monday Low Inter. Lg. - Early Summer 24 - Paddle Up Pickleball Club
LOCATION:DDTC Court 11N
CATEGORIES:QuickScores, Pickleball Game
TRANSP:OPAQUE
BEGIN:VALARM
TRIGGER:-PT2H
ACTION:DISPLAY
DESCRIPTION:Slattery/Alojipan vs. Bambini/Compardo2
END:VALARM
END:VEVENT
BEGIN:VEVENT
UID:pupc-63683874-20240715T200000@quickscores.com
DTSTAMP:20260419T141200Z
DTSTART;TZID=America/Chicago:20240715T200000
DURATION:PT0H40M0S
SUMMARY:Lanter/Lanter vs. Bambini/Compardo2
DESCRIPTION:Forest Park Monday Low Inter. Lg. - Early Summer 24 - Paddle Up Pickleball Club
LOCATION:DDTC Court 20
CATEGORIES:QuickScores, Pickleball Game
TRANSP:OPAQUE
BEGIN:VALARM
TRIGGER:-PT2H
ACTION:DISPLAY
DESCRIPTION:Lanter/Lanter vs. Bambini/Compardo2
END:VALARM
END:VEVENT
BEGIN:VEVENT
UID:pupc-64119522-20240722T180000@quickscores.com
DTSTAMP:20260419T141200Z
DTSTART;TZID=America/Chicago:20240722T180000
DURATION:PT0H30M0S
SUMMARY:[4] Macias/Platschek vs. [13] Bambini/Compardo2
DESCRIPTION:Forest Park Monday Low Inter. Lg. - Early Summer 24 - Paddle Up Pickleball Club
LOCATION:DDTC Court 13N
CATEGORIES:QuickScores, Pickleball Game
TRANSP:OPAQUE
BEGIN:VALARM
TRIGGER:-PT2H
ACTION:DISPLAY
DESCRIPTION:[4] Macias/Platschek vs. [13] Bambini/Compardo2
END:VALARM
END:VEVENT
END:VCALENDAR
