BEGIN:VCALENDAR
VERSION:2.0
PRODID:-//QuickScores.com//BQ Dynamic iCal Creator//EN
METHOD:PUBLISH
X-WR-CALNAME:Jacobsmeyer/Jacobsmeyer - Forest Park Monday Low Inter. Lg. - Early Summer 24 - Completed Leagues 2023/24
X-WR-CALDESC:QuickScores game calendar
X-PUBLISHED-TTL:PT24H
REFRESH-INTERVAL;VALUE=DURATION:PT24H
CALSCALE:GREGORIAN
BEGIN:VTIMEZONE
TZID:America/Chicago
X-LIC-LOCATION:America/Chicago
BEGIN:DAYLIGHT
TZNAME:CDT
TZOFFSETFROM:-0600
TZOFFSETTO:-0500
DTSTART:19700308T020000
RRULE:FREQ=YEARLY;BYMONTH=3;BYDAY=2SU
END:DAYLIGHT
BEGIN:STANDARD
TZNAME:CST
TZOFFSETFROM:-0500
TZOFFSETTO:-0600
DTSTART:19701101T020000
RRULE:FREQ=YEARLY;BYMONTH=11;BYDAY=1SU
END:STANDARD
END:VTIMEZONE
BEGIN:VEVENT
UID:pupc-63683802-20240610T180000@quickscores.com
DTSTAMP:20260420T082300Z
DTSTART;TZID=America/Chicago:20240610T180000
DURATION:PT0H40M0S
SUMMARY:Jacobsmeyer/Jacobsmeyer vs. Rasche/Aldrich
DESCRIPTION:Forest Park Monday Low Inter. Lg. - Early Summer 24 - Paddle Up Pickleball Club
LOCATION:DDTC Court 13N
CATEGORIES:QuickScores, Pickleball Game
TRANSP:OPAQUE
BEGIN:VALARM
TRIGGER:-PT2H
ACTION:DISPLAY
DESCRIPTION:Jacobsmeyer/Jacobsmeyer vs. Rasche/Aldrich
END:VALARM
END:VEVENT
BEGIN:VEVENT
UID:pupc-63683810-20240610T184000@quickscores.com
DTSTAMP:20260420T082300Z
DTSTART;TZID=America/Chicago:20240610T184000
DURATION:PT0H40M0S
SUMMARY:Lakin/Holtmeier vs. Jacobsmeyer/Jacobsmeyer
DESCRIPTION:Forest Park Monday Low Inter. Lg. - Early Summer 24 - Paddle Up Pickleball Club
LOCATION:DDTC Court 14N
CATEGORIES:QuickScores, Pickleball Game
TRANSP:OPAQUE
BEGIN:VALARM
TRIGGER:-PT2H
ACTION:DISPLAY
DESCRIPTION:Lakin/Holtmeier vs. Jacobsmeyer/Jacobsmeyer
END:VALARM
END:VEVENT
BEGIN:VEVENT
UID:pupc-63683829-20240617T192000@quickscores.com
DTSTAMP:20260420T082300Z
DTSTART;TZID=America/Chicago:20240617T192000
DURATION:PT0H40M0S
SUMMARY:Krone/Krone vs. Jacobsmeyer/Jacobsmeyer
DESCRIPTION:Forest Park Monday Low Inter. Lg. - Early Summer 24 - Paddle Up Pickleball Club
LOCATION:DDTC Court 12S
CATEGORIES:QuickScores, Pickleball Game
TRANSP:OPAQUE
BEGIN:VALARM
TRIGGER:-PT2H
ACTION:DISPLAY
DESCRIPTION:Krone/Krone vs. Jacobsmeyer/Jacobsmeyer
END:VALARM
END:VEVENT
BEGIN:VEVENT
UID:pupc-63683830-20240617T204000@quickscores.com
DTSTAMP:20260420T082300Z
DTSTART;TZID=America/Chicago:20240617T204000
DURATION:PT0H40M0S
SUMMARY:Leeker/Kuca vs. Jacobsmeyer/Jacobsmeyer
DESCRIPTION:Forest Park Monday Low Inter. Lg. - Early Summer 24 - Paddle Up Pickleball Club
LOCATION:DDTC Court 12S
CATEGORIES:QuickScores, Pickleball Game
TRANSP:OPAQUE
BEGIN:VALARM
TRIGGER:-PT2H
ACTION:DISPLAY
DESCRIPTION:Leeker/Kuca vs. Jacobsmeyer/Jacobsmeyer
END:VALARM
END:VEVENT
BEGIN:VEVENT
UID:pupc-63683848-20240624T180000@quickscores.com
DTSTAMP:20260420T082300Z
DTSTART;TZID=America/Chicago:20240624T180000
DURATION:PT0H40M0S
SUMMARY:Jacobsmeyer/Jacobsmeyer vs. Rule/Rule
DESCRIPTION:Forest Park Monday Low Inter. Lg. - Early Summer 24 - Paddle Up Pickleball Club
LOCATION:DDTC Court 12N
CATEGORIES:QuickScores, Pickleball Game
TRANSP:OPAQUE
BEGIN:VALARM
TRIGGER:-PT2H
ACTION:DISPLAY
DESCRIPTION:Jacobsmeyer/Jacobsmeyer vs. Rule/Rule
END:VALARM
END:VEVENT
BEGIN:VEVENT
UID:pupc-63710234-20240624T184000@quickscores.com
DTSTAMP:20260420T082300Z
DTSTART;TZID=America/Chicago:20240624T184000
DURATION:PT0H40M0S
SUMMARY:Thuet/Wientge vs. Jacobsmeyer/Jacobsmeyer
DESCRIPTION:Forest Park Monday Low Inter. Lg. - Early Summer 24 - Paddle Up Pickleball Club
LOCATION:DDTC Court 11N
CATEGORIES:QuickScores, Pickleball Game
TRANSP:OPAQUE
BEGIN:VALARM
TRIGGER:-PT2H
ACTION:DISPLAY
DESCRIPTION:Thuet/Wientge vs. Jacobsmeyer/Jacobsmeyer
END:VALARM
END:VEVENT
BEGIN:VEVENT
UID:pupc-63683866-20240701T192000@quickscores.com
DTSTAMP:20260420T082300Z
DTSTART;TZID=America/Chicago:20240701T192000
DURATION:PT0H40M0S
SUMMARY:Kellerman/Dilger vs. Jacobsmeyer/Jacobsmeyer
DESCRIPTION:Forest Park Monday Low Inter. Lg. - Early Summer 24 - Paddle Up Pickleball Club
LOCATION:DDTC Court 13N
CATEGORIES:QuickScores, Pickleball Game
TRANSP:OPAQUE
BEGIN:VALARM
TRIGGER:-PT2H
ACTION:DISPLAY
DESCRIPTION:Kellerman/Dilger vs. Jacobsmeyer/Jacobsmeyer
END:VALARM
END:VEVENT
BEGIN:VEVENT
UID:pupc-63683855-20240701T204000@quickscores.com
DTSTAMP:20260420T082300Z
DTSTART;TZID=America/Chicago:20240701T204000
DURATION:PT0H40M0S
SUMMARY:Jacobsmeyer/Jacobsmeyer vs. Nigg/Bedillon
DESCRIPTION:Forest Park Monday Low Inter. Lg. - Early Summer 24 - Paddle Up Pickleball Club
LOCATION:DDTC Court 14N
CATEGORIES:QuickScores, Pickleball Game
TRANSP:OPAQUE
BEGIN:VALARM
TRIGGER:-PT2H
ACTION:DISPLAY
DESCRIPTION:Jacobsmeyer/Jacobsmeyer vs. Nigg/Bedillon
END:VALARM
END:VEVENT
BEGIN:VEVENT
UID:pupc-63683879-20240715T200000@quickscores.com
DTSTAMP:20260420T082300Z
DTSTART;TZID=America/Chicago:20240715T200000
DURATION:PT0H40M0S
SUMMARY:Coffelt/Hutson vs. Jacobsmeyer/Jacobsmeyer
DESCRIPTION:Forest Park Monday Low Inter. Lg. - Early Summer 24 - Paddle Up Pickleball Club
LOCATION:DDTC Court 14N
CATEGORIES:QuickScores, Pickleball Game
TRANSP:OPAQUE
BEGIN:VALARM
TRIGGER:-PT2H
ACTION:DISPLAY
DESCRIPTION:Coffelt/Hutson vs. Jacobsmeyer/Jacobsmeyer
END:VALARM
END:VEVENT
BEGIN:VEVENT
UID:pupc-63683873-20240715T204000@quickscores.com
DTSTAMP:20260420T082300Z
DTSTART;TZID=America/Chicago:20240715T204000
DURATION:PT0H40M0S
SUMMARY:Quintero/Sarquist vs. Jacobsmeyer/Jacobsmeyer
DESCRIPTION:Forest Park Monday Low Inter. Lg. - Early Summer 24 - Paddle Up Pickleball Club
LOCATION:DDTC Court 13N
CATEGORIES:QuickScores, Pickleball Game
TRANSP:OPAQUE
BEGIN:VALARM
TRIGGER:-PT2H
ACTION:DISPLAY
DESCRIPTION:Quintero/Sarquist vs. Jacobsmeyer/Jacobsmeyer
END:VALARM
END:VEVENT
BEGIN:VEVENT
UID:pupc-64119525-20240722T190000@quickscores.com
DTSTAMP:20260420T082300Z
DTSTART;TZID=America/Chicago:20240722T190000
DURATION:PT0H30M0S
SUMMARY:[7] Wienstroer/Reese vs. [10] Jacobsmeyer/Jacobsmeyer
DESCRIPTION:Forest Park Monday Low Inter. Lg. - Early Summer 24 - Paddle Up Pickleball Club
LOCATION:DDTC Court 14S
CATEGORIES:QuickScores, Pickleball Game
TRANSP:OPAQUE
BEGIN:VALARM
TRIGGER:-PT2H
ACTION:DISPLAY
DESCRIPTION:[7] Wienstroer/Reese vs. [10] Jacobsmeyer/Jacobsmeyer
END:VALARM
END:VEVENT
END:VCALENDAR
