BEGIN:VCALENDAR
VERSION:2.0
PRODID:-//QuickScores.com//BQ Dynamic iCal Creator//EN
METHOD:PUBLISH
X-WR-CALNAME:Rule/Rule - Forest Park Monday Low Inter. Lg. - Early Summer 24 - Completed Leagues 2023/24
X-WR-CALDESC:QuickScores game calendar
X-PUBLISHED-TTL:PT24H
REFRESH-INTERVAL;VALUE=DURATION:PT24H
CALSCALE:GREGORIAN
BEGIN:VTIMEZONE
TZID:America/Chicago
X-LIC-LOCATION:America/Chicago
BEGIN:DAYLIGHT
TZNAME:CDT
TZOFFSETFROM:-0600
TZOFFSETTO:-0500
DTSTART:19700308T020000
RRULE:FREQ=YEARLY;BYMONTH=3;BYDAY=2SU
END:DAYLIGHT
BEGIN:STANDARD
TZNAME:CST
TZOFFSETFROM:-0500
TZOFFSETTO:-0600
DTSTART:19701101T020000
RRULE:FREQ=YEARLY;BYMONTH=11;BYDAY=1SU
END:STANDARD
END:VTIMEZONE
BEGIN:VEVENT
UID:pupc-63683804-20240610T192000@quickscores.com
DTSTAMP:20260419T141200Z
DTSTART;TZID=America/Chicago:20240610T192000
DURATION:PT0H40M0S
SUMMARY:Lanter/Lanter vs. Rule/Rule
DESCRIPTION:Forest Park Monday Low Inter. Lg. - Early Summer 24 - Paddle Up Pickleball Club
LOCATION:DDTC Court 12S
CATEGORIES:QuickScores, Pickleball Game
TRANSP:OPAQUE
BEGIN:VALARM
TRIGGER:-PT2H
ACTION:DISPLAY
DESCRIPTION:Lanter/Lanter vs. Rule/Rule
END:VALARM
END:VEVENT
BEGIN:VEVENT
UID:pupc-63683805-20240610T204000@quickscores.com
DTSTAMP:20260419T141200Z
DTSTART;TZID=America/Chicago:20240610T204000
DURATION:PT0H40M0S
SUMMARY:Rule/Rule vs. Ilivicky/Hunter
DESCRIPTION:Forest Park Monday Low Inter. Lg. - Early Summer 24 - Paddle Up Pickleball Club
LOCATION:DDTC Court 12S
CATEGORIES:QuickScores, Pickleball Game
TRANSP:OPAQUE
BEGIN:VALARM
TRIGGER:-PT2H
ACTION:DISPLAY
DESCRIPTION:Rule/Rule vs. Ilivicky/Hunter
END:VALARM
END:VEVENT
BEGIN:VEVENT
UID:pupc-63683824-20240617T200000@quickscores.com
DTSTAMP:20260419T141200Z
DTSTART;TZID=America/Chicago:20240617T200000
DURATION:PT0H40M0S
SUMMARY:Thuet/Wientge vs. Rule/Rule
DESCRIPTION:Forest Park Monday Low Inter. Lg. - Early Summer 24 - Paddle Up Pickleball Club
LOCATION:DDTC Court 13N
CATEGORIES:QuickScores, Pickleball Game
TRANSP:OPAQUE
BEGIN:VALARM
TRIGGER:-PT2H
ACTION:DISPLAY
DESCRIPTION:Thuet/Wientge vs. Rule/Rule
END:VALARM
END:VEVENT
BEGIN:VEVENT
UID:pupc-63683823-20240617T204000@quickscores.com
DTSTAMP:20260419T141200Z
DTSTART;TZID=America/Chicago:20240617T204000
DURATION:PT0H40M0S
SUMMARY:Wienstroer/Reese vs. Rule/Rule
DESCRIPTION:Forest Park Monday Low Inter. Lg. - Early Summer 24 - Paddle Up Pickleball Club
LOCATION:DDTC Court 12N
CATEGORIES:QuickScores, Pickleball Game
TRANSP:OPAQUE
BEGIN:VALARM
TRIGGER:-PT2H
ACTION:DISPLAY
DESCRIPTION:Wienstroer/Reese vs. Rule/Rule
END:VALARM
END:VEVENT
BEGIN:VEVENT
UID:pupc-63683848-20240624T180000@quickscores.com
DTSTAMP:20260419T141200Z
DTSTART;TZID=America/Chicago:20240624T180000
DURATION:PT0H40M0S
SUMMARY:Jacobsmeyer/Jacobsmeyer vs. Rule/Rule
DESCRIPTION:Forest Park Monday Low Inter. Lg. - Early Summer 24 - Paddle Up Pickleball Club
LOCATION:DDTC Court 12N
CATEGORIES:QuickScores, Pickleball Game
TRANSP:OPAQUE
BEGIN:VALARM
TRIGGER:-PT2H
ACTION:DISPLAY
DESCRIPTION:Jacobsmeyer/Jacobsmeyer vs. Rule/Rule
END:VALARM
END:VEVENT
BEGIN:VEVENT
UID:pupc-63683849-20240624T184000@quickscores.com
DTSTAMP:20260419T141200Z
DTSTART;TZID=America/Chicago:20240624T184000
DURATION:PT0H40M0S
SUMMARY:Rule/Rule vs. Quintero/Sarquist
DESCRIPTION:Forest Park Monday Low Inter. Lg. - Early Summer 24 - Paddle Up Pickleball Club
LOCATION:DDTC Court 12N
CATEGORIES:QuickScores, Pickleball Game
TRANSP:OPAQUE
BEGIN:VALARM
TRIGGER:-PT2H
ACTION:DISPLAY
DESCRIPTION:Rule/Rule vs. Quintero/Sarquist
END:VALARM
END:VEVENT
BEGIN:VEVENT
UID:pupc-63683864-20240701T200000@quickscores.com
DTSTAMP:20260419T141200Z
DTSTART;TZID=America/Chicago:20240701T200000
DURATION:PT0H40M0S
SUMMARY:Rule/Rule vs. Slattery/Alojipan
DESCRIPTION:Forest Park Monday Low Inter. Lg. - Early Summer 24 - Paddle Up Pickleball Club
LOCATION:DDTC Court 13N
CATEGORIES:QuickScores, Pickleball Game
TRANSP:OPAQUE
BEGIN:VALARM
TRIGGER:-PT2H
ACTION:DISPLAY
DESCRIPTION:Rule/Rule vs. Slattery/Alojipan
END:VALARM
END:VEVENT
BEGIN:VEVENT
UID:pupc-63683863-20240701T204000@quickscores.com
DTSTAMP:20260419T141200Z
DTSTART;TZID=America/Chicago:20240701T204000
DURATION:PT0H40M0S
SUMMARY:Bambini/Compardo2 vs. Rule/Rule
DESCRIPTION:Forest Park Monday Low Inter. Lg. - Early Summer 24 - Paddle Up Pickleball Club
LOCATION:DDTC Court 12N
CATEGORIES:QuickScores, Pickleball Game
TRANSP:OPAQUE
BEGIN:VALARM
TRIGGER:-PT2H
ACTION:DISPLAY
DESCRIPTION:Bambini/Compardo2 vs. Rule/Rule
END:VALARM
END:VEVENT
BEGIN:VEVENT
UID:pupc-63683868-20240715T184000@quickscores.com
DTSTAMP:20260419T141200Z
DTSTART;TZID=America/Chicago:20240715T184000
DURATION:PT0H40M0S
SUMMARY:Macias/Platschek vs. Rule/Rule
DESCRIPTION:Forest Park Monday Low Inter. Lg. - Early Summer 24 - Paddle Up Pickleball Club
LOCATION:DDTC Court 12N
CATEGORIES:QuickScores, Pickleball Game
TRANSP:OPAQUE
BEGIN:VALARM
TRIGGER:-PT2H
ACTION:DISPLAY
DESCRIPTION:Macias/Platschek vs. Rule/Rule
END:VALARM
END:VEVENT
BEGIN:VEVENT
UID:pupc-63683881-20240715T192000@quickscores.com
DTSTAMP:20260419T141200Z
DTSTART;TZID=America/Chicago:20240715T192000
DURATION:PT0H40M0S
SUMMARY:Huether/Brower vs. Rule/Rule
DESCRIPTION:Forest Park Monday Low Inter. Lg. - Early Summer 24 - Paddle Up Pickleball Club
LOCATION:DDTC Court 14N
CATEGORIES:QuickScores, Pickleball Game
TRANSP:OPAQUE
BEGIN:VALARM
TRIGGER:-PT2H
ACTION:DISPLAY
DESCRIPTION:Huether/Brower vs. Rule/Rule
END:VALARM
END:VEVENT
BEGIN:VEVENT
UID:pupc-64119520-20240722T183000@quickscores.com
DTSTAMP:20260419T141200Z
DTSTART;TZID=America/Chicago:20240722T183000
DURATION:PT0H30M0S
SUMMARY:[1] Rule/Rule vs. Winner of Game 1
DESCRIPTION:Forest Park Monday Low Inter. Lg. - Early Summer 24 - Paddle Up Pickleball Club
LOCATION:DDTC Court 14N
CATEGORIES:QuickScores, Pickleball Game
TRANSP:OPAQUE
BEGIN:VALARM
TRIGGER:-PT2H
ACTION:DISPLAY
DESCRIPTION:[1] Rule/Rule vs. Winner of Game 1
END:VALARM
END:VEVENT
END:VCALENDAR
