BEGIN:VCALENDAR
VERSION:2.0
PRODID:-//QuickScores.com//BQ Dynamic iCal Creator//EN
METHOD:PUBLISH
X-WR-CALNAME:Slattery/Alojipan - Forest Park Monday Low Inter. Lg. - Early Summer 24 - Completed Leagues 2023/24
X-WR-CALDESC:QuickScores game calendar
X-PUBLISHED-TTL:PT24H
REFRESH-INTERVAL;VALUE=DURATION:PT24H
CALSCALE:GREGORIAN
BEGIN:VTIMEZONE
TZID:America/Chicago
X-LIC-LOCATION:America/Chicago
BEGIN:DAYLIGHT
TZNAME:CDT
TZOFFSETFROM:-0600
TZOFFSETTO:-0500
DTSTART:19700308T020000
RRULE:FREQ=YEARLY;BYMONTH=3;BYDAY=2SU
END:DAYLIGHT
BEGIN:STANDARD
TZNAME:CST
TZOFFSETFROM:-0500
TZOFFSETTO:-0600
DTSTART:19701101T020000
RRULE:FREQ=YEARLY;BYMONTH=11;BYDAY=1SU
END:STANDARD
END:VTIMEZONE
BEGIN:VEVENT
UID:pupc-63683799-20240610T200000@quickscores.com
DTSTAMP:20260419T141200Z
DTSTART;TZID=America/Chicago:20240610T200000
DURATION:PT0H40M0S
SUMMARY:Slattery/Alojipan vs. Quintero/Sarquist
DESCRIPTION:Forest Park Monday Low Inter. Lg. - Early Summer 24 - Paddle Up Pickleball Club
LOCATION:DDTC Court 13N
CATEGORIES:QuickScores, Pickleball Game
TRANSP:OPAQUE
BEGIN:VALARM
TRIGGER:-PT2H
ACTION:DISPLAY
DESCRIPTION:Slattery/Alojipan vs. Quintero/Sarquist
END:VALARM
END:VEVENT
BEGIN:VEVENT
UID:pupc-63683815-20240610T204000@quickscores.com
DTSTAMP:20260419T141200Z
DTSTART;TZID=America/Chicago:20240610T204000
DURATION:PT0H40M0S
SUMMARY:Krone/Krone vs. Slattery/Alojipan
DESCRIPTION:Forest Park Monday Low Inter. Lg. - Early Summer 24 - Paddle Up Pickleball Club
LOCATION:DDTC Court 12N
CATEGORIES:QuickScores, Pickleball Game
TRANSP:OPAQUE
BEGIN:VALARM
TRIGGER:-PT2H
ACTION:DISPLAY
DESCRIPTION:Krone/Krone vs. Slattery/Alojipan
END:VALARM
END:VEVENT
BEGIN:VEVENT
UID:pupc-63683821-20240617T192000@quickscores.com
DTSTAMP:20260419T141200Z
DTSTART;TZID=America/Chicago:20240617T192000
DURATION:PT0H40M0S
SUMMARY:Coffelt/Hutson vs. Slattery/Alojipan
DESCRIPTION:Forest Park Monday Low Inter. Lg. - Early Summer 24 - Paddle Up Pickleball Club
LOCATION:DDTC Court 12N
CATEGORIES:QuickScores, Pickleball Game
TRANSP:OPAQUE
BEGIN:VALARM
TRIGGER:-PT2H
ACTION:DISPLAY
DESCRIPTION:Coffelt/Hutson vs. Slattery/Alojipan
END:VALARM
END:VEVENT
BEGIN:VEVENT
UID:pupc-63683822-20240617T200000@quickscores.com
DTSTAMP:20260419T141200Z
DTSTART;TZID=America/Chicago:20240617T200000
DURATION:PT0H40M0S
SUMMARY:Slattery/Alojipan vs. Wienstroer/Reese
DESCRIPTION:Forest Park Monday Low Inter. Lg. - Early Summer 24 - Paddle Up Pickleball Club
LOCATION:DDTC Court 12N
CATEGORIES:QuickScores, Pickleball Game
TRANSP:OPAQUE
BEGIN:VALARM
TRIGGER:-PT2H
ACTION:DISPLAY
DESCRIPTION:Slattery/Alojipan vs. Wienstroer/Reese
END:VALARM
END:VEVENT
BEGIN:VEVENT
UID:pupc-63683839-20240624T180000@quickscores.com
DTSTAMP:20260419T141200Z
DTSTART;TZID=America/Chicago:20240624T180000
DURATION:PT0H40M0S
SUMMARY:Slattery/Alojipan vs. Lakin/Holtmeier
DESCRIPTION:Forest Park Monday Low Inter. Lg. - Early Summer 24 - Paddle Up Pickleball Club
LOCATION:DDTC Court 13N
CATEGORIES:QuickScores, Pickleball Game
TRANSP:OPAQUE
BEGIN:VALARM
TRIGGER:-PT2H
ACTION:DISPLAY
DESCRIPTION:Slattery/Alojipan vs. Lakin/Holtmeier
END:VALARM
END:VEVENT
BEGIN:VEVENT
UID:pupc-63683840-20240624T184000@quickscores.com
DTSTAMP:20260419T141200Z
DTSTART;TZID=America/Chicago:20240624T184000
DURATION:PT0H40M0S
SUMMARY:Slattery/Alojipan vs. Daigh/Andereck
DESCRIPTION:Forest Park Monday Low Inter. Lg. - Early Summer 24 - Paddle Up Pickleball Club
LOCATION:DDTC Court 13N
CATEGORIES:QuickScores, Pickleball Game
TRANSP:OPAQUE
BEGIN:VALARM
TRIGGER:-PT2H
ACTION:DISPLAY
DESCRIPTION:Slattery/Alojipan vs. Daigh/Andereck
END:VALARM
END:VEVENT
BEGIN:VEVENT
UID:pupc-63683864-20240701T200000@quickscores.com
DTSTAMP:20260419T141200Z
DTSTART;TZID=America/Chicago:20240701T200000
DURATION:PT0H40M0S
SUMMARY:Rule/Rule vs. Slattery/Alojipan
DESCRIPTION:Forest Park Monday Low Inter. Lg. - Early Summer 24 - Paddle Up Pickleball Club
LOCATION:DDTC Court 13N
CATEGORIES:QuickScores, Pickleball Game
TRANSP:OPAQUE
BEGIN:VALARM
TRIGGER:-PT2H
ACTION:DISPLAY
DESCRIPTION:Rule/Rule vs. Slattery/Alojipan
END:VALARM
END:VEVENT
BEGIN:VEVENT
UID:pupc-63683865-20240701T204000@quickscores.com
DTSTAMP:20260419T141200Z
DTSTART;TZID=America/Chicago:20240701T204000
DURATION:PT0H40M0S
SUMMARY:Ilivicky/Hunter vs. Slattery/Alojipan
DESCRIPTION:Forest Park Monday Low Inter. Lg. - Early Summer 24 - Paddle Up Pickleball Club
LOCATION:DDTC Court 13N
CATEGORIES:QuickScores, Pickleball Game
TRANSP:OPAQUE
BEGIN:VALARM
TRIGGER:-PT2H
ACTION:DISPLAY
DESCRIPTION:Ilivicky/Hunter vs. Slattery/Alojipan
END:VALARM
END:VEVENT
BEGIN:VEVENT
UID:pupc-63683875-20240715T180000@quickscores.com
DTSTAMP:20260419T141200Z
DTSTART;TZID=America/Chicago:20240715T180000
DURATION:PT0H40M0S
SUMMARY:Slattery/Alojipan vs. Lakin/Holtmeier
DESCRIPTION:Forest Park Monday Low Inter. Lg. - Early Summer 24 - Paddle Up Pickleball Club
LOCATION:DDTC Court 13N
CATEGORIES:QuickScores, Pickleball Game
TRANSP:OPAQUE
BEGIN:VALARM
TRIGGER:-PT2H
ACTION:DISPLAY
DESCRIPTION:Slattery/Alojipan vs. Lakin/Holtmeier
END:VALARM
END:VEVENT
BEGIN:VEVENT
UID:pupc-63710236-20240715T184000@quickscores.com
DTSTAMP:20260419T141200Z
DTSTART;TZID=America/Chicago:20240715T184000
DURATION:PT0H40M0S
SUMMARY:Slattery/Alojipan vs. Bambini/Compardo2
DESCRIPTION:Forest Park Monday Low Inter. Lg. - Early Summer 24 - Paddle Up Pickleball Club
LOCATION:DDTC Court 11N
CATEGORIES:QuickScores, Pickleball Game
TRANSP:OPAQUE
BEGIN:VALARM
TRIGGER:-PT2H
ACTION:DISPLAY
DESCRIPTION:Slattery/Alojipan vs. Bambini/Compardo2
END:VALARM
END:VEVENT
BEGIN:VEVENT
UID:pupc-64119527-20240722T183000@quickscores.com
DTSTAMP:20260419T141200Z
DTSTART;TZID=America/Chicago:20240722T183000
DURATION:PT0H30M0S
SUMMARY:[6] Slattery/Alojipan vs. [11] Coffelt/Hutson
DESCRIPTION:Forest Park Monday Low Inter. Lg. - Early Summer 24 - Paddle Up Pickleball Club
LOCATION:DDTC Court 12N
CATEGORIES:QuickScores, Pickleball Game
TRANSP:OPAQUE
BEGIN:VALARM
TRIGGER:-PT2H
ACTION:DISPLAY
DESCRIPTION:[6] Slattery/Alojipan vs. [11] Coffelt/Hutson
END:VALARM
END:VEVENT
END:VCALENDAR
