BEGIN:VCALENDAR
VERSION:2.0
PRODID:-//QuickScores.com//BQ Dynamic iCal Creator//EN
METHOD:PUBLISH
X-WR-CALNAME:Nigg/Bedillon - Forest Park Monday Low Inter. Lg. - Early Summer 24 - Completed Leagues 2023/24
X-WR-CALDESC:QuickScores game calendar
X-PUBLISHED-TTL:PT24H
REFRESH-INTERVAL;VALUE=DURATION:PT24H
CALSCALE:GREGORIAN
BEGIN:VTIMEZONE
TZID:America/Chicago
X-LIC-LOCATION:America/Chicago
BEGIN:DAYLIGHT
TZNAME:CDT
TZOFFSETFROM:-0600
TZOFFSETTO:-0500
DTSTART:19700308T020000
RRULE:FREQ=YEARLY;BYMONTH=3;BYDAY=2SU
END:DAYLIGHT
BEGIN:STANDARD
TZNAME:CST
TZOFFSETFROM:-0500
TZOFFSETTO:-0600
DTSTART:19701101T020000
RRULE:FREQ=YEARLY;BYMONTH=11;BYDAY=1SU
END:STANDARD
END:VTIMEZONE
BEGIN:VEVENT
UID:pupc-63683813-20240610T192000@quickscores.com
DTSTAMP:20260419T160100Z
DTSTART;TZID=America/Chicago:20240610T192000
DURATION:PT0H40M0S
SUMMARY:Nigg/Bedillon vs. Kellerman/Dilger
DESCRIPTION:Forest Park Monday Low Inter. Lg. - Early Summer 24 - Paddle Up Pickleball Club
LOCATION:DDTC Court 12N
CATEGORIES:QuickScores, Pickleball Game
TRANSP:OPAQUE
BEGIN:VALARM
TRIGGER:-PT2H
ACTION:DISPLAY
DESCRIPTION:Nigg/Bedillon vs. Kellerman/Dilger
END:VALARM
END:VEVENT
BEGIN:VEVENT
UID:pupc-63683814-20240610T200000@quickscores.com
DTSTAMP:20260419T160100Z
DTSTART;TZID=America/Chicago:20240610T200000
DURATION:PT0H40M0S
SUMMARY:Nigg/Bedillon vs. Ilivicky/Hunter
DESCRIPTION:Forest Park Monday Low Inter. Lg. - Early Summer 24 - Paddle Up Pickleball Club
LOCATION:DDTC Court 12N
CATEGORIES:QuickScores, Pickleball Game
TRANSP:OPAQUE
BEGIN:VALARM
TRIGGER:-PT2H
ACTION:DISPLAY
DESCRIPTION:Nigg/Bedillon vs. Ilivicky/Hunter
END:VALARM
END:VEVENT
BEGIN:VEVENT
UID:pupc-63683827-20240617T180000@quickscores.com
DTSTAMP:20260419T160100Z
DTSTART;TZID=America/Chicago:20240617T180000
DURATION:PT0H40M0S
SUMMARY:Quintero/Sarquist vs. Nigg/Bedillon
DESCRIPTION:Forest Park Monday Low Inter. Lg. - Early Summer 24 - Paddle Up Pickleball Club
LOCATION:DDTC Court 13N
CATEGORIES:QuickScores, Pickleball Game
TRANSP:OPAQUE
BEGIN:VALARM
TRIGGER:-PT2H
ACTION:DISPLAY
DESCRIPTION:Quintero/Sarquist vs. Nigg/Bedillon
END:VALARM
END:VEVENT
BEGIN:VEVENT
UID:pupc-63710233-20240617T184000@quickscores.com
DTSTAMP:20260419T160100Z
DTSTART;TZID=America/Chicago:20240617T184000
DURATION:PT0H40M0S
SUMMARY:Nigg/Bedillon vs. Bambini/Compardo2
DESCRIPTION:Forest Park Monday Low Inter. Lg. - Early Summer 24 - Paddle Up Pickleball Club
LOCATION:DDTC Court 11N
CATEGORIES:QuickScores, Pickleball Game
TRANSP:OPAQUE
BEGIN:VALARM
TRIGGER:-PT2H
ACTION:DISPLAY
DESCRIPTION:Nigg/Bedillon vs. Bambini/Compardo2
END:VALARM
END:VEVENT
BEGIN:VEVENT
UID:pupc-63683836-20240624T200000@quickscores.com
DTSTAMP:20260419T160100Z
DTSTART;TZID=America/Chicago:20240624T200000
DURATION:PT0H40M0S
SUMMARY:Huether/Brower vs. Nigg/Bedillon
DESCRIPTION:Forest Park Monday Low Inter. Lg. - Early Summer 24 - Paddle Up Pickleball Club
LOCATION:DDTC Court 13N
CATEGORIES:QuickScores, Pickleball Game
TRANSP:OPAQUE
BEGIN:VALARM
TRIGGER:-PT2H
ACTION:DISPLAY
DESCRIPTION:Huether/Brower vs. Nigg/Bedillon
END:VALARM
END:VEVENT
BEGIN:VEVENT
UID:pupc-63683837-20240624T204000@quickscores.com
DTSTAMP:20260419T160100Z
DTSTART;TZID=America/Chicago:20240624T204000
DURATION:PT0H40M0S
SUMMARY:Nigg/Bedillon vs. Leeker/Kuca
DESCRIPTION:Forest Park Monday Low Inter. Lg. - Early Summer 24 - Paddle Up Pickleball Club
LOCATION:DDTC Court 13N
CATEGORIES:QuickScores, Pickleball Game
TRANSP:OPAQUE
BEGIN:VALARM
TRIGGER:-PT2H
ACTION:DISPLAY
DESCRIPTION:Nigg/Bedillon vs. Leeker/Kuca
END:VALARM
END:VEVENT
BEGIN:VEVENT
UID:pupc-63683854-20240701T200000@quickscores.com
DTSTAMP:20260419T160100Z
DTSTART;TZID=America/Chicago:20240701T200000
DURATION:PT0H40M0S
SUMMARY:Macias/Platschek vs. Nigg/Bedillon
DESCRIPTION:Forest Park Monday Low Inter. Lg. - Early Summer 24 - Paddle Up Pickleball Club
LOCATION:DDTC Court 14N
CATEGORIES:QuickScores, Pickleball Game
TRANSP:OPAQUE
BEGIN:VALARM
TRIGGER:-PT2H
ACTION:DISPLAY
DESCRIPTION:Macias/Platschek vs. Nigg/Bedillon
END:VALARM
END:VEVENT
BEGIN:VEVENT
UID:pupc-63683855-20240701T204000@quickscores.com
DTSTAMP:20260419T160100Z
DTSTART;TZID=America/Chicago:20240701T204000
DURATION:PT0H40M0S
SUMMARY:Jacobsmeyer/Jacobsmeyer vs. Nigg/Bedillon
DESCRIPTION:Forest Park Monday Low Inter. Lg. - Early Summer 24 - Paddle Up Pickleball Club
LOCATION:DDTC Court 14N
CATEGORIES:QuickScores, Pickleball Game
TRANSP:OPAQUE
BEGIN:VALARM
TRIGGER:-PT2H
ACTION:DISPLAY
DESCRIPTION:Jacobsmeyer/Jacobsmeyer vs. Nigg/Bedillon
END:VALARM
END:VEVENT
BEGIN:VEVENT
UID:pupc-63683883-20240715T184000@quickscores.com
DTSTAMP:20260419T160100Z
DTSTART;TZID=America/Chicago:20240715T184000
DURATION:PT0H40M0S
SUMMARY:Lakin/Holtmeier vs. Nigg/Bedillon
DESCRIPTION:Forest Park Monday Low Inter. Lg. - Early Summer 24 - Paddle Up Pickleball Club
LOCATION:DDTC Court 14N
CATEGORIES:QuickScores, Pickleball Game
TRANSP:OPAQUE
BEGIN:VALARM
TRIGGER:-PT2H
ACTION:DISPLAY
DESCRIPTION:Lakin/Holtmeier vs. Nigg/Bedillon
END:VALARM
END:VEVENT
BEGIN:VEVENT
UID:pupc-63683877-20240715T192000@quickscores.com
DTSTAMP:20260419T160100Z
DTSTART;TZID=America/Chicago:20240715T192000
DURATION:PT0H40M0S
SUMMARY:Lanter/Lanter vs. Nigg/Bedillon
DESCRIPTION:Forest Park Monday Low Inter. Lg. - Early Summer 24 - Paddle Up Pickleball Club
LOCATION:DDTC Court 12S
CATEGORIES:QuickScores, Pickleball Game
TRANSP:OPAQUE
BEGIN:VALARM
TRIGGER:-PT2H
ACTION:DISPLAY
DESCRIPTION:Lanter/Lanter vs. Nigg/Bedillon
END:VALARM
END:VEVENT
BEGIN:VEVENT
UID:pupc-64119524-20240722T183000@quickscores.com
DTSTAMP:20260419T160100Z
DTSTART;TZID=America/Chicago:20240722T183000
DURATION:PT0H30M0S
SUMMARY:[2] Nigg/Bedillon vs. Winner of Game 2
DESCRIPTION:Forest Park Monday Low Inter. Lg. - Early Summer 24 - Paddle Up Pickleball Club
LOCATION:DDTC Court 14S
CATEGORIES:QuickScores, Pickleball Game
TRANSP:OPAQUE
BEGIN:VALARM
TRIGGER:-PT2H
ACTION:DISPLAY
DESCRIPTION:[2] Nigg/Bedillon vs. Winner of Game 2
END:VALARM
END:VEVENT
END:VCALENDAR
