BEGIN:VCALENDAR
VERSION:2.0
PRODID:-//QuickScores.com//BQ Dynamic iCal Creator//EN
METHOD:PUBLISH
X-WR-CALNAME:Krone/Krone - Forest Park Monday Low Inter. Lg. - Early Summer 24 - Completed Leagues 2023/24
X-WR-CALDESC:QuickScores game calendar
X-PUBLISHED-TTL:PT24H
REFRESH-INTERVAL;VALUE=DURATION:PT24H
CALSCALE:GREGORIAN
BEGIN:VTIMEZONE
TZID:America/Chicago
X-LIC-LOCATION:America/Chicago
BEGIN:DAYLIGHT
TZNAME:CDT
TZOFFSETFROM:-0600
TZOFFSETTO:-0500
DTSTART:19700308T020000
RRULE:FREQ=YEARLY;BYMONTH=3;BYDAY=2SU
END:DAYLIGHT
BEGIN:STANDARD
TZNAME:CST
TZOFFSETFROM:-0500
TZOFFSETTO:-0600
DTSTART:19701101T020000
RRULE:FREQ=YEARLY;BYMONTH=11;BYDAY=1SU
END:STANDARD
END:VTIMEZONE
BEGIN:VEVENT
UID:pupc-63683806-20240610T200000@quickscores.com
DTSTAMP:20260419T160200Z
DTSTART;TZID=America/Chicago:20240610T200000
DURATION:PT0H40M0S
SUMMARY:Macias/Platschek vs. Krone/Krone
DESCRIPTION:Forest Park Monday Low Inter. Lg. - Early Summer 24 - Paddle Up Pickleball Club
LOCATION:DDTC Court 14N
CATEGORIES:QuickScores, Pickleball Game
TRANSP:OPAQUE
BEGIN:VALARM
TRIGGER:-PT2H
ACTION:DISPLAY
DESCRIPTION:Macias/Platschek vs. Krone/Krone
END:VALARM
END:VEVENT
BEGIN:VEVENT
UID:pupc-63683815-20240610T204000@quickscores.com
DTSTAMP:20260419T160200Z
DTSTART;TZID=America/Chicago:20240610T204000
DURATION:PT0H40M0S
SUMMARY:Krone/Krone vs. Slattery/Alojipan
DESCRIPTION:Forest Park Monday Low Inter. Lg. - Early Summer 24 - Paddle Up Pickleball Club
LOCATION:DDTC Court 12N
CATEGORIES:QuickScores, Pickleball Game
TRANSP:OPAQUE
BEGIN:VALARM
TRIGGER:-PT2H
ACTION:DISPLAY
DESCRIPTION:Krone/Krone vs. Slattery/Alojipan
END:VALARM
END:VEVENT
BEGIN:VEVENT
UID:pupc-63683829-20240617T192000@quickscores.com
DTSTAMP:20260419T160200Z
DTSTART;TZID=America/Chicago:20240617T192000
DURATION:PT0H40M0S
SUMMARY:Krone/Krone vs. Jacobsmeyer/Jacobsmeyer
DESCRIPTION:Forest Park Monday Low Inter. Lg. - Early Summer 24 - Paddle Up Pickleball Club
LOCATION:DDTC Court 12S
CATEGORIES:QuickScores, Pickleball Game
TRANSP:OPAQUE
BEGIN:VALARM
TRIGGER:-PT2H
ACTION:DISPLAY
DESCRIPTION:Krone/Krone vs. Jacobsmeyer/Jacobsmeyer
END:VALARM
END:VEVENT
BEGIN:VEVENT
UID:pupc-63683832-20240617T204000@quickscores.com
DTSTAMP:20260419T160200Z
DTSTART;TZID=America/Chicago:20240617T204000
DURATION:PT0H40M0S
SUMMARY:Krone/Krone vs. Huether/Brower
DESCRIPTION:Forest Park Monday Low Inter. Lg. - Early Summer 24 - Paddle Up Pickleball Club
LOCATION:DDTC Court 14N
CATEGORIES:QuickScores, Pickleball Game
TRANSP:OPAQUE
BEGIN:VALARM
TRIGGER:-PT2H
ACTION:DISPLAY
DESCRIPTION:Krone/Krone vs. Huether/Brower
END:VALARM
END:VEVENT
BEGIN:VEVENT
UID:pupc-63683846-20240624T180000@quickscores.com
DTSTAMP:20260419T160200Z
DTSTART;TZID=America/Chicago:20240624T180000
DURATION:PT0H40M0S
SUMMARY:Krone/Krone vs. Lanter/Lanter
DESCRIPTION:Forest Park Monday Low Inter. Lg. - Early Summer 24 - Paddle Up Pickleball Club
LOCATION:DDTC Court 14N
CATEGORIES:QuickScores, Pickleball Game
TRANSP:OPAQUE
BEGIN:VALARM
TRIGGER:-PT2H
ACTION:DISPLAY
DESCRIPTION:Krone/Krone vs. Lanter/Lanter
END:VALARM
END:VEVENT
BEGIN:VEVENT
UID:pupc-63683847-20240624T184000@quickscores.com
DTSTAMP:20260419T160200Z
DTSTART;TZID=America/Chicago:20240624T184000
DURATION:PT0H40M0S
SUMMARY:Krone/Krone vs. Lanter/Lanter
DESCRIPTION:Forest Park Monday Low Inter. Lg. - Early Summer 24 - Paddle Up Pickleball Club
LOCATION:DDTC Court 14N
CATEGORIES:QuickScores, Pickleball Game
TRANSP:OPAQUE
BEGIN:VALARM
TRIGGER:-PT2H
ACTION:DISPLAY
DESCRIPTION:Krone/Krone vs. Lanter/Lanter
END:VALARM
END:VEVENT
BEGIN:VEVENT
UID:pupc-63683859-20240701T180000@quickscores.com
DTSTAMP:20260419T160200Z
DTSTART;TZID=America/Chicago:20240701T180000
DURATION:PT0H40M0S
SUMMARY:Thuet/Wientge vs. Krone/Krone
DESCRIPTION:Forest Park Monday Low Inter. Lg. - Early Summer 24 - Paddle Up Pickleball Club
LOCATION:DDTC Court 12N
CATEGORIES:QuickScores, Pickleball Game
TRANSP:OPAQUE
BEGIN:VALARM
TRIGGER:-PT2H
ACTION:DISPLAY
DESCRIPTION:Thuet/Wientge vs. Krone/Krone
END:VALARM
END:VEVENT
BEGIN:VEVENT
UID:pupc-63683860-20240701T184000@quickscores.com
DTSTAMP:20260419T160200Z
DTSTART;TZID=America/Chicago:20240701T184000
DURATION:PT0H40M0S
SUMMARY:Krone/Krone vs. Leeker/Kuca
DESCRIPTION:Forest Park Monday Low Inter. Lg. - Early Summer 24 - Paddle Up Pickleball Club
LOCATION:DDTC Court 12N
CATEGORIES:QuickScores, Pickleball Game
TRANSP:OPAQUE
BEGIN:VALARM
TRIGGER:-PT2H
ACTION:DISPLAY
DESCRIPTION:Krone/Krone vs. Leeker/Kuca
END:VALARM
END:VEVENT
BEGIN:VEVENT
UID:pupc-63683872-20240715T200000@quickscores.com
DTSTAMP:20260419T160200Z
DTSTART;TZID=America/Chicago:20240715T200000
DURATION:PT0H40M0S
SUMMARY:Wienstroer/Reese vs. Krone/Krone
DESCRIPTION:Forest Park Monday Low Inter. Lg. - Early Summer 24 - Paddle Up Pickleball Club
LOCATION:DDTC Court 13N
CATEGORIES:QuickScores, Pickleball Game
TRANSP:OPAQUE
BEGIN:VALARM
TRIGGER:-PT2H
ACTION:DISPLAY
DESCRIPTION:Wienstroer/Reese vs. Krone/Krone
END:VALARM
END:VEVENT
BEGIN:VEVENT
UID:pupc-63683871-20240715T204000@quickscores.com
DTSTAMP:20260419T160200Z
DTSTART;TZID=America/Chicago:20240715T204000
DURATION:PT0H40M0S
SUMMARY:Krone/Krone vs. Kellerman/Dilger
DESCRIPTION:Forest Park Monday Low Inter. Lg. - Early Summer 24 - Paddle Up Pickleball Club
LOCATION:DDTC Court 12N
CATEGORIES:QuickScores, Pickleball Game
TRANSP:OPAQUE
BEGIN:VALARM
TRIGGER:-PT2H
ACTION:DISPLAY
DESCRIPTION:Krone/Krone vs. Kellerman/Dilger
END:VALARM
END:VEVENT
BEGIN:VEVENT
UID:pupc-64119505-20240722T180000@quickscores.com
DTSTAMP:20260419T160200Z
DTSTART;TZID=America/Chicago:20240722T180000
DURATION:PT0H30M0S
SUMMARY:[16] Krone/Krone vs. [17] Thuet/Wientge
DESCRIPTION:Forest Park Monday Low Inter. Lg. - Early Summer 24 - Paddle Up Pickleball Club
LOCATION:DDTC Court 14N
CATEGORIES:QuickScores, Pickleball Game
TRANSP:OPAQUE
BEGIN:VALARM
TRIGGER:-PT2H
ACTION:DISPLAY
DESCRIPTION:[16] Krone/Krone vs. [17] Thuet/Wientge
END:VALARM
END:VEVENT
END:VCALENDAR
