BEGIN:VCALENDAR
VERSION:2.0
PRODID:-//QuickScores.com//BQ Dynamic iCal Creator//EN
METHOD:PUBLISH
X-WR-CALNAME:Huether/Brower - Forest Park Monday Low Inter. Lg. - Early Summer 24 - Completed Leagues 2023/24
X-WR-CALDESC:QuickScores game calendar
X-PUBLISHED-TTL:PT24H
REFRESH-INTERVAL;VALUE=DURATION:PT24H
CALSCALE:GREGORIAN
BEGIN:VTIMEZONE
TZID:America/Chicago
X-LIC-LOCATION:America/Chicago
BEGIN:DAYLIGHT
TZNAME:CDT
TZOFFSETFROM:-0600
TZOFFSETTO:-0500
DTSTART:19700308T020000
RRULE:FREQ=YEARLY;BYMONTH=3;BYDAY=2SU
END:DAYLIGHT
BEGIN:STANDARD
TZNAME:CST
TZOFFSETFROM:-0500
TZOFFSETTO:-0600
DTSTART:19701101T020000
RRULE:FREQ=YEARLY;BYMONTH=11;BYDAY=1SU
END:STANDARD
END:VTIMEZONE
BEGIN:VEVENT
UID:pupc-63683811-20240610T180000@quickscores.com
DTSTAMP:20260419T155300Z
DTSTART;TZID=America/Chicago:20240610T180000
DURATION:PT0H40M0S
SUMMARY:Lakin/Holtmeier vs. Huether/Brower
DESCRIPTION:Forest Park Monday Low Inter. Lg. - Early Summer 24 - Paddle Up Pickleball Club
LOCATION:DDTC Court 12N
CATEGORIES:QuickScores, Pickleball Game
TRANSP:OPAQUE
BEGIN:VALARM
TRIGGER:-PT2H
ACTION:DISPLAY
DESCRIPTION:Lakin/Holtmeier vs. Huether/Brower
END:VALARM
END:VEVENT
BEGIN:VEVENT
UID:pupc-63683812-20240610T184000@quickscores.com
DTSTAMP:20260419T155300Z
DTSTART;TZID=America/Chicago:20240610T184000
DURATION:PT0H40M0S
SUMMARY:Kellerman/Dilger vs. Huether/Brower
DESCRIPTION:Forest Park Monday Low Inter. Lg. - Early Summer 24 - Paddle Up Pickleball Club
LOCATION:DDTC Court 12N
CATEGORIES:QuickScores, Pickleball Game
TRANSP:OPAQUE
BEGIN:VALARM
TRIGGER:-PT2H
ACTION:DISPLAY
DESCRIPTION:Kellerman/Dilger vs. Huether/Brower
END:VALARM
END:VEVENT
BEGIN:VEVENT
UID:pupc-63683831-20240617T200000@quickscores.com
DTSTAMP:20260419T155300Z
DTSTART;TZID=America/Chicago:20240617T200000
DURATION:PT0H40M0S
SUMMARY:Huether/Brower vs. Leeker/Kuca
DESCRIPTION:Forest Park Monday Low Inter. Lg. - Early Summer 24 - Paddle Up Pickleball Club
LOCATION:DDTC Court 14N
CATEGORIES:QuickScores, Pickleball Game
TRANSP:OPAQUE
BEGIN:VALARM
TRIGGER:-PT2H
ACTION:DISPLAY
DESCRIPTION:Huether/Brower vs. Leeker/Kuca
END:VALARM
END:VEVENT
BEGIN:VEVENT
UID:pupc-63683832-20240617T204000@quickscores.com
DTSTAMP:20260419T155300Z
DTSTART;TZID=America/Chicago:20240617T204000
DURATION:PT0H40M0S
SUMMARY:Krone/Krone vs. Huether/Brower
DESCRIPTION:Forest Park Monday Low Inter. Lg. - Early Summer 24 - Paddle Up Pickleball Club
LOCATION:DDTC Court 14N
CATEGORIES:QuickScores, Pickleball Game
TRANSP:OPAQUE
BEGIN:VALARM
TRIGGER:-PT2H
ACTION:DISPLAY
DESCRIPTION:Krone/Krone vs. Huether/Brower
END:VALARM
END:VEVENT
BEGIN:VEVENT
UID:pupc-63683836-20240624T200000@quickscores.com
DTSTAMP:20260419T155300Z
DTSTART;TZID=America/Chicago:20240624T200000
DURATION:PT0H40M0S
SUMMARY:Huether/Brower vs. Nigg/Bedillon
DESCRIPTION:Forest Park Monday Low Inter. Lg. - Early Summer 24 - Paddle Up Pickleball Club
LOCATION:DDTC Court 13N
CATEGORIES:QuickScores, Pickleball Game
TRANSP:OPAQUE
BEGIN:VALARM
TRIGGER:-PT2H
ACTION:DISPLAY
DESCRIPTION:Huether/Brower vs. Nigg/Bedillon
END:VALARM
END:VEVENT
BEGIN:VEVENT
UID:pupc-63683835-20240624T204000@quickscores.com
DTSTAMP:20260419T155300Z
DTSTART;TZID=America/Chicago:20240624T204000
DURATION:PT0H40M0S
SUMMARY:Huether/Brower vs. Macias/Platschek
DESCRIPTION:Forest Park Monday Low Inter. Lg. - Early Summer 24 - Paddle Up Pickleball Club
LOCATION:DDTC Court 12N
CATEGORIES:QuickScores, Pickleball Game
TRANSP:OPAQUE
BEGIN:VALARM
TRIGGER:-PT2H
ACTION:DISPLAY
DESCRIPTION:Huether/Brower vs. Macias/Platschek
END:VALARM
END:VEVENT
BEGIN:VEVENT
UID:pupc-63710235-20240701T184000@quickscores.com
DTSTAMP:20260419T155300Z
DTSTART;TZID=America/Chicago:20240701T184000
DURATION:PT0H40M0S
SUMMARY:Huether/Brower vs. Daigh/Andereck
DESCRIPTION:Forest Park Monday Low Inter. Lg. - Early Summer 24 - Paddle Up Pickleball Club
LOCATION:DDTC Court 11N
CATEGORIES:QuickScores, Pickleball Game
TRANSP:OPAQUE
BEGIN:VALARM
TRIGGER:-PT2H
ACTION:DISPLAY
DESCRIPTION:Huether/Brower vs. Daigh/Andereck
END:VALARM
END:VEVENT
BEGIN:VEVENT
UID:pupc-63683856-20240701T192000@quickscores.com
DTSTAMP:20260419T155300Z
DTSTART;TZID=America/Chicago:20240701T192000
DURATION:PT0H40M0S
SUMMARY:Huether/Brower vs. Ilivicky/Hunter
DESCRIPTION:Forest Park Monday Low Inter. Lg. - Early Summer 24 - Paddle Up Pickleball Club
LOCATION:DDTC Court 14N
CATEGORIES:QuickScores, Pickleball Game
TRANSP:OPAQUE
BEGIN:VALARM
TRIGGER:-PT2H
ACTION:DISPLAY
DESCRIPTION:Huether/Brower vs. Ilivicky/Hunter
END:VALARM
END:VEVENT
BEGIN:VEVENT
UID:pupc-63683882-20240715T180000@quickscores.com
DTSTAMP:20260419T155300Z
DTSTART;TZID=America/Chicago:20240715T180000
DURATION:PT0H40M0S
SUMMARY:Thuet/Wientge vs. Huether/Brower
DESCRIPTION:Forest Park Monday Low Inter. Lg. - Early Summer 24 - Paddle Up Pickleball Club
LOCATION:DDTC Court 14N
CATEGORIES:QuickScores, Pickleball Game
TRANSP:OPAQUE
BEGIN:VALARM
TRIGGER:-PT2H
ACTION:DISPLAY
DESCRIPTION:Thuet/Wientge vs. Huether/Brower
END:VALARM
END:VEVENT
BEGIN:VEVENT
UID:pupc-63683881-20240715T192000@quickscores.com
DTSTAMP:20260419T155300Z
DTSTART;TZID=America/Chicago:20240715T192000
DURATION:PT0H40M0S
SUMMARY:Huether/Brower vs. Rule/Rule
DESCRIPTION:Forest Park Monday Low Inter. Lg. - Early Summer 24 - Paddle Up Pickleball Club
LOCATION:DDTC Court 14N
CATEGORIES:QuickScores, Pickleball Game
TRANSP:OPAQUE
BEGIN:VALARM
TRIGGER:-PT2H
ACTION:DISPLAY
DESCRIPTION:Huether/Brower vs. Rule/Rule
END:VALARM
END:VEVENT
BEGIN:VEVENT
UID:pupc-64119526-20240722T180000@quickscores.com
DTSTAMP:20260419T155300Z
DTSTART;TZID=America/Chicago:20240722T180000
DURATION:PT0H30M0S
SUMMARY:[3] Daigh/Andereck vs. [14] Huether/Brower
DESCRIPTION:Forest Park Monday Low Inter. Lg. - Early Summer 24 - Paddle Up Pickleball Club
LOCATION:DDTC Court 12N
CATEGORIES:QuickScores, Pickleball Game
TRANSP:OPAQUE
BEGIN:VALARM
TRIGGER:-PT2H
ACTION:DISPLAY
DESCRIPTION:[3] Daigh/Andereck vs. [14] Huether/Brower
END:VALARM
END:VEVENT
END:VCALENDAR
