BEGIN:VCALENDAR
VERSION:2.0
PRODID:-//QuickScores.com//BQ Dynamic iCal Creator//EN
METHOD:PUBLISH
X-WR-CALNAME:Macias/Platschek - Forest Park Monday Low Inter. Lg. - Early Summer 24 - Completed Leagues 2023/24
X-WR-CALDESC:QuickScores game calendar
X-PUBLISHED-TTL:PT24H
REFRESH-INTERVAL;VALUE=DURATION:PT24H
CALSCALE:GREGORIAN
BEGIN:VTIMEZONE
TZID:America/Chicago
X-LIC-LOCATION:America/Chicago
BEGIN:DAYLIGHT
TZNAME:CDT
TZOFFSETFROM:-0600
TZOFFSETTO:-0500
DTSTART:19700308T020000
RRULE:FREQ=YEARLY;BYMONTH=3;BYDAY=2SU
END:DAYLIGHT
BEGIN:STANDARD
TZNAME:CST
TZOFFSETFROM:-0500
TZOFFSETTO:-0600
DTSTART:19701101T020000
RRULE:FREQ=YEARLY;BYMONTH=11;BYDAY=1SU
END:STANDARD
END:VTIMEZONE
BEGIN:VEVENT
UID:pupc-63683806-20240610T200000@quickscores.com
DTSTAMP:20260419T225100Z
DTSTART;TZID=America/Chicago:20240610T200000
DURATION:PT0H40M0S
SUMMARY:Macias/Platschek vs. Krone/Krone
DESCRIPTION:Forest Park Monday Low Inter. Lg. - Early Summer 24 - Paddle Up Pickleball Club
LOCATION:DDTC Court 14N
CATEGORIES:QuickScores, Pickleball Game
TRANSP:OPAQUE
BEGIN:VALARM
TRIGGER:-PT2H
ACTION:DISPLAY
DESCRIPTION:Macias/Platschek vs. Krone/Krone
END:VALARM
END:VEVENT
BEGIN:VEVENT
UID:pupc-63683807-20240610T204000@quickscores.com
DTSTAMP:20260419T225100Z
DTSTART;TZID=America/Chicago:20240610T204000
DURATION:PT0H40M0S
SUMMARY:Thuet/Wientge vs. Macias/Platschek
DESCRIPTION:Forest Park Monday Low Inter. Lg. - Early Summer 24 - Paddle Up Pickleball Club
LOCATION:DDTC Court 14N
CATEGORIES:QuickScores, Pickleball Game
TRANSP:OPAQUE
BEGIN:VALARM
TRIGGER:-PT2H
ACTION:DISPLAY
DESCRIPTION:Thuet/Wientge vs. Macias/Platschek
END:VALARM
END:VEVENT
BEGIN:VEVENT
UID:pupc-63683819-20240617T180000@quickscores.com
DTSTAMP:20260419T225100Z
DTSTART;TZID=America/Chicago:20240617T180000
DURATION:PT0H40M0S
SUMMARY:Lanter/Lanter vs. Macias/Platschek
DESCRIPTION:Forest Park Monday Low Inter. Lg. - Early Summer 24 - Paddle Up Pickleball Club
LOCATION:DDTC Court 12N
CATEGORIES:QuickScores, Pickleball Game
TRANSP:OPAQUE
BEGIN:VALARM
TRIGGER:-PT2H
ACTION:DISPLAY
DESCRIPTION:Lanter/Lanter vs. Macias/Platschek
END:VALARM
END:VEVENT
BEGIN:VEVENT
UID:pupc-63683828-20240617T184000@quickscores.com
DTSTAMP:20260419T225100Z
DTSTART;TZID=America/Chicago:20240617T184000
DURATION:PT0H40M0S
SUMMARY:Kellerman/Dilger vs. Macias/Platschek
DESCRIPTION:Forest Park Monday Low Inter. Lg. - Early Summer 24 - Paddle Up Pickleball Club
LOCATION:DDTC Court 13N
CATEGORIES:QuickScores, Pickleball Game
TRANSP:OPAQUE
BEGIN:VALARM
TRIGGER:-PT2H
ACTION:DISPLAY
DESCRIPTION:Kellerman/Dilger vs. Macias/Platschek
END:VALARM
END:VEVENT
BEGIN:VEVENT
UID:pupc-63683834-20240624T200000@quickscores.com
DTSTAMP:20260419T225100Z
DTSTART;TZID=America/Chicago:20240624T200000
DURATION:PT0H40M0S
SUMMARY:Macias/Platschek vs. Wienstroer/Reese
DESCRIPTION:Forest Park Monday Low Inter. Lg. - Early Summer 24 - Paddle Up Pickleball Club
LOCATION:DDTC Court 12N
CATEGORIES:QuickScores, Pickleball Game
TRANSP:OPAQUE
BEGIN:VALARM
TRIGGER:-PT2H
ACTION:DISPLAY
DESCRIPTION:Macias/Platschek vs. Wienstroer/Reese
END:VALARM
END:VEVENT
BEGIN:VEVENT
UID:pupc-63683835-20240624T204000@quickscores.com
DTSTAMP:20260419T225100Z
DTSTART;TZID=America/Chicago:20240624T204000
DURATION:PT0H40M0S
SUMMARY:Huether/Brower vs. Macias/Platschek
DESCRIPTION:Forest Park Monday Low Inter. Lg. - Early Summer 24 - Paddle Up Pickleball Club
LOCATION:DDTC Court 12N
CATEGORIES:QuickScores, Pickleball Game
TRANSP:OPAQUE
BEGIN:VALARM
TRIGGER:-PT2H
ACTION:DISPLAY
DESCRIPTION:Huether/Brower vs. Macias/Platschek
END:VALARM
END:VEVENT
BEGIN:VEVENT
UID:pupc-63683854-20240701T200000@quickscores.com
DTSTAMP:20260419T225100Z
DTSTART;TZID=America/Chicago:20240701T200000
DURATION:PT0H40M0S
SUMMARY:Macias/Platschek vs. Nigg/Bedillon
DESCRIPTION:Forest Park Monday Low Inter. Lg. - Early Summer 24 - Paddle Up Pickleball Club
LOCATION:DDTC Court 14N
CATEGORIES:QuickScores, Pickleball Game
TRANSP:OPAQUE
BEGIN:VALARM
TRIGGER:-PT2H
ACTION:DISPLAY
DESCRIPTION:Macias/Platschek vs. Nigg/Bedillon
END:VALARM
END:VEVENT
BEGIN:VEVENT
UID:pupc-63683853-20240701T204000@quickscores.com
DTSTAMP:20260419T225100Z
DTSTART;TZID=America/Chicago:20240701T204000
DURATION:PT0H40M0S
SUMMARY:Quintero/Sarquist vs. Macias/Platschek
DESCRIPTION:Forest Park Monday Low Inter. Lg. - Early Summer 24 - Paddle Up Pickleball Club
LOCATION:DDTC Court 12S
CATEGORIES:QuickScores, Pickleball Game
TRANSP:OPAQUE
BEGIN:VALARM
TRIGGER:-PT2H
ACTION:DISPLAY
DESCRIPTION:Quintero/Sarquist vs. Macias/Platschek
END:VALARM
END:VEVENT
BEGIN:VEVENT
UID:pupc-63683867-20240715T180000@quickscores.com
DTSTAMP:20260419T225100Z
DTSTART;TZID=America/Chicago:20240715T180000
DURATION:PT0H40M0S
SUMMARY:Ilivicky/Hunter vs. Macias/Platschek
DESCRIPTION:Forest Park Monday Low Inter. Lg. - Early Summer 24 - Paddle Up Pickleball Club
LOCATION:DDTC Court 12N
CATEGORIES:QuickScores, Pickleball Game
TRANSP:OPAQUE
BEGIN:VALARM
TRIGGER:-PT2H
ACTION:DISPLAY
DESCRIPTION:Ilivicky/Hunter vs. Macias/Platschek
END:VALARM
END:VEVENT
BEGIN:VEVENT
UID:pupc-63683868-20240715T184000@quickscores.com
DTSTAMP:20260419T225100Z
DTSTART;TZID=America/Chicago:20240715T184000
DURATION:PT0H40M0S
SUMMARY:Macias/Platschek vs. Rule/Rule
DESCRIPTION:Forest Park Monday Low Inter. Lg. - Early Summer 24 - Paddle Up Pickleball Club
LOCATION:DDTC Court 12N
CATEGORIES:QuickScores, Pickleball Game
TRANSP:OPAQUE
BEGIN:VALARM
TRIGGER:-PT2H
ACTION:DISPLAY
DESCRIPTION:Macias/Platschek vs. Rule/Rule
END:VALARM
END:VEVENT
BEGIN:VEVENT
UID:pupc-64119522-20240722T180000@quickscores.com
DTSTAMP:20260419T225100Z
DTSTART;TZID=America/Chicago:20240722T180000
DURATION:PT0H30M0S
SUMMARY:[4] Macias/Platschek vs. [13] Bambini/Compardo2
DESCRIPTION:Forest Park Monday Low Inter. Lg. - Early Summer 24 - Paddle Up Pickleball Club
LOCATION:DDTC Court 13N
CATEGORIES:QuickScores, Pickleball Game
TRANSP:OPAQUE
BEGIN:VALARM
TRIGGER:-PT2H
ACTION:DISPLAY
DESCRIPTION:[4] Macias/Platschek vs. [13] Bambini/Compardo2
END:VALARM
END:VEVENT
END:VCALENDAR
