BEGIN:VCALENDAR
VERSION:2.0
PRODID:-//QuickScores.com//BQ Dynamic iCal Creator//EN
METHOD:PUBLISH
X-WR-CALNAME:Ziegler/Rodgers - Forest Park Monday High Inter. Lg. - Early Summer 24 - Completed Leagues 2023/24
X-WR-CALDESC:QuickScores game calendar
X-PUBLISHED-TTL:PT24H
REFRESH-INTERVAL;VALUE=DURATION:PT24H
CALSCALE:GREGORIAN
BEGIN:VTIMEZONE
TZID:America/Chicago
X-LIC-LOCATION:America/Chicago
BEGIN:DAYLIGHT
TZNAME:CDT
TZOFFSETFROM:-0600
TZOFFSETTO:-0500
DTSTART:19700308T020000
RRULE:FREQ=YEARLY;BYMONTH=3;BYDAY=2SU
END:DAYLIGHT
BEGIN:STANDARD
TZNAME:CST
TZOFFSETFROM:-0500
TZOFFSETTO:-0600
DTSTART:19701101T020000
RRULE:FREQ=YEARLY;BYMONTH=11;BYDAY=1SU
END:STANDARD
END:VTIMEZONE
BEGIN:VEVENT
UID:pupc-63683573-20240610T180000@quickscores.com
DTSTAMP:20260424T063900Z
DTSTART;TZID=America/Chicago:20240610T180000
DURATION:PT0H40M0S
SUMMARY:Schlafly/Schlafly vs. Ziegler/Rodgers
DESCRIPTION:Forest Park Monday High Inter. Lg. - Early Summer 24 - Paddle Up Pickleball Club
LOCATION:DDTC Court 11S
CATEGORIES:QuickScores, Pickleball Game
TRANSP:OPAQUE
BEGIN:VALARM
TRIGGER:-PT2H
ACTION:DISPLAY
DESCRIPTION:Schlafly/Schlafly vs. Ziegler/Rodgers
END:VALARM
END:VEVENT
BEGIN:VEVENT
UID:pupc-63683574-20240610T184000@quickscores.com
DTSTAMP:20260424T063900Z
DTSTART;TZID=America/Chicago:20240610T184000
DURATION:PT0H40M0S
SUMMARY:Collazo/Portalatin vs. Ziegler/Rodgers
DESCRIPTION:Forest Park Monday High Inter. Lg. - Early Summer 24 - Paddle Up Pickleball Club
LOCATION:DDTC Court 11S
CATEGORIES:QuickScores, Pickleball Game
TRANSP:OPAQUE
BEGIN:VALARM
TRIGGER:-PT2H
ACTION:DISPLAY
DESCRIPTION:Collazo/Portalatin vs. Ziegler/Rodgers
END:VALARM
END:VEVENT
BEGIN:VEVENT
UID:pupc-63683599-20240617T192000@quickscores.com
DTSTAMP:20260424T063900Z
DTSTART;TZID=America/Chicago:20240617T192000
DURATION:PT0H40M0S
SUMMARY:Ziegler/Rodgers vs. Gorman/Gorman
DESCRIPTION:Forest Park Monday High Inter. Lg. - Early Summer 24 - Paddle Up Pickleball Club
LOCATION:DDTC Court 11S
CATEGORIES:QuickScores, Pickleball Game
TRANSP:OPAQUE
BEGIN:VALARM
TRIGGER:-PT2H
ACTION:DISPLAY
DESCRIPTION:Ziegler/Rodgers vs. Gorman/Gorman
END:VALARM
END:VEVENT
BEGIN:VEVENT
UID:pupc-63683598-20240617T204000@quickscores.com
DTSTAMP:20260424T063900Z
DTSTART;TZID=America/Chicago:20240617T204000
DURATION:PT0H40M0S
SUMMARY:Ziegler/Rodgers vs. Beachem/Hutchens
DESCRIPTION:Forest Park Monday High Inter. Lg. - Early Summer 24 - Paddle Up Pickleball Club
LOCATION:DDTC Court 11S
CATEGORIES:QuickScores, Pickleball Game
TRANSP:OPAQUE
BEGIN:VALARM
TRIGGER:-PT2H
ACTION:DISPLAY
DESCRIPTION:Ziegler/Rodgers vs. Beachem/Hutchens
END:VALARM
END:VEVENT
BEGIN:VEVENT
UID:pupc-63683606-20240624T200000@quickscores.com
DTSTAMP:20260424T063900Z
DTSTART;TZID=America/Chicago:20240624T200000
DURATION:PT0H40M0S
SUMMARY:Ziegler/Rodgers vs. Cage/Lansing
DESCRIPTION:Forest Park Monday High Inter. Lg. - Early Summer 24 - Paddle Up Pickleball Club
LOCATION:DDTC Court 11S
CATEGORIES:QuickScores, Pickleball Game
TRANSP:OPAQUE
BEGIN:VALARM
TRIGGER:-PT2H
ACTION:DISPLAY
DESCRIPTION:Ziegler/Rodgers vs. Cage/Lansing
END:VALARM
END:VEVENT
BEGIN:VEVENT
UID:pupc-63683605-20240624T204000@quickscores.com
DTSTAMP:20260424T063900Z
DTSTART;TZID=America/Chicago:20240624T204000
DURATION:PT0H40M0S
SUMMARY:Gustafson/Bolton vs. Ziegler/Rodgers
DESCRIPTION:Forest Park Monday High Inter. Lg. - Early Summer 24 - Paddle Up Pickleball Club
LOCATION:DDTC Court 11N
CATEGORIES:QuickScores, Pickleball Game
TRANSP:OPAQUE
BEGIN:VALARM
TRIGGER:-PT2H
ACTION:DISPLAY
DESCRIPTION:Gustafson/Bolton vs. Ziegler/Rodgers
END:VALARM
END:VEVENT
BEGIN:VEVENT
UID:pupc-63683624-20240701T192000@quickscores.com
DTSTAMP:20260424T063900Z
DTSTART;TZID=America/Chicago:20240701T192000
DURATION:PT0H40M0S
SUMMARY:Divanbeigi/Ayoob vs. Ziegler/Rodgers
DESCRIPTION:Forest Park Monday High Inter. Lg. - Early Summer 24 - Paddle Up Pickleball Club
LOCATION:DDTC Court 22
CATEGORIES:QuickScores, Pickleball Game
TRANSP:OPAQUE
BEGIN:VALARM
TRIGGER:-PT2H
ACTION:DISPLAY
DESCRIPTION:Divanbeigi/Ayoob vs. Ziegler/Rodgers
END:VALARM
END:VEVENT
BEGIN:VEVENT
UID:pupc-63683623-20240701T200000@quickscores.com
DTSTAMP:20260424T063900Z
DTSTART;TZID=America/Chicago:20240701T200000
DURATION:PT0H40M0S
SUMMARY:Thompson/Thompson vs. Ziegler/Rodgers
DESCRIPTION:Forest Park Monday High Inter. Lg. - Early Summer 24 - Paddle Up Pickleball Club
LOCATION:DDTC Court 22
CATEGORIES:QuickScores, Pickleball Game
TRANSP:OPAQUE
BEGIN:VALARM
TRIGGER:-PT2H
ACTION:DISPLAY
DESCRIPTION:Thompson/Thompson vs. Ziegler/Rodgers
END:VALARM
END:VEVENT
BEGIN:VEVENT
UID:pupc-63683637-20240715T180000@quickscores.com
DTSTAMP:20260424T063900Z
DTSTART;TZID=America/Chicago:20240715T180000
DURATION:PT0H40M0S
SUMMARY:Ziegler/Rodgers vs. Lanter/Baalman
DESCRIPTION:Forest Park Monday High Inter. Lg. - Early Summer 24 - Paddle Up Pickleball Club
LOCATION:DDTC Court 11N
CATEGORIES:QuickScores, Pickleball Game
TRANSP:OPAQUE
BEGIN:VALARM
TRIGGER:-PT2H
ACTION:DISPLAY
DESCRIPTION:Ziegler/Rodgers vs. Lanter/Baalman
END:VALARM
END:VEVENT
BEGIN:VEVENT
UID:pupc-63683636-20240715T184000@quickscores.com
DTSTAMP:20260424T063900Z
DTSTART;TZID=America/Chicago:20240715T184000
DURATION:PT0H40M0S
SUMMARY:Ziegler/Rodgers vs. Gustafson/Bolton
DESCRIPTION:Forest Park Monday High Inter. Lg. - Early Summer 24 - Paddle Up Pickleball Club
LOCATION:DDTC Court 11S
CATEGORIES:QuickScores, Pickleball Game
TRANSP:OPAQUE
BEGIN:VALARM
TRIGGER:-PT2H
ACTION:DISPLAY
DESCRIPTION:Ziegler/Rodgers vs. Gustafson/Bolton
END:VALARM
END:VEVENT
BEGIN:VEVENT
UID:pupc-64119794-20240722T183000@quickscores.com
DTSTAMP:20260424T063900Z
DTSTART;TZID=America/Chicago:20240722T183000
DURATION:PT0H30M0S
SUMMARY:[1] Ziegler/Rodgers vs. Winner of Game 1
DESCRIPTION:Forest Park Monday High Inter. Lg. - Early Summer 24 - Paddle Up Pickleball Club
LOCATION:DDTC Court 11N
CATEGORIES:QuickScores, Pickleball Game
TRANSP:OPAQUE
BEGIN:VALARM
TRIGGER:-PT2H
ACTION:DISPLAY
DESCRIPTION:[1] Ziegler/Rodgers vs. Winner of Game 1
END:VALARM
END:VEVENT
END:VCALENDAR
