BEGIN:VCALENDAR
VERSION:2.0
PRODID:-//QuickScores.com//BQ Dynamic iCal Creator//EN
METHOD:PUBLISH
X-WR-CALNAME:Thompson/Thompson - Forest Park Monday High Inter. Lg. - Early Summer 24 - Completed Leagues 2023/24
X-WR-CALDESC:QuickScores game calendar
X-PUBLISHED-TTL:PT24H
REFRESH-INTERVAL;VALUE=DURATION:PT24H
CALSCALE:GREGORIAN
BEGIN:VTIMEZONE
TZID:America/Chicago
X-LIC-LOCATION:America/Chicago
BEGIN:DAYLIGHT
TZNAME:CDT
TZOFFSETFROM:-0600
TZOFFSETTO:-0500
DTSTART:19700308T020000
RRULE:FREQ=YEARLY;BYMONTH=3;BYDAY=2SU
END:DAYLIGHT
BEGIN:STANDARD
TZNAME:CST
TZOFFSETFROM:-0500
TZOFFSETTO:-0600
DTSTART:19701101T020000
RRULE:FREQ=YEARLY;BYMONTH=11;BYDAY=1SU
END:STANDARD
END:VTIMEZONE
BEGIN:VEVENT
UID:pupc-63683578-20240610T200000@quickscores.com
DTSTAMP:20260424T232700Z
DTSTART;TZID=America/Chicago:20240610T200000
DURATION:PT0H40M0S
SUMMARY:Thompson/Thompson vs. Cage/Lansing
DESCRIPTION:Forest Park Monday High Inter. Lg. - Early Summer 24 - Paddle Up Pickleball Club
LOCATION:DDTC Court 11S
CATEGORIES:QuickScores, Pickleball Game
TRANSP:OPAQUE
BEGIN:VALARM
TRIGGER:-PT2H
ACTION:DISPLAY
DESCRIPTION:Thompson/Thompson vs. Cage/Lansing
END:VALARM
END:VEVENT
BEGIN:VEVENT
UID:pupc-63683577-20240610T204000@quickscores.com
DTSTAMP:20260424T232700Z
DTSTART;TZID=America/Chicago:20240610T204000
DURATION:PT0H40M0S
SUMMARY:Beachem/Hutchens vs. Thompson/Thompson
DESCRIPTION:Forest Park Monday High Inter. Lg. - Early Summer 24 - Paddle Up Pickleball Club
LOCATION:DDTC Court 11N
CATEGORIES:QuickScores, Pickleball Game
TRANSP:OPAQUE
BEGIN:VALARM
TRIGGER:-PT2H
ACTION:DISPLAY
DESCRIPTION:Beachem/Hutchens vs. Thompson/Thompson
END:VALARM
END:VEVENT
BEGIN:VEVENT
UID:pupc-63683589-20240617T192000@quickscores.com
DTSTAMP:20260424T232700Z
DTSTART;TZID=America/Chicago:20240617T192000
DURATION:PT0H40M0S
SUMMARY:Thompson/Thompson vs. Moody/Karstens
DESCRIPTION:Forest Park Monday High Inter. Lg. - Early Summer 24 - Paddle Up Pickleball Club
LOCATION:DDTC Court 22
CATEGORIES:QuickScores, Pickleball Game
TRANSP:OPAQUE
BEGIN:VALARM
TRIGGER:-PT2H
ACTION:DISPLAY
DESCRIPTION:Thompson/Thompson vs. Moody/Karstens
END:VALARM
END:VEVENT
BEGIN:VEVENT
UID:pupc-63683588-20240617T200000@quickscores.com
DTSTAMP:20260424T232700Z
DTSTART;TZID=America/Chicago:20240617T200000
DURATION:PT0H40M0S
SUMMARY:Divanbeigi/Ayoob vs. Thompson/Thompson
DESCRIPTION:Forest Park Monday High Inter. Lg. - Early Summer 24 - Paddle Up Pickleball Club
LOCATION:DDTC Court 22
CATEGORIES:QuickScores, Pickleball Game
TRANSP:OPAQUE
BEGIN:VALARM
TRIGGER:-PT2H
ACTION:DISPLAY
DESCRIPTION:Divanbeigi/Ayoob vs. Thompson/Thompson
END:VALARM
END:VEVENT
BEGIN:VEVENT
UID:pupc-63683612-20240624T192000@quickscores.com
DTSTAMP:20260424T232700Z
DTSTART;TZID=America/Chicago:20240624T192000
DURATION:PT0H40M0S
SUMMARY:Lanter/Baalman vs. Thompson/Thompson
DESCRIPTION:Forest Park Monday High Inter. Lg. - Early Summer 24 - Paddle Up Pickleball Club
LOCATION:DDTC Court 22
CATEGORIES:QuickScores, Pickleball Game
TRANSP:OPAQUE
BEGIN:VALARM
TRIGGER:-PT2H
ACTION:DISPLAY
DESCRIPTION:Lanter/Baalman vs. Thompson/Thompson
END:VALARM
END:VEVENT
BEGIN:VEVENT
UID:pupc-63683611-20240624T200000@quickscores.com
DTSTAMP:20260424T232700Z
DTSTART;TZID=America/Chicago:20240624T200000
DURATION:PT0H40M0S
SUMMARY:Thompson/Thompson vs. Schlafly/Schlafly
DESCRIPTION:Forest Park Monday High Inter. Lg. - Early Summer 24 - Paddle Up Pickleball Club
LOCATION:DDTC Court 22
CATEGORIES:QuickScores, Pickleball Game
TRANSP:OPAQUE
BEGIN:VALARM
TRIGGER:-PT2H
ACTION:DISPLAY
DESCRIPTION:Thompson/Thompson vs. Schlafly/Schlafly
END:VALARM
END:VEVENT
BEGIN:VEVENT
UID:pupc-63683623-20240701T200000@quickscores.com
DTSTAMP:20260424T232700Z
DTSTART;TZID=America/Chicago:20240701T200000
DURATION:PT0H40M0S
SUMMARY:Thompson/Thompson vs. Ziegler/Rodgers
DESCRIPTION:Forest Park Monday High Inter. Lg. - Early Summer 24 - Paddle Up Pickleball Club
LOCATION:DDTC Court 22
CATEGORIES:QuickScores, Pickleball Game
TRANSP:OPAQUE
BEGIN:VALARM
TRIGGER:-PT2H
ACTION:DISPLAY
DESCRIPTION:Thompson/Thompson vs. Ziegler/Rodgers
END:VALARM
END:VEVENT
BEGIN:VEVENT
UID:pupc-63683622-20240701T204000@quickscores.com
DTSTAMP:20260424T232700Z
DTSTART;TZID=America/Chicago:20240701T204000
DURATION:PT0H40M0S
SUMMARY:Vandercar/Hughes vs. Thompson/Thompson
DESCRIPTION:Forest Park Monday High Inter. Lg. - Early Summer 24 - Paddle Up Pickleball Club
LOCATION:DDTC Court 22
CATEGORIES:QuickScores, Pickleball Game
TRANSP:OPAQUE
BEGIN:VALARM
TRIGGER:-PT2H
ACTION:DISPLAY
DESCRIPTION:Vandercar/Hughes vs. Thompson/Thompson
END:VALARM
END:VEVENT
BEGIN:VEVENT
UID:pupc-63683632-20240715T192000@quickscores.com
DTSTAMP:20260424T232700Z
DTSTART;TZID=America/Chicago:20240715T192000
DURATION:PT0H40M0S
SUMMARY:Moody/Karstens vs. Thompson/Thompson
DESCRIPTION:Forest Park Monday High Inter. Lg. - Early Summer 24 - Paddle Up Pickleball Club
LOCATION:DDTC Court 22
CATEGORIES:QuickScores, Pickleball Game
TRANSP:OPAQUE
BEGIN:VALARM
TRIGGER:-PT2H
ACTION:DISPLAY
DESCRIPTION:Moody/Karstens vs. Thompson/Thompson
END:VALARM
END:VEVENT
BEGIN:VEVENT
UID:pupc-63683640-20240715T200000@quickscores.com
DTSTAMP:20260424T232700Z
DTSTART;TZID=America/Chicago:20240715T200000
DURATION:PT0H40M0S
SUMMARY:Collazo/Portalatin vs. Thompson/Thompson
DESCRIPTION:Forest Park Monday High Inter. Lg. - Early Summer 24 - Paddle Up Pickleball Club
LOCATION:DDTC Court 11S
CATEGORIES:QuickScores, Pickleball Game
TRANSP:OPAQUE
BEGIN:VALARM
TRIGGER:-PT2H
ACTION:DISPLAY
DESCRIPTION:Collazo/Portalatin vs. Thompson/Thompson
END:VALARM
END:VEVENT
BEGIN:VEVENT
UID:pupc-64119789-20240722T180000@quickscores.com
DTSTAMP:20260424T232700Z
DTSTART;TZID=America/Chicago:20240722T180000
DURATION:PT0H30M0S
SUMMARY:[5] Thompson/Thompson vs. [12] Moody/Karstens
DESCRIPTION:Forest Park Monday High Inter. Lg. - Early Summer 24 - Paddle Up Pickleball Club
LOCATION:DDTC Court 13S
CATEGORIES:QuickScores, Pickleball Game
TRANSP:OPAQUE
BEGIN:VALARM
TRIGGER:-PT2H
ACTION:DISPLAY
DESCRIPTION:[5] Thompson/Thompson vs. [12] Moody/Karstens
END:VALARM
END:VEVENT
END:VCALENDAR
