BEGIN:VCALENDAR
VERSION:2.0
PRODID:-//QuickScores.com//BQ Dynamic iCal Creator//EN
METHOD:PUBLISH
X-WR-CALNAME:Brewer/Maciel - Forest Park Monday High Inter. Lg. - Early Summer 24 - Completed Leagues 2023/24
X-WR-CALDESC:QuickScores game calendar
X-PUBLISHED-TTL:PT24H
REFRESH-INTERVAL;VALUE=DURATION:PT24H
CALSCALE:GREGORIAN
BEGIN:VTIMEZONE
TZID:America/Chicago
X-LIC-LOCATION:America/Chicago
BEGIN:DAYLIGHT
TZNAME:CDT
TZOFFSETFROM:-0600
TZOFFSETTO:-0500
DTSTART:19700308T020000
RRULE:FREQ=YEARLY;BYMONTH=3;BYDAY=2SU
END:DAYLIGHT
BEGIN:STANDARD
TZNAME:CST
TZOFFSETFROM:-0500
TZOFFSETTO:-0600
DTSTART:19701101T020000
RRULE:FREQ=YEARLY;BYMONTH=11;BYDAY=1SU
END:STANDARD
END:VTIMEZONE
BEGIN:VEVENT
UID:pupc-63683580-20240610T192000@quickscores.com
DTSTAMP:20260425T081000Z
DTSTART;TZID=America/Chicago:20240610T192000
DURATION:PT0H40M0S
SUMMARY:Brewer/Maciel vs. Divanbeigi/Ayoob
DESCRIPTION:Forest Park Monday High Inter. Lg. - Early Summer 24 - Paddle Up Pickleball Club
LOCATION:DDTC Court 11S
CATEGORIES:QuickScores, Pickleball Game
TRANSP:OPAQUE
BEGIN:VALARM
TRIGGER:-PT2H
ACTION:DISPLAY
DESCRIPTION:Brewer/Maciel vs. Divanbeigi/Ayoob
END:VALARM
END:VEVENT
BEGIN:VEVENT
UID:pupc-63683579-20240610T204000@quickscores.com
DTSTAMP:20260425T081000Z
DTSTART;TZID=America/Chicago:20240610T204000
DURATION:PT0H40M0S
SUMMARY:Cage/Lansing vs. Brewer/Maciel
DESCRIPTION:Forest Park Monday High Inter. Lg. - Early Summer 24 - Paddle Up Pickleball Club
LOCATION:DDTC Court 11S
CATEGORIES:QuickScores, Pickleball Game
TRANSP:OPAQUE
BEGIN:VALARM
TRIGGER:-PT2H
ACTION:DISPLAY
DESCRIPTION:Cage/Lansing vs. Brewer/Maciel
END:VALARM
END:VEVENT
BEGIN:VEVENT
UID:pupc-63683597-20240617T200000@quickscores.com
DTSTAMP:20260425T081000Z
DTSTART;TZID=America/Chicago:20240617T200000
DURATION:PT0H40M0S
SUMMARY:Brewer/Maciel vs. Beachem/Hutchens
DESCRIPTION:Forest Park Monday High Inter. Lg. - Early Summer 24 - Paddle Up Pickleball Club
LOCATION:DDTC Court 11S
CATEGORIES:QuickScores, Pickleball Game
TRANSP:OPAQUE
BEGIN:VALARM
TRIGGER:-PT2H
ACTION:DISPLAY
DESCRIPTION:Brewer/Maciel vs. Beachem/Hutchens
END:VALARM
END:VEVENT
BEGIN:VEVENT
UID:pupc-63683596-20240617T204000@quickscores.com
DTSTAMP:20260425T081000Z
DTSTART;TZID=America/Chicago:20240617T204000
DURATION:PT0H40M0S
SUMMARY:Lanter/Baalman vs. Brewer/Maciel
DESCRIPTION:Forest Park Monday High Inter. Lg. - Early Summer 24 - Paddle Up Pickleball Club
LOCATION:DDTC Court 11N
CATEGORIES:QuickScores, Pickleball Game
TRANSP:OPAQUE
BEGIN:VALARM
TRIGGER:-PT2H
ACTION:DISPLAY
DESCRIPTION:Lanter/Baalman vs. Brewer/Maciel
END:VALARM
END:VEVENT
BEGIN:VEVENT
UID:pupc-63683601-20240624T180000@quickscores.com
DTSTAMP:20260425T081000Z
DTSTART;TZID=America/Chicago:20240624T180000
DURATION:PT0H40M0S
SUMMARY:Brewer/Maciel vs. Collazo/Portalatin
DESCRIPTION:Forest Park Monday High Inter. Lg. - Early Summer 24 - Paddle Up Pickleball Club
LOCATION:DDTC Court 11S
CATEGORIES:QuickScores, Pickleball Game
TRANSP:OPAQUE
BEGIN:VALARM
TRIGGER:-PT2H
ACTION:DISPLAY
DESCRIPTION:Brewer/Maciel vs. Collazo/Portalatin
END:VALARM
END:VEVENT
BEGIN:VEVENT
UID:pupc-63683602-20240624T184000@quickscores.com
DTSTAMP:20260425T081000Z
DTSTART;TZID=America/Chicago:20240624T184000
DURATION:PT0H40M0S
SUMMARY:Brewer/Maciel vs. Gorman/Gorman
DESCRIPTION:Forest Park Monday High Inter. Lg. - Early Summer 24 - Paddle Up Pickleball Club
LOCATION:DDTC Court 11S
CATEGORIES:QuickScores, Pickleball Game
TRANSP:OPAQUE
BEGIN:VALARM
TRIGGER:-PT2H
ACTION:DISPLAY
DESCRIPTION:Brewer/Maciel vs. Gorman/Gorman
END:VALARM
END:VEVENT
BEGIN:VEVENT
UID:pupc-63683618-20240701T200000@quickscores.com
DTSTAMP:20260425T081000Z
DTSTART;TZID=America/Chicago:20240701T200000
DURATION:PT0H40M0S
SUMMARY:Moody/Karstens vs. Brewer/Maciel
DESCRIPTION:Forest Park Monday High Inter. Lg. - Early Summer 24 - Paddle Up Pickleball Club
LOCATION:DDTC Court 11S
CATEGORIES:QuickScores, Pickleball Game
TRANSP:OPAQUE
BEGIN:VALARM
TRIGGER:-PT2H
ACTION:DISPLAY
DESCRIPTION:Moody/Karstens vs. Brewer/Maciel
END:VALARM
END:VEVENT
BEGIN:VEVENT
UID:pupc-63683619-20240701T204000@quickscores.com
DTSTAMP:20260425T081000Z
DTSTART;TZID=America/Chicago:20240701T204000
DURATION:PT0H40M0S
SUMMARY:Brewer/Maciel vs. Schlafly/Schlafly
DESCRIPTION:Forest Park Monday High Inter. Lg. - Early Summer 24 - Paddle Up Pickleball Club
LOCATION:DDTC Court 11S
CATEGORIES:QuickScores, Pickleball Game
TRANSP:OPAQUE
BEGIN:VALARM
TRIGGER:-PT2H
ACTION:DISPLAY
DESCRIPTION:Brewer/Maciel vs. Schlafly/Schlafly
END:VALARM
END:VEVENT
BEGIN:VEVENT
UID:pupc-63683635-20240715T180000@quickscores.com
DTSTAMP:20260425T081000Z
DTSTART;TZID=America/Chicago:20240715T180000
DURATION:PT0H40M0S
SUMMARY:Brewer/Maciel vs. Gustafson/Bolton
DESCRIPTION:Forest Park Monday High Inter. Lg. - Early Summer 24 - Paddle Up Pickleball Club
LOCATION:DDTC Court 11S
CATEGORIES:QuickScores, Pickleball Game
TRANSP:OPAQUE
BEGIN:VALARM
TRIGGER:-PT2H
ACTION:DISPLAY
DESCRIPTION:Brewer/Maciel vs. Gustafson/Bolton
END:VALARM
END:VEVENT
BEGIN:VEVENT
UID:pupc-63683638-20240715T192000@quickscores.com
DTSTAMP:20260425T081000Z
DTSTART;TZID=America/Chicago:20240715T192000
DURATION:PT0H40M0S
SUMMARY:Stewart/Stewart2 vs. Brewer/Maciel
DESCRIPTION:Forest Park Monday High Inter. Lg. - Early Summer 24 - Paddle Up Pickleball Club
LOCATION:DDTC Court 11N
CATEGORIES:QuickScores, Pickleball Game
TRANSP:OPAQUE
BEGIN:VALARM
TRIGGER:-PT2H
ACTION:DISPLAY
DESCRIPTION:Stewart/Stewart2 vs. Brewer/Maciel
END:VALARM
END:VEVENT
BEGIN:VEVENT
UID:pupc-64119796-20240722T183000@quickscores.com
DTSTAMP:20260425T081000Z
DTSTART;TZID=America/Chicago:20240722T183000
DURATION:PT0H30M0S
SUMMARY:[2] Brewer/Maciel vs. Winner of Game 4
DESCRIPTION:Forest Park Monday High Inter. Lg. - Early Summer 24 - Paddle Up Pickleball Club
LOCATION:DDTC Court 11S
CATEGORIES:QuickScores, Pickleball Game
TRANSP:OPAQUE
BEGIN:VALARM
TRIGGER:-PT2H
ACTION:DISPLAY
DESCRIPTION:[2] Brewer/Maciel vs. Winner of Game 4
END:VALARM
END:VEVENT
END:VCALENDAR
