BEGIN:VCALENDAR
VERSION:2.0
PRODID:-//QuickScores.com//BQ Dynamic iCal Creator//EN
METHOD:PUBLISH
X-WR-CALNAME:Wolff/Hinrich - Lauren Murphy Open - Mixed 9am 5/19 - Completed Tournaments 2023/24
X-WR-CALDESC:QuickScores game calendar
X-PUBLISHED-TTL:PT24H
REFRESH-INTERVAL;VALUE=DURATION:PT24H
CALSCALE:GREGORIAN
BEGIN:VTIMEZONE
TZID:America/Chicago
X-LIC-LOCATION:America/Chicago
BEGIN:DAYLIGHT
TZNAME:CDT
TZOFFSETFROM:-0600
TZOFFSETTO:-0500
DTSTART:19700308T020000
RRULE:FREQ=YEARLY;BYMONTH=3;BYDAY=2SU
END:DAYLIGHT
BEGIN:STANDARD
TZNAME:CST
TZOFFSETFROM:-0500
TZOFFSETTO:-0600
DTSTART:19701101T020000
RRULE:FREQ=YEARLY;BYMONTH=11;BYDAY=1SU
END:STANDARD
END:VTIMEZONE
BEGIN:VEVENT
UID:pupc-63474931-20240519T094800@quickscores.com
DTSTAMP:20260420T175700Z
DTSTART;TZID=America/Chicago:20240519T094800
DURATION:PT0H18M0S
SUMMARY:Wolff/Hinrich vs. Westphal/Westphal
DESCRIPTION:Lauren Murphy Open - Mixed 9am 5/19 - Paddle Up Pickleball Club
LOCATION:Court 5
CATEGORIES:QuickScores, Pickleball Game
TRANSP:OPAQUE
BEGIN:VALARM
TRIGGER:-PT2H
ACTION:DISPLAY
DESCRIPTION:Wolff/Hinrich vs. Westphal/Westphal
END:VALARM
END:VEVENT
BEGIN:VEVENT
UID:pupc-63474923-20240519T100600@quickscores.com
DTSTAMP:20260420T175700Z
DTSTART;TZID=America/Chicago:20240519T100600
DURATION:PT0H18M0S
SUMMARY:VanderTuig/VanderTuig vs. Wolff/Hinrich
DESCRIPTION:Lauren Murphy Open - Mixed 9am 5/19 - Paddle Up Pickleball Club
LOCATION:Court 4
CATEGORIES:QuickScores, Pickleball Game
TRANSP:OPAQUE
BEGIN:VALARM
TRIGGER:-PT2H
ACTION:DISPLAY
DESCRIPTION:VanderTuig/VanderTuig vs. Wolff/Hinrich
END:VALARM
END:VEVENT
BEGIN:VEVENT
UID:pupc-63474948-20240519T102400@quickscores.com
DTSTAMP:20260420T175700Z
DTSTART;TZID=America/Chicago:20240519T102400
DURATION:PT0H18M0S
SUMMARY:Fritsch/Kovac vs. Wolff/Hinrich
DESCRIPTION:Lauren Murphy Open - Mixed 9am 5/19 - Paddle Up Pickleball Club
LOCATION:Court 8
CATEGORIES:QuickScores, Pickleball Game
TRANSP:OPAQUE
BEGIN:VALARM
TRIGGER:-PT2H
ACTION:DISPLAY
DESCRIPTION:Fritsch/Kovac vs. Wolff/Hinrich
END:VALARM
END:VEVENT
BEGIN:VEVENT
UID:pupc-63474941-20240519T104200@quickscores.com
DTSTAMP:20260420T175700Z
DTSTART;TZID=America/Chicago:20240519T104200
DURATION:PT0H18M0S
SUMMARY:McClanahan/Moran vs. Wolff/Hinrich
DESCRIPTION:Lauren Murphy Open - Mixed 9am 5/19 - Paddle Up Pickleball Club
LOCATION:Court 8
CATEGORIES:QuickScores, Pickleball Game
TRANSP:OPAQUE
BEGIN:VALARM
TRIGGER:-PT2H
ACTION:DISPLAY
DESCRIPTION:McClanahan/Moran vs. Wolff/Hinrich
END:VALARM
END:VEVENT
BEGIN:VEVENT
UID:pupc-63474958-20240519T111800@quickscores.com
DTSTAMP:20260420T175700Z
DTSTART;TZID=America/Chicago:20240519T111800
DURATION:PT0H18M0S
SUMMARY:Wolff/Hinrich vs. Lo/Pruss
DESCRIPTION:Lauren Murphy Open - Mixed 9am 5/19 - Paddle Up Pickleball Club
LOCATION:Court 2
CATEGORIES:QuickScores, Pickleball Game
TRANSP:OPAQUE
BEGIN:VALARM
TRIGGER:-PT2H
ACTION:DISPLAY
DESCRIPTION:Wolff/Hinrich vs. Lo/Pruss
END:VALARM
END:VEVENT
BEGIN:VEVENT
UID:pupc-63474965-20240519T113600@quickscores.com
DTSTAMP:20260420T175700Z
DTSTART;TZID=America/Chicago:20240519T113600
DURATION:PT0H18M0S
SUMMARY:Wolff/Hinrich vs. Cleeton/Hannigan
DESCRIPTION:Lauren Murphy Open - Mixed 9am 5/19 - Paddle Up Pickleball Club
LOCATION:Court 1
CATEGORIES:QuickScores, Pickleball Game
TRANSP:OPAQUE
BEGIN:VALARM
TRIGGER:-PT2H
ACTION:DISPLAY
DESCRIPTION:Wolff/Hinrich vs. Cleeton/Hannigan
END:VALARM
END:VEVENT
END:VCALENDAR
