BEGIN:VCALENDAR
VERSION:2.0
PRODID:-//QuickScores.com//BQ Dynamic iCal Creator//EN
METHOD:PUBLISH
X-WR-CALNAME:Kalish/Kalish - Lauren Murphy Open - Mixed 9am 5/19 - Completed Tournaments 2023/24
X-WR-CALDESC:QuickScores game calendar
X-PUBLISHED-TTL:PT24H
REFRESH-INTERVAL;VALUE=DURATION:PT24H
CALSCALE:GREGORIAN
BEGIN:VTIMEZONE
TZID:America/Chicago
X-LIC-LOCATION:America/Chicago
BEGIN:DAYLIGHT
TZNAME:CDT
TZOFFSETFROM:-0600
TZOFFSETTO:-0500
DTSTART:19700308T020000
RRULE:FREQ=YEARLY;BYMONTH=3;BYDAY=2SU
END:DAYLIGHT
BEGIN:STANDARD
TZNAME:CST
TZOFFSETFROM:-0500
TZOFFSETTO:-0600
DTSTART:19701101T020000
RRULE:FREQ=YEARLY;BYMONTH=11;BYDAY=1SU
END:STANDARD
END:VTIMEZONE
BEGIN:VEVENT
UID:pupc-63474974-20240519T093000@quickscores.com
DTSTAMP:20260420T113600Z
DTSTART;TZID=America/Chicago:20240519T093000
DURATION:PT0H18M0S
SUMMARY:Hausmann/Murphy vs. Kalish/Kalish
DESCRIPTION:Lauren Murphy Open - Mixed 9am 5/19 - Paddle Up Pickleball Club
LOCATION:Court 7
CATEGORIES:QuickScores, Pickleball Game
TRANSP:OPAQUE
BEGIN:VALARM
TRIGGER:-PT2H
ACTION:DISPLAY
DESCRIPTION:Hausmann/Murphy vs. Kalish/Kalish
END:VALARM
END:VEVENT
BEGIN:VEVENT
UID:pupc-63474978-20240519T094800@quickscores.com
DTSTAMP:20260420T113600Z
DTSTART;TZID=America/Chicago:20240519T094800
DURATION:PT0H18M0S
SUMMARY:Kalish/Kalish vs. Malach/Monken
DESCRIPTION:Lauren Murphy Open - Mixed 9am 5/19 - Paddle Up Pickleball Club
LOCATION:Court 3
CATEGORIES:QuickScores, Pickleball Game
TRANSP:OPAQUE
BEGIN:VALARM
TRIGGER:-PT2H
ACTION:DISPLAY
DESCRIPTION:Kalish/Kalish vs. Malach/Monken
END:VALARM
END:VEVENT
BEGIN:VEVENT
UID:pupc-63474980-20240519T102400@quickscores.com
DTSTAMP:20260420T113600Z
DTSTART;TZID=America/Chicago:20240519T102400
DURATION:PT0H18M0S
SUMMARY:Greggs/Merza vs. Kalish/Kalish
DESCRIPTION:Lauren Murphy Open - Mixed 9am 5/19 - Paddle Up Pickleball Club
LOCATION:Court 5
CATEGORIES:QuickScores, Pickleball Game
TRANSP:OPAQUE
BEGIN:VALARM
TRIGGER:-PT2H
ACTION:DISPLAY
DESCRIPTION:Greggs/Merza vs. Kalish/Kalish
END:VALARM
END:VEVENT
BEGIN:VEVENT
UID:pupc-63474975-20240519T110000@quickscores.com
DTSTAMP:20260420T113600Z
DTSTART;TZID=America/Chicago:20240519T110000
DURATION:PT0H18M0S
SUMMARY:Kalish/Kalish vs. Hausmann/Murphy
DESCRIPTION:Lauren Murphy Open - Mixed 9am 5/19 - Paddle Up Pickleball Club
LOCATION:Court 2
CATEGORIES:QuickScores, Pickleball Game
TRANSP:OPAQUE
BEGIN:VALARM
TRIGGER:-PT2H
ACTION:DISPLAY
DESCRIPTION:Kalish/Kalish vs. Hausmann/Murphy
END:VALARM
END:VEVENT
BEGIN:VEVENT
UID:pupc-63474979-20240519T113600@quickscores.com
DTSTAMP:20260420T113600Z
DTSTART;TZID=America/Chicago:20240519T113600
DURATION:PT0H18M0S
SUMMARY:Malach/Monken vs. Kalish/Kalish
DESCRIPTION:Lauren Murphy Open - Mixed 9am 5/19 - Paddle Up Pickleball Club
LOCATION:Court 4
CATEGORIES:QuickScores, Pickleball Game
TRANSP:OPAQUE
BEGIN:VALARM
TRIGGER:-PT2H
ACTION:DISPLAY
DESCRIPTION:Malach/Monken vs. Kalish/Kalish
END:VALARM
END:VEVENT
BEGIN:VEVENT
UID:pupc-63474981-20240519T115400@quickscores.com
DTSTAMP:20260420T113600Z
DTSTART;TZID=America/Chicago:20240519T115400
DURATION:PT0H18M0S
SUMMARY:Kalish/Kalish vs. Greggs/Merza
DESCRIPTION:Lauren Murphy Open - Mixed 9am 5/19 - Paddle Up Pickleball Club
LOCATION:Court 4
CATEGORIES:QuickScores, Pickleball Game
TRANSP:OPAQUE
BEGIN:VALARM
TRIGGER:-PT2H
ACTION:DISPLAY
DESCRIPTION:Kalish/Kalish vs. Greggs/Merza
END:VALARM
END:VEVENT
END:VCALENDAR
