BEGIN:VCALENDAR
VERSION:2.0
PRODID:-//QuickScores.com//BQ Dynamic iCal Creator//EN
METHOD:PUBLISH
X-WR-CALNAME:Canfield/Golden2 - Forest Park Sunday Spring Hiinter/competitive Lg. - Completed Leagues 2023/24
X-WR-CALDESC:QuickScores game calendar
X-PUBLISHED-TTL:PT24H
REFRESH-INTERVAL;VALUE=DURATION:PT24H
CALSCALE:GREGORIAN
BEGIN:VTIMEZONE
TZID:America/Chicago
X-LIC-LOCATION:America/Chicago
BEGIN:DAYLIGHT
TZNAME:CDT
TZOFFSETFROM:-0600
TZOFFSETTO:-0500
DTSTART:19700308T020000
RRULE:FREQ=YEARLY;BYMONTH=3;BYDAY=2SU
END:DAYLIGHT
BEGIN:STANDARD
TZNAME:CST
TZOFFSETFROM:-0500
TZOFFSETTO:-0600
DTSTART:19701101T020000
RRULE:FREQ=YEARLY;BYMONTH=11;BYDAY=1SU
END:STANDARD
END:VTIMEZONE
BEGIN:VEVENT
UID:pupc-63083443-20240428T184000@quickscores.com
DTSTAMP:20260424T193000Z
DTSTART;TZID=America/Chicago:20240428T184000
DURATION:PT0H40M0S
SUMMARY:Canfield/Golden2 vs. Niemeyer/Skebo
DESCRIPTION:Forest Park Sunday Spring Hiinter/competitive Lg. - Paddle Up Pickleball Club
LOCATION:DDTC Court 12N
CATEGORIES:QuickScores, Pickleball Game
TRANSP:OPAQUE
BEGIN:VALARM
TRIGGER:-PT2H
ACTION:DISPLAY
DESCRIPTION:Canfield/Golden2 vs. Niemeyer/Skebo
END:VALARM
END:VEVENT
BEGIN:VEVENT
UID:pupc-62549046-20240428T192000@quickscores.com
DTSTAMP:20260424T193000Z
DTSTART;TZID=America/Chicago:20240428T192000
DURATION:PT0H40M0S
SUMMARY:Canfield/Golden2 vs. Mulligan/Mulligan
DESCRIPTION:Forest Park Sunday Spring Hiinter/competitive Lg. - Paddle Up Pickleball Club
LOCATION:DDTC Court 12N
CATEGORIES:QuickScores, Pickleball Game
TRANSP:OPAQUE
BEGIN:VALARM
TRIGGER:-PT2H
ACTION:DISPLAY
DESCRIPTION:Canfield/Golden2 vs. Mulligan/Mulligan
END:VALARM
END:VEVENT
END:VCALENDAR
