BEGIN:VCALENDAR
VERSION:2.0
PRODID:-//QuickScores.com//BQ Dynamic iCal Creator//EN
METHOD:PUBLISH
X-WR-CALNAME:MattTrokey/TaraFesser - April Paddle Battle Mixed (9am Sunday 4/7) - Completed Tournaments 2023/24
X-WR-CALDESC:QuickScores game calendar
X-PUBLISHED-TTL:PT24H
REFRESH-INTERVAL;VALUE=DURATION:PT24H
CALSCALE:GREGORIAN
BEGIN:VTIMEZONE
TZID:America/Chicago
X-LIC-LOCATION:America/Chicago
BEGIN:DAYLIGHT
TZNAME:CDT
TZOFFSETFROM:-0600
TZOFFSETTO:-0500
DTSTART:19700308T020000
RRULE:FREQ=YEARLY;BYMONTH=3;BYDAY=2SU
END:DAYLIGHT
BEGIN:STANDARD
TZNAME:CST
TZOFFSETFROM:-0500
TZOFFSETTO:-0600
DTSTART:19701101T020000
RRULE:FREQ=YEARLY;BYMONTH=11;BYDAY=1SU
END:STANDARD
END:VTIMEZONE
BEGIN:VEVENT
UID:pupc-62672795-20240407T090000@quickscores.com
DTSTAMP:20260422T071700Z
DTSTART;TZID=America/Chicago:20240407T090000
DURATION:PT0H20M0S
SUMMARY:RebeccaClaussen/ChrisClaussen vs. MattTrokey/TaraFesser
DESCRIPTION:April Paddle Battle Mixed (9am Sunday 4/7) - Paddle Up Pickleball Club
LOCATION:Court 1
CATEGORIES:QuickScores, Pickleball Game
TRANSP:OPAQUE
BEGIN:VALARM
TRIGGER:-PT2H
ACTION:DISPLAY
DESCRIPTION:RebeccaClaussen/ChrisClaussen vs. MattTrokey/TaraFesser
END:VALARM
END:VEVENT
BEGIN:VEVENT
UID:pupc-62672809-20240407T094000@quickscores.com
DTSTAMP:20260422T071700Z
DTSTART;TZID=America/Chicago:20240407T094000
DURATION:PT0H20M0S
SUMMARY:MattTrokey/TaraFesser vs. KeithFletcher/JanetEubanks
DESCRIPTION:April Paddle Battle Mixed (9am Sunday 4/7) - Paddle Up Pickleball Club
LOCATION:Court 7
CATEGORIES:QuickScores, Pickleball Game
TRANSP:OPAQUE
BEGIN:VALARM
TRIGGER:-PT2H
ACTION:DISPLAY
DESCRIPTION:MattTrokey/TaraFesser vs. KeithFletcher/JanetEubanks
END:VALARM
END:VEVENT
BEGIN:VEVENT
UID:pupc-62672826-20240407T102000@quickscores.com
DTSTAMP:20260422T071700Z
DTSTART;TZID=America/Chicago:20240407T102000
DURATION:PT0H20M0S
SUMMARY:KimPenrod/ToddPenrod vs. MattTrokey/TaraFesser
DESCRIPTION:April Paddle Battle Mixed (9am Sunday 4/7) - Paddle Up Pickleball Club
LOCATION:Court 2
CATEGORIES:QuickScores, Pickleball Game
TRANSP:OPAQUE
BEGIN:VALARM
TRIGGER:-PT2H
ACTION:DISPLAY
DESCRIPTION:KimPenrod/ToddPenrod vs. MattTrokey/TaraFesser
END:VALARM
END:VEVENT
BEGIN:VEVENT
UID:pupc-62672838-20240407T104000@quickscores.com
DTSTAMP:20260422T071700Z
DTSTART;TZID=America/Chicago:20240407T104000
DURATION:PT0H20M0S
SUMMARY:ChristineTessereau/NagaPentakota vs. MattTrokey/TaraFesser
DESCRIPTION:April Paddle Battle Mixed (9am Sunday 4/7) - Paddle Up Pickleball Club
LOCATION:Court 2
CATEGORIES:QuickScores, Pickleball Game
TRANSP:OPAQUE
BEGIN:VALARM
TRIGGER:-PT2H
ACTION:DISPLAY
DESCRIPTION:ChristineTessereau/NagaPentakota vs. MattTrokey/TaraFesser
END:VALARM
END:VEVENT
BEGIN:VEVENT
UID:pupc-62672857-20240407T112000@quickscores.com
DTSTAMP:20260422T071700Z
DTSTART;TZID=America/Chicago:20240407T112000
DURATION:PT0H20M0S
SUMMARY:MattTrokey/TaraFesser vs. GavinBall/CindyBall
DESCRIPTION:April Paddle Battle Mixed (9am Sunday 4/7) - Paddle Up Pickleball Club
LOCATION:Court 8
CATEGORIES:QuickScores, Pickleball Game
TRANSP:OPAQUE
BEGIN:VALARM
TRIGGER:-PT2H
ACTION:DISPLAY
DESCRIPTION:MattTrokey/TaraFesser vs. GavinBall/CindyBall
END:VALARM
END:VEVENT
BEGIN:VEVENT
UID:pupc-62672869-20240407T120000@quickscores.com
DTSTAMP:20260422T071700Z
DTSTART;TZID=America/Chicago:20240407T120000
DURATION:PT0H20M0S
SUMMARY:MattTrokey/TaraFesser vs. RobertMyers/TheresaParsons
DESCRIPTION:April Paddle Battle Mixed (9am Sunday 4/7) - Paddle Up Pickleball Club
LOCATION:Court 3
CATEGORIES:QuickScores, Pickleball Game
TRANSP:OPAQUE
BEGIN:VALARM
TRIGGER:-PT2H
ACTION:DISPLAY
DESCRIPTION:MattTrokey/TaraFesser vs. RobertMyers/TheresaParsons
END:VALARM
END:VEVENT
END:VCALENDAR
