BEGIN:VCALENDAR
VERSION:2.0
PRODID:-//QuickScores.com//BQ Dynamic iCal Creator//EN
METHOD:PUBLISH
X-WR-CALNAME:ChrisMiles/LauraMiles - April Paddle Battle Mixed (9am Sunday 4/7) - Completed Tournaments 2023/24
X-WR-CALDESC:QuickScores game calendar
X-PUBLISHED-TTL:PT24H
REFRESH-INTERVAL;VALUE=DURATION:PT24H
CALSCALE:GREGORIAN
BEGIN:VTIMEZONE
TZID:America/Chicago
X-LIC-LOCATION:America/Chicago
BEGIN:DAYLIGHT
TZNAME:CDT
TZOFFSETFROM:-0600
TZOFFSETTO:-0500
DTSTART:19700308T020000
RRULE:FREQ=YEARLY;BYMONTH=3;BYDAY=2SU
END:DAYLIGHT
BEGIN:STANDARD
TZNAME:CST
TZOFFSETFROM:-0500
TZOFFSETTO:-0600
DTSTART:19701101T020000
RRULE:FREQ=YEARLY;BYMONTH=11;BYDAY=1SU
END:STANDARD
END:VTIMEZONE
BEGIN:VEVENT
UID:pupc-62672799-20240407T090000@quickscores.com
DTSTAMP:20260422T183800Z
DTSTART;TZID=America/Chicago:20240407T090000
DURATION:PT0H20M0S
SUMMARY:ChrisMiles/LauraMiles vs. CarrieBlackburn/BrockWinslow
DESCRIPTION:April Paddle Battle Mixed (9am Sunday 4/7) - Paddle Up Pickleball Club
LOCATION:Court 4
CATEGORIES:QuickScores, Pickleball Game
TRANSP:OPAQUE
BEGIN:VALARM
TRIGGER:-PT2H
ACTION:DISPLAY
DESCRIPTION:ChrisMiles/LauraMiles vs. CarrieBlackburn/BrockWinslow
END:VALARM
END:VEVENT
BEGIN:VEVENT
UID:pupc-62672813-20240407T094000@quickscores.com
DTSTAMP:20260422T183800Z
DTSTART;TZID=America/Chicago:20240407T094000
DURATION:PT0H20M0S
SUMMARY:ChrisMiles/LauraMiles vs. CherylHall/BruceHall
DESCRIPTION:April Paddle Battle Mixed (9am Sunday 4/7) - Paddle Up Pickleball Club
LOCATION:Court 9
CATEGORIES:QuickScores, Pickleball Game
TRANSP:OPAQUE
BEGIN:VALARM
TRIGGER:-PT2H
ACTION:DISPLAY
DESCRIPTION:ChrisMiles/LauraMiles vs. CherylHall/BruceHall
END:VALARM
END:VEVENT
BEGIN:VEVENT
UID:pupc-62672830-20240407T102000@quickscores.com
DTSTAMP:20260422T183800Z
DTSTART;TZID=America/Chicago:20240407T102000
DURATION:PT0H20M0S
SUMMARY:ChanceLyell/NickiLyell vs. ChrisMiles/LauraMiles
DESCRIPTION:April Paddle Battle Mixed (9am Sunday 4/7) - Paddle Up Pickleball Club
LOCATION:Court 9
CATEGORIES:QuickScores, Pickleball Game
TRANSP:OPAQUE
BEGIN:VALARM
TRIGGER:-PT2H
ACTION:DISPLAY
DESCRIPTION:ChanceLyell/NickiLyell vs. ChrisMiles/LauraMiles
END:VALARM
END:VEVENT
BEGIN:VEVENT
UID:pupc-62672844-20240407T110000@quickscores.com
DTSTAMP:20260422T183800Z
DTSTART;TZID=America/Chicago:20240407T110000
DURATION:PT0H20M0S
SUMMARY:KylieFaron/KellyFaron vs. ChrisMiles/LauraMiles
DESCRIPTION:April Paddle Battle Mixed (9am Sunday 4/7) - Paddle Up Pickleball Club
LOCATION:Court 8
CATEGORIES:QuickScores, Pickleball Game
TRANSP:OPAQUE
BEGIN:VALARM
TRIGGER:-PT2H
ACTION:DISPLAY
DESCRIPTION:KylieFaron/KellyFaron vs. ChrisMiles/LauraMiles
END:VALARM
END:VEVENT
BEGIN:VEVENT
UID:pupc-62672861-20240407T114000@quickscores.com
DTSTAMP:20260422T183800Z
DTSTART;TZID=America/Chicago:20240407T114000
DURATION:PT0H20M0S
SUMMARY:ChrisMiles/LauraMiles vs. BradDonley/SaraDonley
DESCRIPTION:April Paddle Battle Mixed (9am Sunday 4/7) - Paddle Up Pickleball Club
LOCATION:Court 5
CATEGORIES:QuickScores, Pickleball Game
TRANSP:OPAQUE
BEGIN:VALARM
TRIGGER:-PT2H
ACTION:DISPLAY
DESCRIPTION:ChrisMiles/LauraMiles vs. BradDonley/SaraDonley
END:VALARM
END:VEVENT
BEGIN:VEVENT
UID:pupc-62672875-20240407T122000@quickscores.com
DTSTAMP:20260422T183800Z
DTSTART;TZID=America/Chicago:20240407T122000
DURATION:PT0H20M0S
SUMMARY:ShaneLaswell/KristinaLaswell vs. ChrisMiles/LauraMiles
DESCRIPTION:April Paddle Battle Mixed (9am Sunday 4/7) - Paddle Up Pickleball Club
LOCATION:Court 2
CATEGORIES:QuickScores, Pickleball Game
TRANSP:OPAQUE
BEGIN:VALARM
TRIGGER:-PT2H
ACTION:DISPLAY
DESCRIPTION:ShaneLaswell/KristinaLaswell vs. ChrisMiles/LauraMiles
END:VALARM
END:VEVENT
END:VCALENDAR
