BEGIN:VCALENDAR
VERSION:2.0
PRODID:-//QuickScores.com//BQ Dynamic iCal Creator//EN
METHOD:PUBLISH
X-WR-CALNAME:ChanceLyell/NickiLyell - April Paddle Battle Mixed (9am Sunday 4/7) - Completed Tournaments 2023/24
X-WR-CALDESC:QuickScores game calendar
X-PUBLISHED-TTL:PT24H
REFRESH-INTERVAL;VALUE=DURATION:PT24H
CALSCALE:GREGORIAN
BEGIN:VTIMEZONE
TZID:America/Chicago
X-LIC-LOCATION:America/Chicago
BEGIN:DAYLIGHT
TZNAME:CDT
TZOFFSETFROM:-0600
TZOFFSETTO:-0500
DTSTART:19700308T020000
RRULE:FREQ=YEARLY;BYMONTH=3;BYDAY=2SU
END:DAYLIGHT
BEGIN:STANDARD
TZNAME:CST
TZOFFSETFROM:-0500
TZOFFSETTO:-0600
DTSTART:19701101T020000
RRULE:FREQ=YEARLY;BYMONTH=11;BYDAY=1SU
END:STANDARD
END:VTIMEZONE
BEGIN:VEVENT
UID:pupc-62672848-20240407T090000@quickscores.com
DTSTAMP:20260422T071600Z
DTSTART;TZID=America/Chicago:20240407T090000
DURATION:PT0H20M0S
SUMMARY:NadiaGillette/ChrisGillette vs. ChanceLyell/NickiLyell
DESCRIPTION:April Paddle Battle Mixed (9am Sunday 4/7) - Paddle Up Pickleball Club
LOCATION:Court 2
CATEGORIES:QuickScores, Pickleball Game
TRANSP:OPAQUE
BEGIN:VALARM
TRIGGER:-PT2H
ACTION:DISPLAY
DESCRIPTION:NadiaGillette/ChrisGillette vs. ChanceLyell/NickiLyell
END:VALARM
END:VEVENT
BEGIN:VEVENT
UID:pupc-62672801-20240407T092000@quickscores.com
DTSTAMP:20260422T071600Z
DTSTART;TZID=America/Chicago:20240407T092000
DURATION:PT0H20M0S
SUMMARY:KylieFaron/KellyFaron vs. ChanceLyell/NickiLyell
DESCRIPTION:April Paddle Battle Mixed (9am Sunday 4/7) - Paddle Up Pickleball Club
LOCATION:Court 2
CATEGORIES:QuickScores, Pickleball Game
TRANSP:OPAQUE
BEGIN:VALARM
TRIGGER:-PT2H
ACTION:DISPLAY
DESCRIPTION:KylieFaron/KellyFaron vs. ChanceLyell/NickiLyell
END:VALARM
END:VEVENT
BEGIN:VEVENT
UID:pupc-62672817-20240407T094000@quickscores.com
DTSTAMP:20260422T071600Z
DTSTART;TZID=America/Chicago:20240407T094000
DURATION:PT0H20M0S
SUMMARY:ChanceLyell/NickiLyell vs. ShaneLaswell/KristinaLaswell
DESCRIPTION:April Paddle Battle Mixed (9am Sunday 4/7) - Paddle Up Pickleball Club
LOCATION:Court 5
CATEGORIES:QuickScores, Pickleball Game
TRANSP:OPAQUE
BEGIN:VALARM
TRIGGER:-PT2H
ACTION:DISPLAY
DESCRIPTION:ChanceLyell/NickiLyell vs. ShaneLaswell/KristinaLaswell
END:VALARM
END:VEVENT
BEGIN:VEVENT
UID:pupc-62672830-20240407T102000@quickscores.com
DTSTAMP:20260422T071600Z
DTSTART;TZID=America/Chicago:20240407T102000
DURATION:PT0H20M0S
SUMMARY:ChanceLyell/NickiLyell vs. ChrisMiles/LauraMiles
DESCRIPTION:April Paddle Battle Mixed (9am Sunday 4/7) - Paddle Up Pickleball Club
LOCATION:Court 9
CATEGORIES:QuickScores, Pickleball Game
TRANSP:OPAQUE
BEGIN:VALARM
TRIGGER:-PT2H
ACTION:DISPLAY
DESCRIPTION:ChanceLyell/NickiLyell vs. ChrisMiles/LauraMiles
END:VALARM
END:VEVENT
BEGIN:VEVENT
UID:pupc-62672859-20240407T112000@quickscores.com
DTSTAMP:20260422T071600Z
DTSTART;TZID=America/Chicago:20240407T112000
DURATION:PT0H20M0S
SUMMARY:CarrieBlackburn/BrockWinslow vs. ChanceLyell/NickiLyell
DESCRIPTION:April Paddle Battle Mixed (9am Sunday 4/7) - Paddle Up Pickleball Club
LOCATION:Court 6
CATEGORIES:QuickScores, Pickleball Game
TRANSP:OPAQUE
BEGIN:VALARM
TRIGGER:-PT2H
ACTION:DISPLAY
DESCRIPTION:CarrieBlackburn/BrockWinslow vs. ChanceLyell/NickiLyell
END:VALARM
END:VEVENT
BEGIN:VEVENT
UID:pupc-62672878-20240407T120000@quickscores.com
DTSTAMP:20260422T071600Z
DTSTART;TZID=America/Chicago:20240407T120000
DURATION:PT0H20M0S
SUMMARY:ChanceLyell/NickiLyell vs. MarkShamleffer/PeggyShamleffer
DESCRIPTION:April Paddle Battle Mixed (9am Sunday 4/7) - Paddle Up Pickleball Club
LOCATION:Court 5
CATEGORIES:QuickScores, Pickleball Game
TRANSP:OPAQUE
BEGIN:VALARM
TRIGGER:-PT2H
ACTION:DISPLAY
DESCRIPTION:ChanceLyell/NickiLyell vs. MarkShamleffer/PeggyShamleffer
END:VALARM
END:VEVENT
END:VCALENDAR
