BEGIN:VCALENDAR
VERSION:2.0
PRODID:-//QuickScores.com//BQ Dynamic iCal Creator//EN
METHOD:PUBLISH
X-WR-CALNAME:JasonJones/TerryStockmann - April Paddle Battle Mixed (9am Sunday 4/7) - Completed Tournaments 2023/24
X-WR-CALDESC:QuickScores game calendar
X-PUBLISHED-TTL:PT24H
REFRESH-INTERVAL;VALUE=DURATION:PT24H
CALSCALE:GREGORIAN
BEGIN:VTIMEZONE
TZID:America/Chicago
X-LIC-LOCATION:America/Chicago
BEGIN:DAYLIGHT
TZNAME:CDT
TZOFFSETFROM:-0600
TZOFFSETTO:-0500
DTSTART:19700308T020000
RRULE:FREQ=YEARLY;BYMONTH=3;BYDAY=2SU
END:DAYLIGHT
BEGIN:STANDARD
TZNAME:CST
TZOFFSETFROM:-0500
TZOFFSETTO:-0600
DTSTART:19701101T020000
RRULE:FREQ=YEARLY;BYMONTH=11;BYDAY=1SU
END:STANDARD
END:VTIMEZONE
BEGIN:VEVENT
UID:pupc-62672806-20240407T092000@quickscores.com
DTSTAMP:20260422T153400Z
DTSTART;TZID=America/Chicago:20240407T092000
DURATION:PT0H20M0S
SUMMARY:JasonJones/TerryStockmann vs. SohiniSengupta/ChristopherMorgan
DESCRIPTION:April Paddle Battle Mixed (9am Sunday 4/7) - Paddle Up Pickleball Club
LOCATION:Court 8
CATEGORIES:QuickScores, Pickleball Game
TRANSP:OPAQUE
BEGIN:VALARM
TRIGGER:-PT2H
ACTION:DISPLAY
DESCRIPTION:JasonJones/TerryStockmann vs. SohiniSengupta/ChristopherMorgan
END:VALARM
END:VEVENT
BEGIN:VEVENT
UID:pupc-62672822-20240407T100000@quickscores.com
DTSTAMP:20260422T153400Z
DTSTART;TZID=America/Chicago:20240407T100000
DURATION:PT0H20M0S
SUMMARY:GarrettHallemeier/MichelleBeattie vs. JasonJones/TerryStockmann
DESCRIPTION:April Paddle Battle Mixed (9am Sunday 4/7) - Paddle Up Pickleball Club
LOCATION:Court 8
CATEGORIES:QuickScores, Pickleball Game
TRANSP:OPAQUE
BEGIN:VALARM
TRIGGER:-PT2H
ACTION:DISPLAY
DESCRIPTION:GarrettHallemeier/MichelleBeattie vs. JasonJones/TerryStockmann
END:VALARM
END:VEVENT
BEGIN:VEVENT
UID:pupc-62672835-20240407T102000@quickscores.com
DTSTAMP:20260422T153400Z
DTSTART;TZID=America/Chicago:20240407T102000
DURATION:PT0H20M0S
SUMMARY:ShawnBowers/KaylaKrueger vs. JasonJones/TerryStockmann
DESCRIPTION:April Paddle Battle Mixed (9am Sunday 4/7) - Paddle Up Pickleball Club
LOCATION:Court 7
CATEGORIES:QuickScores, Pickleball Game
TRANSP:OPAQUE
BEGIN:VALARM
TRIGGER:-PT2H
ACTION:DISPLAY
DESCRIPTION:ShawnBowers/KaylaKrueger vs. JasonJones/TerryStockmann
END:VALARM
END:VEVENT
BEGIN:VEVENT
UID:pupc-62672851-20240407T110000@quickscores.com
DTSTAMP:20260422T153400Z
DTSTART;TZID=America/Chicago:20240407T110000
DURATION:PT0H20M0S
SUMMARY:PatAlexander/BrendaAlexander vs. JasonJones/TerryStockmann
DESCRIPTION:April Paddle Battle Mixed (9am Sunday 4/7) - Paddle Up Pickleball Club
LOCATION:Court 1
CATEGORIES:QuickScores, Pickleball Game
TRANSP:OPAQUE
BEGIN:VALARM
TRIGGER:-PT2H
ACTION:DISPLAY
DESCRIPTION:PatAlexander/BrendaAlexander vs. JasonJones/TerryStockmann
END:VALARM
END:VEVENT
BEGIN:VEVENT
UID:pupc-62672864-20240407T114000@quickscores.com
DTSTAMP:20260422T153400Z
DTSTART;TZID=America/Chicago:20240407T114000
DURATION:PT0H20M0S
SUMMARY:JasonJones/TerryStockmann vs. KevinReque/PaigeReque
DESCRIPTION:April Paddle Battle Mixed (9am Sunday 4/7) - Paddle Up Pickleball Club
LOCATION:Court 3
CATEGORIES:QuickScores, Pickleball Game
TRANSP:OPAQUE
BEGIN:VALARM
TRIGGER:-PT2H
ACTION:DISPLAY
DESCRIPTION:JasonJones/TerryStockmann vs. KevinReque/PaigeReque
END:VALARM
END:VEVENT
BEGIN:VEVENT
UID:pupc-62672792-20240407T120000@quickscores.com
DTSTAMP:20260422T153400Z
DTSTART;TZID=America/Chicago:20240407T120000
DURATION:PT0H20M0S
SUMMARY:JasonJones/TerryStockmann vs. ChaseBlickhan/KayleighTrokey
DESCRIPTION:April Paddle Battle Mixed (9am Sunday 4/7) - Paddle Up Pickleball Club
LOCATION:Court 9
CATEGORIES:QuickScores, Pickleball Game
TRANSP:OPAQUE
BEGIN:VALARM
TRIGGER:-PT2H
ACTION:DISPLAY
DESCRIPTION:JasonJones/TerryStockmann vs. ChaseBlickhan/KayleighTrokey
END:VALARM
END:VEVENT
END:VCALENDAR
