BEGIN:VCALENDAR
VERSION:2.0
PRODID:-//QuickScores.com//BQ Dynamic iCal Creator//EN
METHOD:PUBLISH
X-WR-CALNAME:NickBreeding/ErinSmith - April Paddle Battle Mixed (9am Sunday 4/7) - Completed Tournaments 2023/24
X-WR-CALDESC:QuickScores game calendar
X-PUBLISHED-TTL:PT24H
REFRESH-INTERVAL;VALUE=DURATION:PT24H
CALSCALE:GREGORIAN
BEGIN:VTIMEZONE
TZID:America/Chicago
X-LIC-LOCATION:America/Chicago
BEGIN:DAYLIGHT
TZNAME:CDT
TZOFFSETFROM:-0600
TZOFFSETTO:-0500
DTSTART:19700308T020000
RRULE:FREQ=YEARLY;BYMONTH=3;BYDAY=2SU
END:DAYLIGHT
BEGIN:STANDARD
TZNAME:CST
TZOFFSETFROM:-0500
TZOFFSETTO:-0600
DTSTART:19701101T020000
RRULE:FREQ=YEARLY;BYMONTH=11;BYDAY=1SU
END:STANDARD
END:VTIMEZONE
BEGIN:VEVENT
UID:pupc-62672807-20240407T092000@quickscores.com
DTSTAMP:20260425T101300Z
DTSTART;TZID=America/Chicago:20240407T092000
DURATION:PT0H20M0S
SUMMARY:ChaseBlickhan/KayleighTrokey vs. NickBreeding/ErinSmith
DESCRIPTION:April Paddle Battle Mixed (9am Sunday 4/7) - Paddle Up Pickleball Club
LOCATION:Court 5
CATEGORIES:QuickScores, Pickleball Game
TRANSP:OPAQUE
BEGIN:VALARM
TRIGGER:-PT2H
ACTION:DISPLAY
DESCRIPTION:ChaseBlickhan/KayleighTrokey vs. NickBreeding/ErinSmith
END:VALARM
END:VEVENT
BEGIN:VEVENT
UID:pupc-62672820-20240407T102000@quickscores.com
DTSTAMP:20260425T101300Z
DTSTART;TZID=America/Chicago:20240407T102000
DURATION:PT0H20M0S
SUMMARY:PatAlexander/BrendaAlexander vs. NickBreeding/ErinSmith
DESCRIPTION:April Paddle Battle Mixed (9am Sunday 4/7) - Paddle Up Pickleball Club
LOCATION:Court 4
CATEGORIES:QuickScores, Pickleball Game
TRANSP:OPAQUE
BEGIN:VALARM
TRIGGER:-PT2H
ACTION:DISPLAY
DESCRIPTION:PatAlexander/BrendaAlexander vs. NickBreeding/ErinSmith
END:VALARM
END:VEVENT
BEGIN:VEVENT
UID:pupc-62672837-20240407T104000@quickscores.com
DTSTAMP:20260425T101300Z
DTSTART;TZID=America/Chicago:20240407T104000
DURATION:PT0H20M0S
SUMMARY:NickBreeding/ErinSmith vs. SohiniSengupta/ChristopherMorgan
DESCRIPTION:April Paddle Battle Mixed (9am Sunday 4/7) - Paddle Up Pickleball Club
LOCATION:Court 9
CATEGORIES:QuickScores, Pickleball Game
TRANSP:OPAQUE
BEGIN:VALARM
TRIGGER:-PT2H
ACTION:DISPLAY
DESCRIPTION:NickBreeding/ErinSmith vs. SohiniSengupta/ChristopherMorgan
END:VALARM
END:VEVENT
BEGIN:VEVENT
UID:pupc-62672791-20240407T112000@quickscores.com
DTSTAMP:20260425T101300Z
DTSTART;TZID=America/Chicago:20240407T112000
DURATION:PT0H20M0S
SUMMARY:NickBreeding/ErinSmith vs. GarrettHallemeier/MichelleBeattie
DESCRIPTION:April Paddle Battle Mixed (9am Sunday 4/7) - Paddle Up Pickleball Club
LOCATION:Court 4
CATEGORIES:QuickScores, Pickleball Game
TRANSP:OPAQUE
BEGIN:VALARM
TRIGGER:-PT2H
ACTION:DISPLAY
DESCRIPTION:NickBreeding/ErinSmith vs. GarrettHallemeier/MichelleBeattie
END:VALARM
END:VEVENT
BEGIN:VEVENT
UID:pupc-62672866-20240407T114000@quickscores.com
DTSTAMP:20260425T101300Z
DTSTART;TZID=America/Chicago:20240407T114000
DURATION:PT0H20M0S
SUMMARY:NickBreeding/ErinSmith vs. ShawnBowers/KaylaKrueger
DESCRIPTION:April Paddle Battle Mixed (9am Sunday 4/7) - Paddle Up Pickleball Club
LOCATION:Court 9
CATEGORIES:QuickScores, Pickleball Game
TRANSP:OPAQUE
BEGIN:VALARM
TRIGGER:-PT2H
ACTION:DISPLAY
DESCRIPTION:NickBreeding/ErinSmith vs. ShawnBowers/KaylaKrueger
END:VALARM
END:VEVENT
BEGIN:VEVENT
UID:pupc-62672849-20240407T122000@quickscores.com
DTSTAMP:20260425T101300Z
DTSTART;TZID=America/Chicago:20240407T122000
DURATION:PT0H20M0S
SUMMARY:KimSparkman/KevinFolkl vs. NickBreeding/ErinSmith
DESCRIPTION:April Paddle Battle Mixed (9am Sunday 4/7) - Paddle Up Pickleball Club
LOCATION:Court 4
CATEGORIES:QuickScores, Pickleball Game
TRANSP:OPAQUE
BEGIN:VALARM
TRIGGER:-PT2H
ACTION:DISPLAY
DESCRIPTION:KimSparkman/KevinFolkl vs. NickBreeding/ErinSmith
END:VALARM
END:VEVENT
END:VCALENDAR
