BEGIN:VCALENDAR
VERSION:2.0
PRODID:-//QuickScores.com//BQ Dynamic iCal Creator//EN
METHOD:PUBLISH
X-WR-CALNAME:ChaseBlickhan/KayleighTrokey - April Paddle Battle Mixed (9am Sunday 4/7) - Completed Tournaments 2023/24
X-WR-CALDESC:QuickScores game calendar
X-PUBLISHED-TTL:PT24H
REFRESH-INTERVAL;VALUE=DURATION:PT24H
CALSCALE:GREGORIAN
BEGIN:VTIMEZONE
TZID:America/Chicago
X-LIC-LOCATION:America/Chicago
BEGIN:DAYLIGHT
TZNAME:CDT
TZOFFSETFROM:-0600
TZOFFSETTO:-0500
DTSTART:19700308T020000
RRULE:FREQ=YEARLY;BYMONTH=3;BYDAY=2SU
END:DAYLIGHT
BEGIN:STANDARD
TZNAME:CST
TZOFFSETFROM:-0500
TZOFFSETTO:-0600
DTSTART:19701101T020000
RRULE:FREQ=YEARLY;BYMONTH=11;BYDAY=1SU
END:STANDARD
END:VTIMEZONE
BEGIN:VEVENT
UID:pupc-62672807-20240407T092000@quickscores.com
DTSTAMP:20260422T071700Z
DTSTART;TZID=America/Chicago:20240407T092000
DURATION:PT0H20M0S
SUMMARY:ChaseBlickhan/KayleighTrokey vs. NickBreeding/ErinSmith
DESCRIPTION:April Paddle Battle Mixed (9am Sunday 4/7) - Paddle Up Pickleball Club
LOCATION:Court 5
CATEGORIES:QuickScores, Pickleball Game
TRANSP:OPAQUE
BEGIN:VALARM
TRIGGER:-PT2H
ACTION:DISPLAY
DESCRIPTION:ChaseBlickhan/KayleighTrokey vs. NickBreeding/ErinSmith
END:VALARM
END:VEVENT
BEGIN:VEVENT
UID:pupc-62672821-20240407T100000@quickscores.com
DTSTAMP:20260422T071700Z
DTSTART;TZID=America/Chicago:20240407T100000
DURATION:PT0H20M0S
SUMMARY:KevinReque/PaigeReque vs. ChaseBlickhan/KayleighTrokey
DESCRIPTION:April Paddle Battle Mixed (9am Sunday 4/7) - Paddle Up Pickleball Club
LOCATION:Court 9
CATEGORIES:QuickScores, Pickleball Game
TRANSP:OPAQUE
BEGIN:VALARM
TRIGGER:-PT2H
ACTION:DISPLAY
DESCRIPTION:KevinReque/PaigeReque vs. ChaseBlickhan/KayleighTrokey
END:VALARM
END:VEVENT
BEGIN:VEVENT
UID:pupc-62672836-20240407T102000@quickscores.com
DTSTAMP:20260422T071700Z
DTSTART;TZID=America/Chicago:20240407T102000
DURATION:PT0H20M0S
SUMMARY:ChaseBlickhan/KayleighTrokey vs. KimSparkman/KevinFolkl
DESCRIPTION:April Paddle Battle Mixed (9am Sunday 4/7) - Paddle Up Pickleball Club
LOCATION:Court 6
CATEGORIES:QuickScores, Pickleball Game
TRANSP:OPAQUE
BEGIN:VALARM
TRIGGER:-PT2H
ACTION:DISPLAY
DESCRIPTION:ChaseBlickhan/KayleighTrokey vs. KimSparkman/KevinFolkl
END:VALARM
END:VEVENT
BEGIN:VEVENT
UID:pupc-62672850-20240407T110000@quickscores.com
DTSTAMP:20260422T071700Z
DTSTART;TZID=America/Chicago:20240407T110000
DURATION:PT0H20M0S
SUMMARY:ShawnBowers/KaylaKrueger vs. ChaseBlickhan/KayleighTrokey
DESCRIPTION:April Paddle Battle Mixed (9am Sunday 4/7) - Paddle Up Pickleball Club
LOCATION:Court 4
CATEGORIES:QuickScores, Pickleball Game
TRANSP:OPAQUE
BEGIN:VALARM
TRIGGER:-PT2H
ACTION:DISPLAY
DESCRIPTION:ShawnBowers/KaylaKrueger vs. ChaseBlickhan/KayleighTrokey
END:VALARM
END:VEVENT
BEGIN:VEVENT
UID:pupc-62672865-20240407T114000@quickscores.com
DTSTAMP:20260422T071700Z
DTSTART;TZID=America/Chicago:20240407T114000
DURATION:PT0H20M0S
SUMMARY:ChaseBlickhan/KayleighTrokey vs. PatAlexander/BrendaAlexander
DESCRIPTION:April Paddle Battle Mixed (9am Sunday 4/7) - Paddle Up Pickleball Club
LOCATION:Court 6
CATEGORIES:QuickScores, Pickleball Game
TRANSP:OPAQUE
BEGIN:VALARM
TRIGGER:-PT2H
ACTION:DISPLAY
DESCRIPTION:ChaseBlickhan/KayleighTrokey vs. PatAlexander/BrendaAlexander
END:VALARM
END:VEVENT
BEGIN:VEVENT
UID:pupc-62672792-20240407T120000@quickscores.com
DTSTAMP:20260422T071700Z
DTSTART;TZID=America/Chicago:20240407T120000
DURATION:PT0H20M0S
SUMMARY:JasonJones/TerryStockmann vs. ChaseBlickhan/KayleighTrokey
DESCRIPTION:April Paddle Battle Mixed (9am Sunday 4/7) - Paddle Up Pickleball Club
LOCATION:Court 9
CATEGORIES:QuickScores, Pickleball Game
TRANSP:OPAQUE
BEGIN:VALARM
TRIGGER:-PT2H
ACTION:DISPLAY
DESCRIPTION:JasonJones/TerryStockmann vs. ChaseBlickhan/KayleighTrokey
END:VALARM
END:VEVENT
END:VCALENDAR
