BEGIN:VCALENDAR
VERSION:2.0
PRODID:-//QuickScores.com//BQ Dynamic iCal Creator//EN
METHOD:PUBLISH
X-WR-CALNAME:JasonKaus/MichelleSwitzer - April Paddle Battle Mixed (9am Sunday 4/7) - Completed Tournaments 2023/24
X-WR-CALDESC:QuickScores game calendar
X-PUBLISHED-TTL:PT24H
REFRESH-INTERVAL;VALUE=DURATION:PT24H
CALSCALE:GREGORIAN
BEGIN:VTIMEZONE
TZID:America/Chicago
X-LIC-LOCATION:America/Chicago
BEGIN:DAYLIGHT
TZNAME:CDT
TZOFFSETFROM:-0600
TZOFFSETTO:-0500
DTSTART:19700308T020000
RRULE:FREQ=YEARLY;BYMONTH=3;BYDAY=2SU
END:DAYLIGHT
BEGIN:STANDARD
TZNAME:CST
TZOFFSETFROM:-0500
TZOFFSETTO:-0600
DTSTART:19701101T020000
RRULE:FREQ=YEARLY;BYMONTH=11;BYDAY=1SU
END:STANDARD
END:VTIMEZONE
BEGIN:VEVENT
UID:pupc-62672796-20240407T090000@quickscores.com
DTSTAMP:20260423T122500Z
DTSTART;TZID=America/Chicago:20240407T090000
DURATION:PT0H20M0S
SUMMARY:GavinBall/CindyBall vs. JasonKaus/MichelleSwitzer
DESCRIPTION:April Paddle Battle Mixed (9am Sunday 4/7) - Paddle Up Pickleball Club
LOCATION:Court 5
CATEGORIES:QuickScores, Pickleball Game
TRANSP:OPAQUE
BEGIN:VALARM
TRIGGER:-PT2H
ACTION:DISPLAY
DESCRIPTION:GavinBall/CindyBall vs. JasonKaus/MichelleSwitzer
END:VALARM
END:VEVENT
BEGIN:VEVENT
UID:pupc-62672812-20240407T094000@quickscores.com
DTSTAMP:20260423T122500Z
DTSTART;TZID=America/Chicago:20240407T094000
DURATION:PT0H20M0S
SUMMARY:JasonKaus/MichelleSwitzer vs. KimPenrod/ToddPenrod
DESCRIPTION:April Paddle Battle Mixed (9am Sunday 4/7) - Paddle Up Pickleball Club
LOCATION:Court 3
CATEGORIES:QuickScores, Pickleball Game
TRANSP:OPAQUE
BEGIN:VALARM
TRIGGER:-PT2H
ACTION:DISPLAY
DESCRIPTION:JasonKaus/MichelleSwitzer vs. KimPenrod/ToddPenrod
END:VALARM
END:VEVENT
BEGIN:VEVENT
UID:pupc-62672825-20240407T102000@quickscores.com
DTSTAMP:20260423T122500Z
DTSTART;TZID=America/Chicago:20240407T102000
DURATION:PT0H20M0S
SUMMARY:JasonKaus/MichelleSwitzer vs. SierraBraun/DanLangford
DESCRIPTION:April Paddle Battle Mixed (9am Sunday 4/7) - Paddle Up Pickleball Club
LOCATION:Court 5
CATEGORIES:QuickScores, Pickleball Game
TRANSP:OPAQUE
BEGIN:VALARM
TRIGGER:-PT2H
ACTION:DISPLAY
DESCRIPTION:JasonKaus/MichelleSwitzer vs. SierraBraun/DanLangford
END:VALARM
END:VEVENT
BEGIN:VEVENT
UID:pupc-62672842-20240407T104000@quickscores.com
DTSTAMP:20260423T122500Z
DTSTART;TZID=America/Chicago:20240407T104000
DURATION:PT0H20M0S
SUMMARY:RebeccaClaussen/ChrisClaussen vs. JasonKaus/MichelleSwitzer
DESCRIPTION:April Paddle Battle Mixed (9am Sunday 4/7) - Paddle Up Pickleball Club
LOCATION:Court 1
CATEGORIES:QuickScores, Pickleball Game
TRANSP:OPAQUE
BEGIN:VALARM
TRIGGER:-PT2H
ACTION:DISPLAY
DESCRIPTION:RebeccaClaussen/ChrisClaussen vs. JasonKaus/MichelleSwitzer
END:VALARM
END:VEVENT
BEGIN:VEVENT
UID:pupc-62672854-20240407T112000@quickscores.com
DTSTAMP:20260423T122500Z
DTSTART;TZID=America/Chicago:20240407T112000
DURATION:PT0H20M0S
SUMMARY:JaneJoy/AlexLazar vs. JasonKaus/MichelleSwitzer
DESCRIPTION:April Paddle Battle Mixed (9am Sunday 4/7) - Paddle Up Pickleball Club
LOCATION:Court 9
CATEGORIES:QuickScores, Pickleball Game
TRANSP:OPAQUE
BEGIN:VALARM
TRIGGER:-PT2H
ACTION:DISPLAY
DESCRIPTION:JaneJoy/AlexLazar vs. JasonKaus/MichelleSwitzer
END:VALARM
END:VEVENT
BEGIN:VEVENT
UID:pupc-62672871-20240407T114000@quickscores.com
DTSTAMP:20260423T122500Z
DTSTART;TZID=America/Chicago:20240407T114000
DURATION:PT0H20M0S
SUMMARY:JasonKaus/MichelleSwitzer vs. KeithFletcher/JanetEubanks
DESCRIPTION:April Paddle Battle Mixed (9am Sunday 4/7) - Paddle Up Pickleball Club
LOCATION:Court 1
CATEGORIES:QuickScores, Pickleball Game
TRANSP:OPAQUE
BEGIN:VALARM
TRIGGER:-PT2H
ACTION:DISPLAY
DESCRIPTION:JasonKaus/MichelleSwitzer vs. KeithFletcher/JanetEubanks
END:VALARM
END:VEVENT
END:VCALENDAR
