BEGIN:VCALENDAR
VERSION:2.0
PRODID:-//QuickScores.com//BQ Dynamic iCal Creator//EN
METHOD:PUBLISH
X-WR-CALNAME:LoriGibson/ColleenSiebeneck - April Paddle Battle Womens (9am Saturday 4/6) - Completed Tournaments 2023/24
X-WR-CALDESC:QuickScores game calendar
X-PUBLISHED-TTL:PT24H
REFRESH-INTERVAL;VALUE=DURATION:PT24H
CALSCALE:GREGORIAN
BEGIN:VTIMEZONE
TZID:America/Chicago
X-LIC-LOCATION:America/Chicago
BEGIN:DAYLIGHT
TZNAME:CDT
TZOFFSETFROM:-0600
TZOFFSETTO:-0500
DTSTART:19700308T020000
RRULE:FREQ=YEARLY;BYMONTH=3;BYDAY=2SU
END:DAYLIGHT
BEGIN:STANDARD
TZNAME:CST
TZOFFSETFROM:-0500
TZOFFSETTO:-0600
DTSTART:19701101T020000
RRULE:FREQ=YEARLY;BYMONTH=11;BYDAY=1SU
END:STANDARD
END:VTIMEZONE
BEGIN:VEVENT
UID:pupc-62682071-20240406T091000@quickscores.com
DTSTAMP:20260423T234400Z
DTSTART;TZID=America/Chicago:20240406T091000
DURATION:PT0H20M0S
SUMMARY:LoriGibson/ColleenSiebeneck vs. AngelaLamb/KristyHagen
DESCRIPTION:April Paddle Battle Womens (9am Saturday 4/6) - Paddle Up Pickleball Club
LOCATION:Court 4
CATEGORIES:QuickScores, Pickleball Game
TRANSP:OPAQUE
BEGIN:VALARM
TRIGGER:-PT2H
ACTION:DISPLAY
DESCRIPTION:LoriGibson/ColleenSiebeneck vs. AngelaLamb/KristyHagen
END:VALARM
END:VEVENT
BEGIN:VEVENT
UID:pupc-62682073-20240406T093000@quickscores.com
DTSTAMP:20260423T234400Z
DTSTART;TZID=America/Chicago:20240406T093000
DURATION:PT0H20M0S
SUMMARY:LoriGibson/ColleenSiebeneck vs. BridgetGagne/DinaDougherty
DESCRIPTION:April Paddle Battle Womens (9am Saturday 4/6) - Paddle Up Pickleball Club
LOCATION:Court 7
CATEGORIES:QuickScores, Pickleball Game
TRANSP:OPAQUE
BEGIN:VALARM
TRIGGER:-PT2H
ACTION:DISPLAY
DESCRIPTION:LoriGibson/ColleenSiebeneck vs. BridgetGagne/DinaDougherty
END:VALARM
END:VEVENT
BEGIN:VEVENT
UID:pupc-62682081-20240406T095000@quickscores.com
DTSTAMP:20260423T234400Z
DTSTART;TZID=America/Chicago:20240406T095000
DURATION:PT0H20M0S
SUMMARY:LoriGibson/ColleenSiebeneck vs. KarenShaw/LindaRobben
DESCRIPTION:April Paddle Battle Womens (9am Saturday 4/6) - Paddle Up Pickleball Club
LOCATION:Court 5
CATEGORIES:QuickScores, Pickleball Game
TRANSP:OPAQUE
BEGIN:VALARM
TRIGGER:-PT2H
ACTION:DISPLAY
DESCRIPTION:LoriGibson/ColleenSiebeneck vs. KarenShaw/LindaRobben
END:VALARM
END:VEVENT
BEGIN:VEVENT
UID:pupc-62682093-20240406T103000@quickscores.com
DTSTAMP:20260423T234400Z
DTSTART;TZID=America/Chicago:20240406T103000
DURATION:PT0H20M0S
SUMMARY:WhitneyDurham/FlorDeLuca vs. LoriGibson/ColleenSiebeneck
DESCRIPTION:April Paddle Battle Womens (9am Saturday 4/6) - Paddle Up Pickleball Club
LOCATION:Court 8
CATEGORIES:QuickScores, Pickleball Game
TRANSP:OPAQUE
BEGIN:VALARM
TRIGGER:-PT2H
ACTION:DISPLAY
DESCRIPTION:WhitneyDurham/FlorDeLuca vs. LoriGibson/ColleenSiebeneck
END:VALARM
END:VEVENT
BEGIN:VEVENT
UID:pupc-62682097-20240406T105000@quickscores.com
DTSTAMP:20260423T234400Z
DTSTART;TZID=America/Chicago:20240406T105000
DURATION:PT0H20M0S
SUMMARY:BobbieTracy/CarrolSanders vs. LoriGibson/ColleenSiebeneck
DESCRIPTION:April Paddle Battle Womens (9am Saturday 4/6) - Paddle Up Pickleball Club
LOCATION:Court 4
CATEGORIES:QuickScores, Pickleball Game
TRANSP:OPAQUE
BEGIN:VALARM
TRIGGER:-PT2H
ACTION:DISPLAY
DESCRIPTION:BobbieTracy/CarrolSanders vs. LoriGibson/ColleenSiebeneck
END:VALARM
END:VEVENT
BEGIN:VEVENT
UID:pupc-62682101-20240406T111000@quickscores.com
DTSTAMP:20260423T234400Z
DTSTART;TZID=America/Chicago:20240406T111000
DURATION:PT0H20M0S
SUMMARY:TinaIngrim/LauraFletcher vs. LoriGibson/ColleenSiebeneck
DESCRIPTION:April Paddle Battle Womens (9am Saturday 4/6) - Paddle Up Pickleball Club
LOCATION:Court 5
CATEGORIES:QuickScores, Pickleball Game
TRANSP:OPAQUE
BEGIN:VALARM
TRIGGER:-PT2H
ACTION:DISPLAY
DESCRIPTION:TinaIngrim/LauraFletcher vs. LoriGibson/ColleenSiebeneck
END:VALARM
END:VEVENT
END:VCALENDAR
