BEGIN:VCALENDAR
VERSION:2.0
PRODID:-//QuickScores.com//BQ Dynamic iCal Creator//EN
METHOD:PUBLISH
X-WR-CALNAME:Lane/Neptune - Forest Park Sunday Spring Hiinter/competitive Lg. - Completed Leagues 2023/24
X-WR-CALDESC:QuickScores game calendar
X-PUBLISHED-TTL:PT24H
REFRESH-INTERVAL;VALUE=DURATION:PT24H
CALSCALE:GREGORIAN
BEGIN:VTIMEZONE
TZID:America/Chicago
X-LIC-LOCATION:America/Chicago
BEGIN:DAYLIGHT
TZNAME:CDT
TZOFFSETFROM:-0600
TZOFFSETTO:-0500
DTSTART:19700308T020000
RRULE:FREQ=YEARLY;BYMONTH=3;BYDAY=2SU
END:DAYLIGHT
BEGIN:STANDARD
TZNAME:CST
TZOFFSETFROM:-0500
TZOFFSETTO:-0600
DTSTART:19701101T020000
RRULE:FREQ=YEARLY;BYMONTH=11;BYDAY=1SU
END:STANDARD
END:VTIMEZONE
BEGIN:VEVENT
UID:pupc-62549027-20240407T184000@quickscores.com
DTSTAMP:20260425T081100Z
DTSTART;TZID=America/Chicago:20240407T184000
DURATION:PT0H40M0S
SUMMARY:Namen/Wojcik vs. Lane/Neptune
DESCRIPTION:Forest Park Sunday Spring Hiinter/competitive Lg. - Paddle Up Pickleball Club
LOCATION:DDTC Court 21
CATEGORIES:QuickScores, Pickleball Game
TRANSP:OPAQUE
BEGIN:VALARM
TRIGGER:-PT2H
ACTION:DISPLAY
DESCRIPTION:Namen/Wojcik vs. Lane/Neptune
END:VALARM
END:VEVENT
BEGIN:VEVENT
UID:pupc-62549029-20240407T192000@quickscores.com
DTSTAMP:20260425T081100Z
DTSTART;TZID=America/Chicago:20240407T192000
DURATION:PT0H40M0S
SUMMARY:Eisenhart/Eisenhart vs. Lane/Neptune
DESCRIPTION:Forest Park Sunday Spring Hiinter/competitive Lg. - Paddle Up Pickleball Club
LOCATION:DDTC Court 21
CATEGORIES:QuickScores, Pickleball Game
TRANSP:OPAQUE
BEGIN:VALARM
TRIGGER:-PT2H
ACTION:DISPLAY
DESCRIPTION:Eisenhart/Eisenhart vs. Lane/Neptune
END:VALARM
END:VEVENT
BEGIN:VEVENT
UID:pupc-62549036-20240414T184000@quickscores.com
DTSTAMP:20260425T081100Z
DTSTART;TZID=America/Chicago:20240414T184000
DURATION:PT0H40M0S
SUMMARY:Lane/Neptune vs. Mulligan/Mulligan
DESCRIPTION:Forest Park Sunday Spring Hiinter/competitive Lg. - Paddle Up Pickleball Club
LOCATION:DDTC Court 12N
CATEGORIES:QuickScores, Pickleball Game
TRANSP:OPAQUE
BEGIN:VALARM
TRIGGER:-PT2H
ACTION:DISPLAY
DESCRIPTION:Lane/Neptune vs. Mulligan/Mulligan
END:VALARM
END:VEVENT
BEGIN:VEVENT
UID:pupc-62549031-20240414T192000@quickscores.com
DTSTAMP:20260425T081100Z
DTSTART;TZID=America/Chicago:20240414T192000
DURATION:PT0H40M0S
SUMMARY:Schutze/Seyle vs. Lane/Neptune
DESCRIPTION:Forest Park Sunday Spring Hiinter/competitive Lg. - Paddle Up Pickleball Club
LOCATION:DDTC Court 12N
CATEGORIES:QuickScores, Pickleball Game
TRANSP:OPAQUE
BEGIN:VALARM
TRIGGER:-PT2H
ACTION:DISPLAY
DESCRIPTION:Schutze/Seyle vs. Lane/Neptune
END:VALARM
END:VEVENT
BEGIN:VEVENT
UID:pupc-62549039-20240421T184000@quickscores.com
DTSTAMP:20260425T081100Z
DTSTART;TZID=America/Chicago:20240421T184000
DURATION:PT0H40M0S
SUMMARY:Lane/Neptune vs. Niemeyer/Skebo
DESCRIPTION:Forest Park Sunday Spring Hiinter/competitive Lg. - Paddle Up Pickleball Club
LOCATION:DDTC Court 21
CATEGORIES:QuickScores, Pickleball Game
TRANSP:OPAQUE
BEGIN:VALARM
TRIGGER:-PT2H
ACTION:DISPLAY
DESCRIPTION:Lane/Neptune vs. Niemeyer/Skebo
END:VALARM
END:VEVENT
BEGIN:VEVENT
UID:pupc-62549041-20240421T192000@quickscores.com
DTSTAMP:20260425T081100Z
DTSTART;TZID=America/Chicago:20240421T192000
DURATION:PT0H40M0S
SUMMARY:Lane/Neptune vs. Namen/Wojcik
DESCRIPTION:Forest Park Sunday Spring Hiinter/competitive Lg. - Paddle Up Pickleball Club
LOCATION:DDTC Court 12N
CATEGORIES:QuickScores, Pickleball Game
TRANSP:OPAQUE
BEGIN:VALARM
TRIGGER:-PT2H
ACTION:DISPLAY
DESCRIPTION:Lane/Neptune vs. Namen/Wojcik
END:VALARM
END:VEVENT
BEGIN:VEVENT
UID:pupc-62549047-20240428T180000@quickscores.com
DTSTAMP:20260425T081100Z
DTSTART;TZID=America/Chicago:20240428T180000
DURATION:PT0H40M0S
SUMMARY:Lane/Neptune vs. Mulligan/Mulligan
DESCRIPTION:Forest Park Sunday Spring Hiinter/competitive Lg. - Paddle Up Pickleball Club
LOCATION:DDTC Court 12N
CATEGORIES:QuickScores, Pickleball Game
TRANSP:OPAQUE
BEGIN:VALARM
TRIGGER:-PT2H
ACTION:DISPLAY
DESCRIPTION:Lane/Neptune vs. Mulligan/Mulligan
END:VALARM
END:VEVENT
BEGIN:VEVENT
UID:pupc-62549045-20240428T184000@quickscores.com
DTSTAMP:20260425T081100Z
DTSTART;TZID=America/Chicago:20240428T184000
DURATION:PT0H40M0S
SUMMARY:Lane/Neptune vs. Schutze/Seyle
DESCRIPTION:Forest Park Sunday Spring Hiinter/competitive Lg. - Paddle Up Pickleball Club
LOCATION:DDTC Court 21
CATEGORIES:QuickScores, Pickleball Game
TRANSP:OPAQUE
BEGIN:VALARM
TRIGGER:-PT2H
ACTION:DISPLAY
DESCRIPTION:Lane/Neptune vs. Schutze/Seyle
END:VALARM
END:VEVENT
BEGIN:VEVENT
UID:pupc-62549049-20240505T180000@quickscores.com
DTSTAMP:20260425T081100Z
DTSTART;TZID=America/Chicago:20240505T180000
DURATION:PT0H40M0S
SUMMARY:Namen/Wojcik vs. Lane/Neptune
DESCRIPTION:Forest Park Sunday Spring Hiinter/competitive Lg. - Paddle Up Pickleball Club
LOCATION:DDTC Court 12N
CATEGORIES:QuickScores, Pickleball Game
TRANSP:OPAQUE
BEGIN:VALARM
TRIGGER:-PT2H
ACTION:DISPLAY
DESCRIPTION:Namen/Wojcik vs. Lane/Neptune
END:VALARM
END:VEVENT
BEGIN:VEVENT
UID:pupc-62549054-20240505T184000@quickscores.com
DTSTAMP:20260425T081100Z
DTSTART;TZID=America/Chicago:20240505T184000
DURATION:PT0H40M0S
SUMMARY:Niemeyer/Skebo vs. Lane/Neptune
DESCRIPTION:Forest Park Sunday Spring Hiinter/competitive Lg. - Paddle Up Pickleball Club
LOCATION:DDTC Court 12N
CATEGORIES:QuickScores, Pickleball Game
TRANSP:OPAQUE
BEGIN:VALARM
TRIGGER:-PT2H
ACTION:DISPLAY
DESCRIPTION:Niemeyer/Skebo vs. Lane/Neptune
END:VALARM
END:VEVENT
END:VCALENDAR
