BEGIN:VCALENDAR
VERSION:2.0
PRODID:-//QuickScores.com//BQ Dynamic iCal Creator//EN
METHOD:PUBLISH
X-WR-CALNAME:Mueller/Stuhlman - Pupc Thursday Spring Low Int. Lg - Completed Leagues 2023/24
X-WR-CALDESC:QuickScores game calendar
X-PUBLISHED-TTL:PT24H
REFRESH-INTERVAL;VALUE=DURATION:PT24H
CALSCALE:GREGORIAN
BEGIN:VTIMEZONE
TZID:America/Chicago
X-LIC-LOCATION:America/Chicago
BEGIN:DAYLIGHT
TZNAME:CDT
TZOFFSETFROM:-0600
TZOFFSETTO:-0500
DTSTART:19700308T020000
RRULE:FREQ=YEARLY;BYMONTH=3;BYDAY=2SU
END:DAYLIGHT
BEGIN:STANDARD
TZNAME:CST
TZOFFSETFROM:-0500
TZOFFSETTO:-0600
DTSTART:19701101T020000
RRULE:FREQ=YEARLY;BYMONTH=11;BYDAY=1SU
END:STANDARD
END:VTIMEZONE
BEGIN:VEVENT
UID:pupc-62514984-20240411T180000@quickscores.com
DTSTAMP:20260423T002000Z
DTSTART;TZID=America/Chicago:20240411T180000
DURATION:PT0H40M0S
SUMMARY:Mueller/Stuhlman vs. Wilson/Arnel
DESCRIPTION:Pupc Thursday Spring Low Int. Lg - Paddle Up Pickleball Club
LOCATION:Court 2
CATEGORIES:QuickScores, Pickleball Game
TRANSP:OPAQUE
BEGIN:VALARM
TRIGGER:-PT2H
ACTION:DISPLAY
DESCRIPTION:Mueller/Stuhlman vs. Wilson/Arnel
END:VALARM
END:VEVENT
BEGIN:VEVENT
UID:pupc-62514985-20240411T184000@quickscores.com
DTSTAMP:20260423T002000Z
DTSTART;TZID=America/Chicago:20240411T184000
DURATION:PT0H40M0S
SUMMARY:Mueller/Stuhlman vs. McElfresh/McElfresh
DESCRIPTION:Pupc Thursday Spring Low Int. Lg - Paddle Up Pickleball Club
LOCATION:Court 2
CATEGORIES:QuickScores, Pickleball Game
TRANSP:OPAQUE
BEGIN:VALARM
TRIGGER:-PT2H
ACTION:DISPLAY
DESCRIPTION:Mueller/Stuhlman vs. McElfresh/McElfresh
END:VALARM
END:VEVENT
BEGIN:VEVENT
UID:pupc-62514989-20240418T200000@quickscores.com
DTSTAMP:20260423T002000Z
DTSTART;TZID=America/Chicago:20240418T200000
DURATION:PT0H40M0S
SUMMARY:Mueller/Stuhlman vs. Rivolta/Nabholz
DESCRIPTION:Pupc Thursday Spring Low Int. Lg - Paddle Up Pickleball Club
LOCATION:Court 2
CATEGORIES:QuickScores, Pickleball Game
TRANSP:OPAQUE
BEGIN:VALARM
TRIGGER:-PT2H
ACTION:DISPLAY
DESCRIPTION:Mueller/Stuhlman vs. Rivolta/Nabholz
END:VALARM
END:VEVENT
BEGIN:VEVENT
UID:pupc-62514990-20240418T204000@quickscores.com
DTSTAMP:20260423T002000Z
DTSTART;TZID=America/Chicago:20240418T204000
DURATION:PT0H40M0S
SUMMARY:Fears/Fay vs. Mueller/Stuhlman
DESCRIPTION:Pupc Thursday Spring Low Int. Lg - Paddle Up Pickleball Club
LOCATION:Court 2
CATEGORIES:QuickScores, Pickleball Game
TRANSP:OPAQUE
BEGIN:VALARM
TRIGGER:-PT2H
ACTION:DISPLAY
DESCRIPTION:Fears/Fay vs. Mueller/Stuhlman
END:VALARM
END:VEVENT
BEGIN:VEVENT
UID:pupc-62515084-20240425T184000@quickscores.com
DTSTAMP:20260423T002000Z
DTSTART;TZID=America/Chicago:20240425T184000
DURATION:PT0H40M0S
SUMMARY:Dubois/Herdt vs. Mueller/Stuhlman
DESCRIPTION:Pupc Thursday Spring Low Int. Lg - Paddle Up Pickleball Club
LOCATION:Court 3
CATEGORIES:QuickScores, Pickleball Game
TRANSP:OPAQUE
BEGIN:VALARM
TRIGGER:-PT2H
ACTION:DISPLAY
DESCRIPTION:Dubois/Herdt vs. Mueller/Stuhlman
END:VALARM
END:VEVENT
BEGIN:VEVENT
UID:pupc-62514999-20240425T192000@quickscores.com
DTSTAMP:20260423T002000Z
DTSTART;TZID=America/Chicago:20240425T192000
DURATION:PT0H40M0S
SUMMARY:Mueller/Stuhlman vs. Kornfeld/Stamper
DESCRIPTION:Pupc Thursday Spring Low Int. Lg - Paddle Up Pickleball Club
LOCATION:Court 2
CATEGORIES:QuickScores, Pickleball Game
TRANSP:OPAQUE
BEGIN:VALARM
TRIGGER:-PT2H
ACTION:DISPLAY
DESCRIPTION:Mueller/Stuhlman vs. Kornfeld/Stamper
END:VALARM
END:VEVENT
BEGIN:VEVENT
UID:pupc-62515004-20240502T180000@quickscores.com
DTSTAMP:20260423T002000Z
DTSTART;TZID=America/Chicago:20240502T180000
DURATION:PT0H40M0S
SUMMARY:Mueller/Stuhlman vs. Penberthy/Penberthy
DESCRIPTION:Pupc Thursday Spring Low Int. Lg - Paddle Up Pickleball Club
LOCATION:Court 2
CATEGORIES:QuickScores, Pickleball Game
TRANSP:OPAQUE
BEGIN:VALARM
TRIGGER:-PT2H
ACTION:DISPLAY
DESCRIPTION:Mueller/Stuhlman vs. Penberthy/Penberthy
END:VALARM
END:VEVENT
BEGIN:VEVENT
UID:pupc-62515085-20240502T184000@quickscores.com
DTSTAMP:20260423T002000Z
DTSTART;TZID=America/Chicago:20240502T184000
DURATION:PT0H40M0S
SUMMARY:Wilson/Arnel vs. Mueller/Stuhlman
DESCRIPTION:Pupc Thursday Spring Low Int. Lg - Paddle Up Pickleball Club
LOCATION:Court 2
CATEGORIES:QuickScores, Pickleball Game
TRANSP:OPAQUE
BEGIN:VALARM
TRIGGER:-PT2H
ACTION:DISPLAY
DESCRIPTION:Wilson/Arnel vs. Mueller/Stuhlman
END:VALARM
END:VEVENT
BEGIN:VEVENT
UID:pupc-63227419-20240509T180000@quickscores.com
DTSTAMP:20260423T002000Z
DTSTART;TZID=America/Chicago:20240509T180000
DURATION:PT0H35M0S
SUMMARY:[7] Mueller/Stuhlman vs. [10] Dubois/Herdt
DESCRIPTION:Pupc Thursday Spring Low Int. Lg - Paddle Up Pickleball Club
LOCATION:Court 1
CATEGORIES:QuickScores, Pickleball Game
TRANSP:OPAQUE
BEGIN:VALARM
TRIGGER:-PT2H
ACTION:DISPLAY
DESCRIPTION:[7] Mueller/Stuhlman vs. [10] Dubois/Herdt
END:VALARM
END:VEVENT
END:VCALENDAR
