BEGIN:VCALENDAR
VERSION:2.0
PRODID:-//QuickScores.com//BQ Dynamic iCal Creator//EN
METHOD:PUBLISH
X-WR-CALNAME:Marston/Kalkbrenner - Fmg Thursday Spring Rec Lg. - Completed Leagues 2023/24
X-WR-CALDESC:QuickScores game calendar
X-PUBLISHED-TTL:PT24H
REFRESH-INTERVAL;VALUE=DURATION:PT24H
CALSCALE:GREGORIAN
BEGIN:VTIMEZONE
TZID:America/Chicago
X-LIC-LOCATION:America/Chicago
BEGIN:DAYLIGHT
TZNAME:CDT
TZOFFSETFROM:-0600
TZOFFSETTO:-0500
DTSTART:19700308T020000
RRULE:FREQ=YEARLY;BYMONTH=3;BYDAY=2SU
END:DAYLIGHT
BEGIN:STANDARD
TZNAME:CST
TZOFFSETFROM:-0500
TZOFFSETTO:-0600
DTSTART:19701101T020000
RRULE:FREQ=YEARLY;BYMONTH=11;BYDAY=1SU
END:STANDARD
END:VTIMEZONE
BEGIN:VEVENT
UID:pupc-62527381-20240404T184000@quickscores.com
DTSTAMP:20260422T193900Z
DTSTART;TZID=America/Chicago:20240404T184000
DURATION:PT0H40M0S
SUMMARY:Summers/Stugart vs. Marston/Kalkbrenner
DESCRIPTION:Fmg Thursday Spring Rec Lg. - Paddle Up Pickleball Club
LOCATION:FMG Court 5
CATEGORIES:QuickScores, Pickleball Game
TRANSP:OPAQUE
BEGIN:VALARM
TRIGGER:-PT2H
ACTION:DISPLAY
DESCRIPTION:Summers/Stugart vs. Marston/Kalkbrenner
END:VALARM
END:VEVENT
BEGIN:VEVENT
UID:pupc-62527382-20240404T192000@quickscores.com
DTSTAMP:20260422T193900Z
DTSTART;TZID=America/Chicago:20240404T192000
DURATION:PT0H40M0S
SUMMARY:Marston/Kalkbrenner vs. Reed/Reed
DESCRIPTION:Fmg Thursday Spring Rec Lg. - Paddle Up Pickleball Club
LOCATION:FMG Court 5
CATEGORIES:QuickScores, Pickleball Game
TRANSP:OPAQUE
BEGIN:VALARM
TRIGGER:-PT2H
ACTION:DISPLAY
DESCRIPTION:Marston/Kalkbrenner vs. Reed/Reed
END:VALARM
END:VEVENT
BEGIN:VEVENT
UID:pupc-62527391-20240411T192000@quickscores.com
DTSTAMP:20260422T193900Z
DTSTART;TZID=America/Chicago:20240411T192000
DURATION:PT0H40M0S
SUMMARY:Kite/Kite vs. Marston/Kalkbrenner
DESCRIPTION:Fmg Thursday Spring Rec Lg. - Paddle Up Pickleball Club
LOCATION:FMG Court 4
CATEGORIES:QuickScores, Pickleball Game
TRANSP:OPAQUE
BEGIN:VALARM
TRIGGER:-PT2H
ACTION:DISPLAY
DESCRIPTION:Kite/Kite vs. Marston/Kalkbrenner
END:VALARM
END:VEVENT
BEGIN:VEVENT
UID:pupc-62527390-20240411T204000@quickscores.com
DTSTAMP:20260422T193900Z
DTSTART;TZID=America/Chicago:20240411T204000
DURATION:PT0H40M0S
SUMMARY:Marston/Kalkbrenner vs. Rush/Rush
DESCRIPTION:Fmg Thursday Spring Rec Lg. - Paddle Up Pickleball Club
LOCATION:FMG Court 4
CATEGORIES:QuickScores, Pickleball Game
TRANSP:OPAQUE
BEGIN:VALARM
TRIGGER:-PT2H
ACTION:DISPLAY
DESCRIPTION:Marston/Kalkbrenner vs. Rush/Rush
END:VALARM
END:VEVENT
BEGIN:VEVENT
UID:pupc-63224833-20240502T180000@quickscores.com
DTSTAMP:20260422T193900Z
DTSTART;TZID=America/Chicago:20240502T180000
DURATION:PT0H40M0S
SUMMARY:Marston/Kalkbrenner vs. Baumer/Baumer
DESCRIPTION:Fmg Thursday Spring Rec Lg. - Paddle Up Pickleball Club
LOCATION:FMG Court 5
CATEGORIES:QuickScores, Pickleball Game
TRANSP:OPAQUE
BEGIN:VALARM
TRIGGER:-PT2H
ACTION:DISPLAY
DESCRIPTION:Marston/Kalkbrenner vs. Baumer/Baumer
END:VALARM
END:VEVENT
BEGIN:VEVENT
UID:pupc-63224836-20240502T184000@quickscores.com
DTSTAMP:20260422T193900Z
DTSTART;TZID=America/Chicago:20240502T184000
DURATION:PT0H40M0S
SUMMARY:Langston/Luber vs. Marston/Kalkbrenner
DESCRIPTION:Fmg Thursday Spring Rec Lg. - Paddle Up Pickleball Club
LOCATION:FMG Court 4
CATEGORIES:QuickScores, Pickleball Game
TRANSP:OPAQUE
BEGIN:VALARM
TRIGGER:-PT2H
ACTION:DISPLAY
DESCRIPTION:Langston/Luber vs. Marston/Kalkbrenner
END:VALARM
END:VEVENT
BEGIN:VEVENT
UID:pupc-62527415-20240509T192000@quickscores.com
DTSTAMP:20260422T193900Z
DTSTART;TZID=America/Chicago:20240509T192000
DURATION:PT0H40M0S
SUMMARY:Marston/Kalkbrenner vs. Altman/Altman
DESCRIPTION:Fmg Thursday Spring Rec Lg. - Paddle Up Pickleball Club
LOCATION:FMG Court 5
CATEGORIES:QuickScores, Pickleball Game
TRANSP:OPAQUE
BEGIN:VALARM
TRIGGER:-PT2H
ACTION:DISPLAY
DESCRIPTION:Marston/Kalkbrenner vs. Altman/Altman
END:VALARM
END:VEVENT
BEGIN:VEVENT
UID:pupc-62527417-20240509T204000@quickscores.com
DTSTAMP:20260422T193900Z
DTSTART;TZID=America/Chicago:20240509T204000
DURATION:PT0H40M0S
SUMMARY:Marston/Kalkbrenner vs. Stanley/Wooldridge
DESCRIPTION:Fmg Thursday Spring Rec Lg. - Paddle Up Pickleball Club
LOCATION:FMG Court 5
CATEGORIES:QuickScores, Pickleball Game
TRANSP:OPAQUE
BEGIN:VALARM
TRIGGER:-PT2H
ACTION:DISPLAY
DESCRIPTION:Marston/Kalkbrenner vs. Stanley/Wooldridge
END:VALARM
END:VEVENT
BEGIN:VEVENT
UID:pupc-62527450-20240516T180000@quickscores.com
DTSTAMP:20260422T193900Z
DTSTART;TZID=America/Chicago:20240516T180000
DURATION:PT0H40M0S
SUMMARY:Marston/Kalkbrenner vs. Litzelfelner/Litzelfelner
DESCRIPTION:Fmg Thursday Spring Rec Lg. - Paddle Up Pickleball Club
LOCATION:FMG Court 5
CATEGORIES:QuickScores, Pickleball Game
TRANSP:OPAQUE
BEGIN:VALARM
TRIGGER:-PT2H
ACTION:DISPLAY
DESCRIPTION:Marston/Kalkbrenner vs. Litzelfelner/Litzelfelner
END:VALARM
END:VEVENT
BEGIN:VEVENT
UID:pupc-62527449-20240516T184000@quickscores.com
DTSTAMP:20260422T193900Z
DTSTART;TZID=America/Chicago:20240516T184000
DURATION:PT0H40M0S
SUMMARY:Chronister/Chronister vs. Marston/Kalkbrenner
DESCRIPTION:Fmg Thursday Spring Rec Lg. - Paddle Up Pickleball Club
LOCATION:FMG Court 4
CATEGORIES:QuickScores, Pickleball Game
TRANSP:OPAQUE
BEGIN:VALARM
TRIGGER:-PT2H
ACTION:DISPLAY
DESCRIPTION:Chronister/Chronister vs. Marston/Kalkbrenner
END:VALARM
END:VEVENT
BEGIN:VEVENT
UID:pupc-63463643-20240523T183000@quickscores.com
DTSTAMP:20260422T193900Z
DTSTART;TZID=America/Chicago:20240523T183000
DURATION:PT0H30M0S
SUMMARY:[1] Marston/Kalkbrenner vs. Winner of Game 1
DESCRIPTION:Fmg Thursday Spring Rec Lg. - Paddle Up Pickleball Club
LOCATION:FMG Court 6
CATEGORIES:QuickScores, Pickleball Game
TRANSP:OPAQUE
BEGIN:VALARM
TRIGGER:-PT2H
ACTION:DISPLAY
DESCRIPTION:[1] Marston/Kalkbrenner vs. Winner of Game 1
END:VALARM
END:VEVENT
END:VCALENDAR
