BEGIN:VCALENDAR
VERSION:2.0
PRODID:-//QuickScores.com//BQ Dynamic iCal Creator//EN
METHOD:PUBLISH
X-WR-CALNAME:Baumer/Baumer - Fmg Thursday Spring Rec Lg. - Completed Leagues 2023/24
X-WR-CALDESC:QuickScores game calendar
X-PUBLISHED-TTL:PT24H
REFRESH-INTERVAL;VALUE=DURATION:PT24H
CALSCALE:GREGORIAN
BEGIN:VTIMEZONE
TZID:America/Chicago
X-LIC-LOCATION:America/Chicago
BEGIN:DAYLIGHT
TZNAME:CDT
TZOFFSETFROM:-0600
TZOFFSETTO:-0500
DTSTART:19700308T020000
RRULE:FREQ=YEARLY;BYMONTH=3;BYDAY=2SU
END:DAYLIGHT
BEGIN:STANDARD
TZNAME:CST
TZOFFSETFROM:-0500
TZOFFSETTO:-0600
DTSTART:19701101T020000
RRULE:FREQ=YEARLY;BYMONTH=11;BYDAY=1SU
END:STANDARD
END:VTIMEZONE
BEGIN:VEVENT
UID:pupc-62527372-20240404T184000@quickscores.com
DTSTAMP:20260425T153300Z
DTSTART;TZID=America/Chicago:20240404T184000
DURATION:PT0H40M0S
SUMMARY:Stanley/Wooldridge vs. Baumer/Baumer
DESCRIPTION:Fmg Thursday Spring Rec Lg. - Paddle Up Pickleball Club
LOCATION:FMG Court 3
CATEGORIES:QuickScores, Pickleball Game
TRANSP:OPAQUE
BEGIN:VALARM
TRIGGER:-PT2H
ACTION:DISPLAY
DESCRIPTION:Stanley/Wooldridge vs. Baumer/Baumer
END:VALARM
END:VEVENT
BEGIN:VEVENT
UID:pupc-62527373-20240404T192000@quickscores.com
DTSTAMP:20260425T153300Z
DTSTART;TZID=America/Chicago:20240404T192000
DURATION:PT0H40M0S
SUMMARY:Baumer/Baumer vs. Kite/Kite
DESCRIPTION:Fmg Thursday Spring Rec Lg. - Paddle Up Pickleball Club
LOCATION:FMG Court 3
CATEGORIES:QuickScores, Pickleball Game
TRANSP:OPAQUE
BEGIN:VALARM
TRIGGER:-PT2H
ACTION:DISPLAY
DESCRIPTION:Baumer/Baumer vs. Kite/Kite
END:VALARM
END:VEVENT
BEGIN:VEVENT
UID:pupc-62527393-20240411T180000@quickscores.com
DTSTAMP:20260425T153300Z
DTSTART;TZID=America/Chicago:20240411T180000
DURATION:PT0H40M0S
SUMMARY:Langston/Luber vs. Baumer/Baumer
DESCRIPTION:Fmg Thursday Spring Rec Lg. - Paddle Up Pickleball Club
LOCATION:FMG Court 5
CATEGORIES:QuickScores, Pickleball Game
TRANSP:OPAQUE
BEGIN:VALARM
TRIGGER:-PT2H
ACTION:DISPLAY
DESCRIPTION:Langston/Luber vs. Baumer/Baumer
END:VALARM
END:VEVENT
BEGIN:VEVENT
UID:pupc-62527394-20240411T184000@quickscores.com
DTSTAMP:20260425T153300Z
DTSTART;TZID=America/Chicago:20240411T184000
DURATION:PT0H40M0S
SUMMARY:Deeken/Thornhill vs. Baumer/Baumer
DESCRIPTION:Fmg Thursday Spring Rec Lg. - Paddle Up Pickleball Club
LOCATION:FMG Court 5
CATEGORIES:QuickScores, Pickleball Game
TRANSP:OPAQUE
BEGIN:VALARM
TRIGGER:-PT2H
ACTION:DISPLAY
DESCRIPTION:Deeken/Thornhill vs. Baumer/Baumer
END:VALARM
END:VEVENT
BEGIN:VEVENT
UID:pupc-62533055-20240425T192000@quickscores.com
DTSTAMP:20260425T153300Z
DTSTART;TZID=America/Chicago:20240425T192000
DURATION:PT0H40M0S
SUMMARY:Baumer/Baumer vs. Patterson/Schreck
DESCRIPTION:Fmg Thursday Spring Rec Lg. - Paddle Up Pickleball Club
LOCATION:FMG Court 5
CATEGORIES:QuickScores, Pickleball Game
TRANSP:OPAQUE
BEGIN:VALARM
TRIGGER:-PT2H
ACTION:DISPLAY
DESCRIPTION:Baumer/Baumer vs. Patterson/Schreck
END:VALARM
END:VEVENT
BEGIN:VEVENT
UID:pupc-62532336-20240425T204000@quickscores.com
DTSTAMP:20260425T153300Z
DTSTART;TZID=America/Chicago:20240425T204000
DURATION:PT0H40M0S
SUMMARY:Rock-Wiggins/Gomez vs. Baumer/Baumer
DESCRIPTION:Fmg Thursday Spring Rec Lg. - Paddle Up Pickleball Club
LOCATION:FMG Court 5
CATEGORIES:QuickScores, Pickleball Game
TRANSP:OPAQUE
BEGIN:VALARM
TRIGGER:-PT2H
ACTION:DISPLAY
DESCRIPTION:Rock-Wiggins/Gomez vs. Baumer/Baumer
END:VALARM
END:VEVENT
BEGIN:VEVENT
UID:pupc-63224833-20240502T180000@quickscores.com
DTSTAMP:20260425T153300Z
DTSTART;TZID=America/Chicago:20240502T180000
DURATION:PT0H40M0S
SUMMARY:Marston/Kalkbrenner vs. Baumer/Baumer
DESCRIPTION:Fmg Thursday Spring Rec Lg. - Paddle Up Pickleball Club
LOCATION:FMG Court 5
CATEGORIES:QuickScores, Pickleball Game
TRANSP:OPAQUE
BEGIN:VALARM
TRIGGER:-PT2H
ACTION:DISPLAY
DESCRIPTION:Marston/Kalkbrenner vs. Baumer/Baumer
END:VALARM
END:VEVENT
BEGIN:VEVENT
UID:pupc-63224837-20240502T184000@quickscores.com
DTSTAMP:20260425T153300Z
DTSTART;TZID=America/Chicago:20240502T184000
DURATION:PT0H40M0S
SUMMARY:Baumer/Baumer vs. Chronister/Chronister
DESCRIPTION:Fmg Thursday Spring Rec Lg. - Paddle Up Pickleball Club
LOCATION:FMG Court 5
CATEGORIES:QuickScores, Pickleball Game
TRANSP:OPAQUE
BEGIN:VALARM
TRIGGER:-PT2H
ACTION:DISPLAY
DESCRIPTION:Baumer/Baumer vs. Chronister/Chronister
END:VALARM
END:VEVENT
BEGIN:VEVENT
UID:pupc-62527404-20240509T180000@quickscores.com
DTSTAMP:20260425T153300Z
DTSTART;TZID=America/Chicago:20240509T180000
DURATION:PT0H40M0S
SUMMARY:Baumer/Baumer vs. Jones/Jones
DESCRIPTION:Fmg Thursday Spring Rec Lg. - Paddle Up Pickleball Club
LOCATION:FMG Court 4
CATEGORIES:QuickScores, Pickleball Game
TRANSP:OPAQUE
BEGIN:VALARM
TRIGGER:-PT2H
ACTION:DISPLAY
DESCRIPTION:Baumer/Baumer vs. Jones/Jones
END:VALARM
END:VEVENT
BEGIN:VEVENT
UID:pupc-62527405-20240509T184000@quickscores.com
DTSTAMP:20260425T153300Z
DTSTART;TZID=America/Chicago:20240509T184000
DURATION:PT0H40M0S
SUMMARY:Baumer/Baumer vs. Zeisler/Zeisler
DESCRIPTION:Fmg Thursday Spring Rec Lg. - Paddle Up Pickleball Club
LOCATION:FMG Court 3
CATEGORIES:QuickScores, Pickleball Game
TRANSP:OPAQUE
BEGIN:VALARM
TRIGGER:-PT2H
ACTION:DISPLAY
DESCRIPTION:Baumer/Baumer vs. Zeisler/Zeisler
END:VALARM
END:VEVENT
BEGIN:VEVENT
UID:pupc-62527458-20240516T180000@quickscores.com
DTSTAMP:20260425T153300Z
DTSTART;TZID=America/Chicago:20240516T180000
DURATION:PT0H40M0S
SUMMARY:Summers/Stugart vs. Baumer/Baumer
DESCRIPTION:Fmg Thursday Spring Rec Lg. - Paddle Up Pickleball Club
LOCATION:FMG Court 6
CATEGORIES:QuickScores, Pickleball Game
TRANSP:OPAQUE
BEGIN:VALARM
TRIGGER:-PT2H
ACTION:DISPLAY
DESCRIPTION:Summers/Stugart vs. Baumer/Baumer
END:VALARM
END:VEVENT
BEGIN:VEVENT
UID:pupc-62527451-20240516T184000@quickscores.com
DTSTAMP:20260425T153300Z
DTSTART;TZID=America/Chicago:20240516T184000
DURATION:PT0H40M0S
SUMMARY:Baumer/Baumer vs. Litzelfelner/Litzelfelner
DESCRIPTION:Fmg Thursday Spring Rec Lg. - Paddle Up Pickleball Club
LOCATION:FMG Court 5
CATEGORIES:QuickScores, Pickleball Game
TRANSP:OPAQUE
BEGIN:VALARM
TRIGGER:-PT2H
ACTION:DISPLAY
DESCRIPTION:Baumer/Baumer vs. Litzelfelner/Litzelfelner
END:VALARM
END:VEVENT
BEGIN:VEVENT
UID:pupc-63463636-20240523T180000@quickscores.com
DTSTAMP:20260425T153300Z
DTSTART;TZID=America/Chicago:20240523T180000
DURATION:PT0H30M0S
SUMMARY:[15] Baumer/Baumer vs. [18] Stanley/Wooldridge
DESCRIPTION:Fmg Thursday Spring Rec Lg. - Paddle Up Pickleball Club
LOCATION:FMG Court 5
CATEGORIES:QuickScores, Pickleball Game
TRANSP:OPAQUE
BEGIN:VALARM
TRIGGER:-PT2H
ACTION:DISPLAY
DESCRIPTION:[15] Baumer/Baumer vs. [18] Stanley/Wooldridge
END:VALARM
END:VEVENT
END:VCALENDAR
