BEGIN:VCALENDAR
VERSION:2.0
PRODID:-//QuickScores.com//BQ Dynamic iCal Creator//EN
METHOD:PUBLISH
X-WR-CALNAME:Chronister/Chronister - Fmg Thursday Spring Rec Lg. - Completed Leagues 2023/24
X-WR-CALDESC:QuickScores game calendar
X-PUBLISHED-TTL:PT24H
REFRESH-INTERVAL;VALUE=DURATION:PT24H
CALSCALE:GREGORIAN
BEGIN:VTIMEZONE
TZID:America/Chicago
X-LIC-LOCATION:America/Chicago
BEGIN:DAYLIGHT
TZNAME:CDT
TZOFFSETFROM:-0600
TZOFFSETTO:-0500
DTSTART:19700308T020000
RRULE:FREQ=YEARLY;BYMONTH=3;BYDAY=2SU
END:DAYLIGHT
BEGIN:STANDARD
TZNAME:CST
TZOFFSETFROM:-0500
TZOFFSETTO:-0600
DTSTART:19701101T020000
RRULE:FREQ=YEARLY;BYMONTH=11;BYDAY=1SU
END:STANDARD
END:VTIMEZONE
BEGIN:VEVENT
UID:pupc-62532337-20240404T200000@quickscores.com
DTSTAMP:20260423T152900Z
DTSTART;TZID=America/Chicago:20240404T200000
DURATION:PT0H40M0S
SUMMARY:Chronister/Chronister vs. Reed/Reed
DESCRIPTION:Fmg Thursday Spring Rec Lg. - Paddle Up Pickleball Club
LOCATION:FMG Court 4
CATEGORIES:QuickScores, Pickleball Game
TRANSP:OPAQUE
BEGIN:VALARM
TRIGGER:-PT2H
ACTION:DISPLAY
DESCRIPTION:Chronister/Chronister vs. Reed/Reed
END:VALARM
END:VEVENT
BEGIN:VEVENT
UID:pupc-62527365-20240404T204000@quickscores.com
DTSTAMP:20260423T152900Z
DTSTART;TZID=America/Chicago:20240404T204000
DURATION:PT0H40M0S
SUMMARY:Chronister/Chronister vs. Rush/Rush
DESCRIPTION:Fmg Thursday Spring Rec Lg. - Paddle Up Pickleball Club
LOCATION:FMG Court 5
CATEGORIES:QuickScores, Pickleball Game
TRANSP:OPAQUE
BEGIN:VALARM
TRIGGER:-PT2H
ACTION:DISPLAY
DESCRIPTION:Chronister/Chronister vs. Rush/Rush
END:VALARM
END:VEVENT
BEGIN:VEVENT
UID:pupc-62527396-20240411T200000@quickscores.com
DTSTAMP:20260423T152900Z
DTSTART;TZID=America/Chicago:20240411T200000
DURATION:PT0H40M0S
SUMMARY:Altman/Altman vs. Chronister/Chronister
DESCRIPTION:Fmg Thursday Spring Rec Lg. - Paddle Up Pickleball Club
LOCATION:FMG Court 5
CATEGORIES:QuickScores, Pickleball Game
TRANSP:OPAQUE
BEGIN:VALARM
TRIGGER:-PT2H
ACTION:DISPLAY
DESCRIPTION:Altman/Altman vs. Chronister/Chronister
END:VALARM
END:VEVENT
BEGIN:VEVENT
UID:pupc-62527397-20240411T204000@quickscores.com
DTSTAMP:20260423T152900Z
DTSTART;TZID=America/Chicago:20240411T204000
DURATION:PT0H40M0S
SUMMARY:Jones/Jones vs. Chronister/Chronister
DESCRIPTION:Fmg Thursday Spring Rec Lg. - Paddle Up Pickleball Club
LOCATION:FMG Court 5
CATEGORIES:QuickScores, Pickleball Game
TRANSP:OPAQUE
BEGIN:VALARM
TRIGGER:-PT2H
ACTION:DISPLAY
DESCRIPTION:Jones/Jones vs. Chronister/Chronister
END:VALARM
END:VEVENT
BEGIN:VEVENT
UID:pupc-62527425-20240425T180000@quickscores.com
DTSTAMP:20260423T152900Z
DTSTART;TZID=America/Chicago:20240425T180000
DURATION:PT0H40M0S
SUMMARY:Chronister/Chronister vs. Kempker/Kempker
DESCRIPTION:Fmg Thursday Spring Rec Lg. - Paddle Up Pickleball Club
LOCATION:FMG Court 5
CATEGORIES:QuickScores, Pickleball Game
TRANSP:OPAQUE
BEGIN:VALARM
TRIGGER:-PT2H
ACTION:DISPLAY
DESCRIPTION:Chronister/Chronister vs. Kempker/Kempker
END:VALARM
END:VEVENT
BEGIN:VEVENT
UID:pupc-62527424-20240425T184000@quickscores.com
DTSTAMP:20260423T152900Z
DTSTART;TZID=America/Chicago:20240425T184000
DURATION:PT0H40M0S
SUMMARY:Stanley/Wooldridge vs. Chronister/Chronister
DESCRIPTION:Fmg Thursday Spring Rec Lg. - Paddle Up Pickleball Club
LOCATION:FMG Court 4
CATEGORIES:QuickScores, Pickleball Game
TRANSP:OPAQUE
BEGIN:VALARM
TRIGGER:-PT2H
ACTION:DISPLAY
DESCRIPTION:Stanley/Wooldridge vs. Chronister/Chronister
END:VALARM
END:VEVENT
BEGIN:VEVENT
UID:pupc-63224837-20240502T184000@quickscores.com
DTSTAMP:20260423T152900Z
DTSTART;TZID=America/Chicago:20240502T184000
DURATION:PT0H40M0S
SUMMARY:Baumer/Baumer vs. Chronister/Chronister
DESCRIPTION:Fmg Thursday Spring Rec Lg. - Paddle Up Pickleball Club
LOCATION:FMG Court 5
CATEGORIES:QuickScores, Pickleball Game
TRANSP:OPAQUE
BEGIN:VALARM
TRIGGER:-PT2H
ACTION:DISPLAY
DESCRIPTION:Baumer/Baumer vs. Chronister/Chronister
END:VALARM
END:VEVENT
BEGIN:VEVENT
UID:pupc-63224841-20240502T192000@quickscores.com
DTSTAMP:20260423T152900Z
DTSTART;TZID=America/Chicago:20240502T192000
DURATION:PT0H40M0S
SUMMARY:Chronister/Chronister vs. Taylor/Taylor
DESCRIPTION:Fmg Thursday Spring Rec Lg. - Paddle Up Pickleball Club
LOCATION:FMG Court 5
CATEGORIES:QuickScores, Pickleball Game
TRANSP:OPAQUE
BEGIN:VALARM
TRIGGER:-PT2H
ACTION:DISPLAY
DESCRIPTION:Chronister/Chronister vs. Taylor/Taylor
END:VALARM
END:VEVENT
BEGIN:VEVENT
UID:pupc-62527411-20240509T192000@quickscores.com
DTSTAMP:20260423T152900Z
DTSTART;TZID=America/Chicago:20240509T192000
DURATION:PT0H40M0S
SUMMARY:Chronister/Chronister vs. Deeken/Thornhill
DESCRIPTION:Fmg Thursday Spring Rec Lg. - Paddle Up Pickleball Club
LOCATION:FMG Court 4
CATEGORIES:QuickScores, Pickleball Game
TRANSP:OPAQUE
BEGIN:VALARM
TRIGGER:-PT2H
ACTION:DISPLAY
DESCRIPTION:Chronister/Chronister vs. Deeken/Thornhill
END:VALARM
END:VEVENT
BEGIN:VEVENT
UID:pupc-62527410-20240509T204000@quickscores.com
DTSTAMP:20260423T152900Z
DTSTART;TZID=America/Chicago:20240509T204000
DURATION:PT0H40M0S
SUMMARY:Rock-Wiggins/Gomez vs. Chronister/Chronister
DESCRIPTION:Fmg Thursday Spring Rec Lg. - Paddle Up Pickleball Club
LOCATION:FMG Court 4
CATEGORIES:QuickScores, Pickleball Game
TRANSP:OPAQUE
BEGIN:VALARM
TRIGGER:-PT2H
ACTION:DISPLAY
DESCRIPTION:Rock-Wiggins/Gomez vs. Chronister/Chronister
END:VALARM
END:VEVENT
BEGIN:VEVENT
UID:pupc-62527449-20240516T184000@quickscores.com
DTSTAMP:20260423T152900Z
DTSTART;TZID=America/Chicago:20240516T184000
DURATION:PT0H40M0S
SUMMARY:Chronister/Chronister vs. Marston/Kalkbrenner
DESCRIPTION:Fmg Thursday Spring Rec Lg. - Paddle Up Pickleball Club
LOCATION:FMG Court 4
CATEGORIES:QuickScores, Pickleball Game
TRANSP:OPAQUE
BEGIN:VALARM
TRIGGER:-PT2H
ACTION:DISPLAY
DESCRIPTION:Chronister/Chronister vs. Marston/Kalkbrenner
END:VALARM
END:VEVENT
BEGIN:VEVENT
UID:pupc-62527452-20240516T192000@quickscores.com
DTSTAMP:20260423T152900Z
DTSTART;TZID=America/Chicago:20240516T192000
DURATION:PT0H40M0S
SUMMARY:Chronister/Chronister vs. Taylor/Taylor
DESCRIPTION:Fmg Thursday Spring Rec Lg. - Paddle Up Pickleball Club
LOCATION:FMG Court 5
CATEGORIES:QuickScores, Pickleball Game
TRANSP:OPAQUE
BEGIN:VALARM
TRIGGER:-PT2H
ACTION:DISPLAY
DESCRIPTION:Chronister/Chronister vs. Taylor/Taylor
END:VALARM
END:VEVENT
BEGIN:VEVENT
UID:pupc-63463628-20240523T180000@quickscores.com
DTSTAMP:20260423T152900Z
DTSTART;TZID=America/Chicago:20240523T180000
DURATION:PT0H30M0S
SUMMARY:[16] Chronister/Chronister vs. [17] Kite/Kite
DESCRIPTION:Fmg Thursday Spring Rec Lg. - Paddle Up Pickleball Club
LOCATION:FMG Court 6
CATEGORIES:QuickScores, Pickleball Game
TRANSP:OPAQUE
BEGIN:VALARM
TRIGGER:-PT2H
ACTION:DISPLAY
DESCRIPTION:[16] Chronister/Chronister vs. [17] Kite/Kite
END:VALARM
END:VEVENT
END:VCALENDAR
