BEGIN:VCALENDAR
VERSION:2.0
PRODID:-//QuickScores.com//BQ Dynamic iCal Creator//EN
METHOD:PUBLISH
X-WR-CALNAME:Kempker/Kempker - Fmg Thursday Spring Rec Lg. - Completed Leagues 2023/24
X-WR-CALDESC:QuickScores game calendar
X-PUBLISHED-TTL:PT24H
REFRESH-INTERVAL;VALUE=DURATION:PT24H
CALSCALE:GREGORIAN
BEGIN:VTIMEZONE
TZID:America/Chicago
X-LIC-LOCATION:America/Chicago
BEGIN:DAYLIGHT
TZNAME:CDT
TZOFFSETFROM:-0600
TZOFFSETTO:-0500
DTSTART:19700308T020000
RRULE:FREQ=YEARLY;BYMONTH=3;BYDAY=2SU
END:DAYLIGHT
BEGIN:STANDARD
TZNAME:CST
TZOFFSETFROM:-0500
TZOFFSETTO:-0600
DTSTART:19701101T020000
RRULE:FREQ=YEARLY;BYMONTH=11;BYDAY=1SU
END:STANDARD
END:VTIMEZONE
BEGIN:VEVENT
UID:pupc-62527369-20240404T180000@quickscores.com
DTSTAMP:20260421T160200Z
DTSTART;TZID=America/Chicago:20240404T180000
DURATION:PT0H40M0S
SUMMARY:Kempker/Kempker vs. Hall/Kissel
DESCRIPTION:Fmg Thursday Spring Rec Lg. - Paddle Up Pickleball Club
LOCATION:FMG Court 6
CATEGORIES:QuickScores, Pickleball Game
TRANSP:OPAQUE
BEGIN:VALARM
TRIGGER:-PT2H
ACTION:DISPLAY
DESCRIPTION:Kempker/Kempker vs. Hall/Kissel
END:VALARM
END:VEVENT
BEGIN:VEVENT
UID:pupc-62527379-20240404T184000@quickscores.com
DTSTAMP:20260421T160200Z
DTSTART;TZID=America/Chicago:20240404T184000
DURATION:PT0H40M0S
SUMMARY:Kite/Kite vs. Kempker/Kempker
DESCRIPTION:Fmg Thursday Spring Rec Lg. - Paddle Up Pickleball Club
LOCATION:FMG Court 4
CATEGORIES:QuickScores, Pickleball Game
TRANSP:OPAQUE
BEGIN:VALARM
TRIGGER:-PT2H
ACTION:DISPLAY
DESCRIPTION:Kite/Kite vs. Kempker/Kempker
END:VALARM
END:VEVENT
BEGIN:VEVENT
UID:pupc-62527398-20240411T200000@quickscores.com
DTSTAMP:20260421T160200Z
DTSTART;TZID=America/Chicago:20240411T200000
DURATION:PT0H40M0S
SUMMARY:Kempker/Kempker vs. Jones/Jones
DESCRIPTION:Fmg Thursday Spring Rec Lg. - Paddle Up Pickleball Club
LOCATION:FMG Court 6
CATEGORIES:QuickScores, Pickleball Game
TRANSP:OPAQUE
BEGIN:VALARM
TRIGGER:-PT2H
ACTION:DISPLAY
DESCRIPTION:Kempker/Kempker vs. Jones/Jones
END:VALARM
END:VEVENT
BEGIN:VEVENT
UID:pupc-62527399-20240411T204000@quickscores.com
DTSTAMP:20260421T160200Z
DTSTART;TZID=America/Chicago:20240411T204000
DURATION:PT0H40M0S
SUMMARY:Taylor/Taylor vs. Kempker/Kempker
DESCRIPTION:Fmg Thursday Spring Rec Lg. - Paddle Up Pickleball Club
LOCATION:FMG Court 6
CATEGORIES:QuickScores, Pickleball Game
TRANSP:OPAQUE
BEGIN:VALARM
TRIGGER:-PT2H
ACTION:DISPLAY
DESCRIPTION:Taylor/Taylor vs. Kempker/Kempker
END:VALARM
END:VEVENT
BEGIN:VEVENT
UID:pupc-62527425-20240425T180000@quickscores.com
DTSTAMP:20260421T160200Z
DTSTART;TZID=America/Chicago:20240425T180000
DURATION:PT0H40M0S
SUMMARY:Chronister/Chronister vs. Kempker/Kempker
DESCRIPTION:Fmg Thursday Spring Rec Lg. - Paddle Up Pickleball Club
LOCATION:FMG Court 5
CATEGORIES:QuickScores, Pickleball Game
TRANSP:OPAQUE
BEGIN:VALARM
TRIGGER:-PT2H
ACTION:DISPLAY
DESCRIPTION:Chronister/Chronister vs. Kempker/Kempker
END:VALARM
END:VEVENT
BEGIN:VEVENT
UID:pupc-62527426-20240425T184000@quickscores.com
DTSTAMP:20260421T160200Z
DTSTART;TZID=America/Chicago:20240425T184000
DURATION:PT0H40M0S
SUMMARY:Zeisler/Zeisler vs. Kempker/Kempker
DESCRIPTION:Fmg Thursday Spring Rec Lg. - Paddle Up Pickleball Club
LOCATION:FMG Court 5
CATEGORIES:QuickScores, Pickleball Game
TRANSP:OPAQUE
BEGIN:VALARM
TRIGGER:-PT2H
ACTION:DISPLAY
DESCRIPTION:Zeisler/Zeisler vs. Kempker/Kempker
END:VALARM
END:VEVENT
BEGIN:VEVENT
UID:pupc-62527421-20240509T180000@quickscores.com
DTSTAMP:20260421T160200Z
DTSTART;TZID=America/Chicago:20240509T180000
DURATION:PT0H40M0S
SUMMARY:Kempker/Kempker vs. Summers/Stugart
DESCRIPTION:Fmg Thursday Spring Rec Lg. - Paddle Up Pickleball Club
LOCATION:FMG Court 5
CATEGORIES:QuickScores, Pickleball Game
TRANSP:OPAQUE
BEGIN:VALARM
TRIGGER:-PT2H
ACTION:DISPLAY
DESCRIPTION:Kempker/Kempker vs. Summers/Stugart
END:VALARM
END:VEVENT
BEGIN:VEVENT
UID:pupc-62949821-20240509T184000@quickscores.com
DTSTAMP:20260421T160200Z
DTSTART;TZID=America/Chicago:20240509T184000
DURATION:PT0H40M0S
SUMMARY:Kempker/Kempker vs. Deeken/Thornhill
DESCRIPTION:Fmg Thursday Spring Rec Lg. - Paddle Up Pickleball Club
LOCATION:FMG Court 6
CATEGORIES:QuickScores, Pickleball Game
TRANSP:OPAQUE
BEGIN:VALARM
TRIGGER:-PT2H
ACTION:DISPLAY
DESCRIPTION:Kempker/Kempker vs. Deeken/Thornhill
END:VALARM
END:VEVENT
BEGIN:VEVENT
UID:pupc-62532042-20240516T200000@quickscores.com
DTSTAMP:20260421T160200Z
DTSTART;TZID=America/Chicago:20240516T200000
DURATION:PT0H40M0S
SUMMARY:Kempker/Kempker vs. Rock-Wiggins/Gomez
DESCRIPTION:Fmg Thursday Spring Rec Lg. - Paddle Up Pickleball Club
LOCATION:FMG Court 4
CATEGORIES:QuickScores, Pickleball Game
TRANSP:OPAQUE
BEGIN:VALARM
TRIGGER:-PT2H
ACTION:DISPLAY
DESCRIPTION:Kempker/Kempker vs. Rock-Wiggins/Gomez
END:VALARM
END:VEVENT
BEGIN:VEVENT
UID:pupc-62527447-20240516T204000@quickscores.com
DTSTAMP:20260421T160200Z
DTSTART;TZID=America/Chicago:20240516T204000
DURATION:PT0H40M0S
SUMMARY:Kempker/Kempker vs. Altman/Altman
DESCRIPTION:Fmg Thursday Spring Rec Lg. - Paddle Up Pickleball Club
LOCATION:FMG Court 4
CATEGORIES:QuickScores, Pickleball Game
TRANSP:OPAQUE
BEGIN:VALARM
TRIGGER:-PT2H
ACTION:DISPLAY
DESCRIPTION:Kempker/Kempker vs. Altman/Altman
END:VALARM
END:VEVENT
BEGIN:VEVENT
UID:pupc-63463650-20240523T180000@quickscores.com
DTSTAMP:20260421T160200Z
DTSTART;TZID=America/Chicago:20240523T180000
DURATION:PT0H30M0S
SUMMARY:[6] Langston/Luber vs. [11] Kempker/Kempker
DESCRIPTION:Fmg Thursday Spring Rec Lg. - Paddle Up Pickleball Club
LOCATION:FMG Court 3
CATEGORIES:QuickScores, Pickleball Game
TRANSP:OPAQUE
BEGIN:VALARM
TRIGGER:-PT2H
ACTION:DISPLAY
DESCRIPTION:[6] Langston/Luber vs. [11] Kempker/Kempker
END:VALARM
END:VEVENT
END:VCALENDAR
